BEGIN:VCALENDAR
VERSION:2.0
PRODID:-//Seta ry - ECPv6.15.17.1//NONSGML v1.0//EN
CALSCALE:GREGORIAN
METHOD:PUBLISH
X-WR-CALNAME:Seta ry
X-ORIGINAL-URL:https://seta.fi
X-WR-CALDESC:Tapahtumat Seta ry
REFRESH-INTERVAL;VALUE=DURATION:PT1H
X-Robots-Tag:noindex
X-PUBLISHED-TTL:PT1H
BEGIN:VTIMEZONE
TZID:Europe/Helsinki
BEGIN:DAYLIGHT
TZOFFSETFROM:+0200
TZOFFSETTO:+0300
TZNAME:EEST
DTSTART:20220327T010000
END:DAYLIGHT
BEGIN:STANDARD
TZOFFSETFROM:+0300
TZOFFSETTO:+0200
TZNAME:EET
DTSTART:20221030T010000
END:STANDARD
BEGIN:DAYLIGHT
TZOFFSETFROM:+0200
TZOFFSETTO:+0300
TZNAME:EEST
DTSTART:20230326T010000
END:DAYLIGHT
BEGIN:STANDARD
TZOFFSETFROM:+0300
TZOFFSETTO:+0200
TZNAME:EET
DTSTART:20231029T010000
END:STANDARD
BEGIN:DAYLIGHT
TZOFFSETFROM:+0200
TZOFFSETTO:+0300
TZNAME:EEST
DTSTART:20240331T010000
END:DAYLIGHT
BEGIN:STANDARD
TZOFFSETFROM:+0300
TZOFFSETTO:+0200
TZNAME:EET
DTSTART:20241027T010000
END:STANDARD
END:VTIMEZONE
BEGIN:VEVENT
DTSTART;TZID=Europe/Helsinki:20230307T170000
DTEND;TZID=Europe/Helsinki:20230307T190000
DTSTAMP:20260424T064118
CREATED:20230214T131736Z
LAST-MODIFIED:20230214T131737Z
UID:31438-1678208400-1678215600@seta.fi
SUMMARY:7.3. Uusien ilta\, perustietoa Setasta
DESCRIPTION:7.3.2023 klo. 17–19 Uusien ilta\, perustietoa Setasta \nOletko uusi Setan jäsenjärjestön aktiivi\, hallituslainen tai puheenjohtaja? Kaipaatko selkeämpää kuvaa\, millainen järjestö Seta oikein on ja mitä kaikkea siellä tehdään? Haluatko tutustua muihin sateenkaarijärjestöissä toimiviin ihmisiin? \nTule mukaan rentoon iltaan saamaan kattavat perustiedot Setasta ja sen toiminnoista ja palveluista jäsenjärjestöille. Nyt saa kysyä! \nTapaaminen järjestetään etäyhteyksillä Microsoft Teamsin avulla. Ilmoittaudu täällä. \nIllan kouluttajana toimii järjestö- ja vapaaehtoistoiminnan asiantuntija Outi Tjurin. Lisätietoja outi.tjurin@seta.fi tai 0503540656
URL:https://seta.fi/tapahtumat/7-3-uusien-ilta-perustietoa-setasta/
LOCATION:Microsoft Teams
CATEGORIES:Hankkeet,Koulutukset,Setan tapahtuma
ATTACH;FMTTYPE=image/jpeg:https://seta.fi/wp-content/uploads/2019/10/Pride209.jpg
END:VEVENT
END:VCALENDAR