BEGIN:VCALENDAR
VERSION:2.0
PRODID:-//Seta ry - ECPv6.15.17.1//NONSGML v1.0//EN
CALSCALE:GREGORIAN
METHOD:PUBLISH
X-WR-CALNAME:Seta ry
X-ORIGINAL-URL:https://seta.fi
X-WR-CALDESC:Tapahtumat Seta ry
REFRESH-INTERVAL;VALUE=DURATION:PT1H
X-Robots-Tag:noindex
X-PUBLISHED-TTL:PT1H
BEGIN:VTIMEZONE
TZID:Europe/Helsinki
BEGIN:DAYLIGHT
TZOFFSETFROM:+0200
TZOFFSETTO:+0300
TZNAME:EEST
DTSTART:20200329T010000
END:DAYLIGHT
BEGIN:STANDARD
TZOFFSETFROM:+0300
TZOFFSETTO:+0200
TZNAME:EET
DTSTART:20201025T010000
END:STANDARD
BEGIN:DAYLIGHT
TZOFFSETFROM:+0200
TZOFFSETTO:+0300
TZNAME:EEST
DTSTART:20210328T010000
END:DAYLIGHT
BEGIN:STANDARD
TZOFFSETFROM:+0300
TZOFFSETTO:+0200
TZNAME:EET
DTSTART:20211031T010000
END:STANDARD
BEGIN:DAYLIGHT
TZOFFSETFROM:+0200
TZOFFSETTO:+0300
TZNAME:EEST
DTSTART:20220327T010000
END:DAYLIGHT
BEGIN:STANDARD
TZOFFSETFROM:+0300
TZOFFSETTO:+0200
TZNAME:EET
DTSTART:20221030T010000
END:STANDARD
END:VTIMEZONE
BEGIN:VEVENT
DTSTART;TZID=Europe/Helsinki:20210317T180000
DTEND;TZID=Europe/Helsinki:20210317T193000
DTSTAMP:20260425T002636
CREATED:20210217T114630Z
LAST-MODIFIED:20210219T100010Z
UID:19734-1616004000-1616009400@seta.fi
SUMMARY:Ryhmänohjaajakoulutus: Turvallisempi tila vertaisryhmätoiminnassa 
DESCRIPTION:Seta ja Perhesuhdekeskus järjestävät keväällä 2021 yhteistyössä lyhyitä täydennyskoulutuksia kaikille Setan jäsenjärjestöissä vertaisryhmää jo ohjaaville ja ohjaajiksi aikoville. Kullakin koulutuskerralla perehdytään yhteen rajattuun aiheeseen. Koulutukset sopivat sekä ryhmänohjaajakoulutuksen perusosan käyneille että niille\, jotka eivät ole perusosaan vielä ehtineet osallistua. Ryhmänohjaajakoulutuksen perusosat ovat tauolla koronapandemian takia. \nKoulutukset järjestetään maaliskuusta kesäkuuhun aina kuun kolmantena keskiviikkona klo 18:00 alkaen. Kesto vaihtelee koulutuksen sisällön mukaan tunnista puoleentoista tuntiin. Koulutukset toteutetaan verkkovälitteisesti Teamsissa. \nKoulutukset tallennetaan. Tallennuksen ulkopuolelle jätetään erikseen aikaa keskustelulle osallistujien anonymiteetin turvaamiseksi. Koulutukset ovat osallistujille maksuttomia ja samoin tallenteet tulevat maksutta Setan jäsenjärjestöjen käyttöön. Koulutuksissa noudatetaan turvallisemman tilan periaatteita\, jotka lähetetään osallistujille etukäteen. \n17.3. Klo 18:00–19:30 Turvallisempi tila vertaisryhmätoiminnassa    \nTurvallisempi tila on edellytys onnistuneelle vertaisryhmätoiminnalle. Millaisia vastuita se luo ohjaajille? Entä osallistujille? Miten puuttua tilanteisiin\, joissa turvallisemman tilan periaatteita rikotaan? Näitä kysymyksiä tarkastelemme yhdessä konkreettisten esimerkkien kautta. Koulutus on suunnattu kaikille vertaisryhmiä ohjaaville tai ohjaajaksi aikoville. \nKouluttamassa Teija Ryhtä ja Suvi Kehälinna (Seta). \nIlmoittautuminen päättyy su 14.3. \nILMOITTAUDU TÄSTÄ
URL:https://seta.fi/tapahtumat/ryhmanohjaajakoulutus-tuvallisempi-tila-vertaisryhmatoiminnassa/
CATEGORIES:Jäsenjärjestöt,Koulutukset,Suomi100
ATTACH;FMTTYPE=image/png:https://seta.fi/wp-content/uploads/2021/02/Ryhmanohjaajakoulutukset-2021.png
END:VEVENT
END:VCALENDAR