BEGIN:VCALENDAR
VERSION:2.0
PRODID:-//Seta ry - ECPv6.15.17.1//NONSGML v1.0//EN
CALSCALE:GREGORIAN
METHOD:PUBLISH
X-ORIGINAL-URL:https://seta.fi
X-WR-CALDESC:Tapahtumat Seta ry
REFRESH-INTERVAL;VALUE=DURATION:PT1H
X-Robots-Tag:noindex
X-PUBLISHED-TTL:PT1H
BEGIN:VTIMEZONE
TZID:Europe/Helsinki
BEGIN:DAYLIGHT
TZOFFSETFROM:+0200
TZOFFSETTO:+0300
TZNAME:EEST
DTSTART:20200329T010000
END:DAYLIGHT
BEGIN:STANDARD
TZOFFSETFROM:+0300
TZOFFSETTO:+0200
TZNAME:EET
DTSTART:20201025T010000
END:STANDARD
BEGIN:DAYLIGHT
TZOFFSETFROM:+0200
TZOFFSETTO:+0300
TZNAME:EEST
DTSTART:20210328T010000
END:DAYLIGHT
BEGIN:STANDARD
TZOFFSETFROM:+0300
TZOFFSETTO:+0200
TZNAME:EET
DTSTART:20211031T010000
END:STANDARD
BEGIN:DAYLIGHT
TZOFFSETFROM:+0200
TZOFFSETTO:+0300
TZNAME:EEST
DTSTART:20220327T010000
END:DAYLIGHT
BEGIN:STANDARD
TZOFFSETFROM:+0300
TZOFFSETTO:+0200
TZNAME:EET
DTSTART:20221030T010000
END:STANDARD
END:VTIMEZONE
BEGIN:VEVENT
DTSTART;TZID=Europe/Helsinki:20210519T180000
DTEND;TZID=Europe/Helsinki:20210519T193000
DTSTAMP:20260422T221841
CREATED:20210217T120710Z
LAST-MODIFIED:20210219T100549Z
UID:19748-1621447200-1621452600@seta.fi
SUMMARY:Ryhmänohjaajakoulutus: Tietoisku valtakunnallisista tukipalveluista
DESCRIPTION:Seta ja Perhesuhdekeskus järjestävät keväällä 2021 yhteistyössä lyhyitä täydennyskoulutuksia kaikille Setan jäsenjärjestöissä vertaisryhmää jo ohjaaville ja ohjaajiksi aikoville. Kullakin koulutuskerralla perehdytään yhteen rajattuun aiheeseen. Koulutukset sopivat sekä ryhmänohjaajakoulutuksen perusosan käyneille että niille\, jotka eivät ole perusosaan vielä ehtineet osallistua. Ryhmänohjaajakoulutuksen perusosat ovat tauolla koronapandemian takia. \nKoulutukset järjestetään maaliskuusta kesäkuuhun aina kuun kolmantena keskiviikkona klo 18:00 alkaen. Kesto vaihtelee koulutuksen sisällön mukaan tunnista puoleentoista tuntiin. Koulutukset toteutetaan verkkovälitteisesti Teamsissa. \nKoulutukset tallennetaan. Tallennuksen ulkopuolelle jätetään erikseen aikaa keskustelulle osallistujien anonymiteetin turvaamiseksi. Koulutukset ovat osallistujille maksuttomia ja samoin tallenteet tulevat maksutta Setan jäsenjärjestöjen käyttöön. Koulutuksissa noudatetaan turvallisemman tilan periaatteita\, jotka lähetetään osallistujille etukäteen. \n19.5. Klo 18:00–19:00 Tietoisku valtakunnallisista tukipalveluista  \nVapaaehtoisten ohjaamassa vertaistoiminnassa on kysymys vertaistuesta. Joskus vertaisryhmässä käy ilmi\, että osallistuja voisi hyötyä myös tuesta\, jota antaa ammattilainen ja joka osaa auttaa pohdinnoissa tai jopa kriisissä. Minkä palvelun pariin hänet voisi ohjata? Millaisia ammatillisia tukipalveluita sateenkaarijärjestöt tuottavat ja miltä muista tahoilta voi saada apua? Valtakunnallisia tukipalveluita on koottu yhteen vertaistoiminnan ohjaajien käyttöön – tule kuulemaan! \nKouluttamassa Sanna Metsäpuu (Perhesuhdekeskus) ja Teija Ryhtä (Seta) \nIlmoittautuminen päättyy su 16.5. \nILMOITTAUDU TÄSTÄ
URL:https://seta.fi/tapahtumat/ryhmanohjaajakoulutus-tietoisku-valtakunnallisista-tukipalveluista/
LOCATION:Microsoft Teams
CATEGORIES:Jäsenjärjestöt,Koulutukset,Setan tapahtuma
ATTACH;FMTTYPE=image/png:https://seta.fi/wp-content/uploads/2021/02/Ryhmanohjaajakoulutukset-2021-3.png
END:VEVENT
END:VCALENDAR