BEGIN:VCALENDAR
VERSION:2.0
PRODID:-//Seta ry - ECPv6.15.17.1//NONSGML v1.0//EN
CALSCALE:GREGORIAN
METHOD:PUBLISH
X-ORIGINAL-URL:https://seta.fi
X-WR-CALDESC:Tapahtumat Seta ry
REFRESH-INTERVAL;VALUE=DURATION:PT1H
X-Robots-Tag:noindex
X-PUBLISHED-TTL:PT1H
BEGIN:VTIMEZONE
TZID:Europe/Helsinki
BEGIN:DAYLIGHT
TZOFFSETFROM:+0200
TZOFFSETTO:+0300
TZNAME:EEST
DTSTART:20200329T010000
END:DAYLIGHT
BEGIN:STANDARD
TZOFFSETFROM:+0300
TZOFFSETTO:+0200
TZNAME:EET
DTSTART:20201025T010000
END:STANDARD
BEGIN:DAYLIGHT
TZOFFSETFROM:+0200
TZOFFSETTO:+0300
TZNAME:EEST
DTSTART:20210328T010000
END:DAYLIGHT
BEGIN:STANDARD
TZOFFSETFROM:+0300
TZOFFSETTO:+0200
TZNAME:EET
DTSTART:20211031T010000
END:STANDARD
BEGIN:DAYLIGHT
TZOFFSETFROM:+0200
TZOFFSETTO:+0300
TZNAME:EEST
DTSTART:20220327T010000
END:DAYLIGHT
BEGIN:STANDARD
TZOFFSETFROM:+0300
TZOFFSETTO:+0200
TZNAME:EET
DTSTART:20221030T010000
END:STANDARD
END:VTIMEZONE
BEGIN:VEVENT
DTSTART;TZID=Europe/Helsinki:20211028T170000
DTEND;TZID=Europe/Helsinki:20211028T190000
DTSTAMP:20260422T083220
CREATED:20211001T082013Z
LAST-MODIFIED:20211008T100532Z
UID:23333-1635440400-1635447600@seta.fi
SUMMARY:Verkkoluento intersukupuolisuudesta: Juha Kilpiä ja Mika Venhola
DESCRIPTION:Sukupuolen moninaisuuden osaamiskeskus järjestää kolme verkkoluentoa intersukupuolisuuteen liittyvistä teemoista marras-joulukuun 2021 aikana. \nLuennoitsijoina toimivat eri alojen asiantuntijat ja aihetta lähestytään jokaisessa luennossa hieman eri näkökulmasta. Verkkoluentojen tavoitteena on lisätä ymmärrystä intersukupuolisuudesta ja kehollisuudesta sekä antaa ammattilaisille työkaluja hyvään ja turvalliseen kohtaamiseen. \nVerkkoluennot ovat avoimia kaikille aiheesta kiinnostuneille\, mutta ne sopivat teemoiltaan erityisesti sosiaali- ja terveysalan sekä kasvatus- ja opetusalan ammattilaisille ja ammattiin opiskeleville sekä viranomaisille. Tilaisuudet ovat osallistujille maksuttomia. Verkkoluennot järjestetään Zoom -verkkoalustalla ja jokaiseen verkkoluentoon on erillinen ennakkoilmoittautuminen. \nVerkkoluennot järjestetään torstaina 28.10.\, keskiviikkona 10.11. ja keskiviikkona 1.12. Jokainen luentotilaisuus alkaa klo 17. \nVerkkoluento intersukupuolisuudesta torstaina 28.10. klo 17–19   \nAsiantuntijoina ensimmäisellä verkkoluennolla toimivat Juha Kilpiä ja Mika Venhola. \nJuha Kilpiän luennon teemana on miten tukea intersukupuolisten ihmisten turvallista asiointia sekä omista rajoista kiinni pitämistä terveydenhuollossa?  \nIntersukupuolisilla ihmisillä tai ihmisillä\, joilla on intersukupuolista kehollisuutta\, on tutkimusten mukaan keskivertoa enemmän erilaisia turvattomia kokemuksia terveydenhuollon palveluissa. Tällä on seurauksensa. Ihmiset välttelevät omasta terveydestä huolen pitämistä ja toisaalta tunnistavat terveyden huollon tarpeita heikommin. Niin terveys kuin sosiaali-\, kasvatus- ja opetusalan ammattilaisilla on velvollisuus edistää intersukupuolisten ihmisten mahdollisuutta pitää omasta terveydestä huolta sekä voida tehdä se niin\, että se samalla lisää omaa turvallisuuden tunnetta ja kyvykkyyttä tunnistaa sekä pitää huolta omista rajoista. Tähän on olemassa keinoja.  \nKilpiä on seksuaalipedagogi (NACS)\, voimavarakeskeinen työnohjaaja\, kouluttaja ja nuorisotyönohjaaja. Kilpiä on toiminut Suomessa ensimmäisenä ammatillisena vertaisryhmän ohjaajana intersukupuolisille ihmisille (2014-2019)\, ollut perustamassa intersukupuolisuus.fi verkostoa sekä ISIO – intersukupuolisten ihmisoikeudet ry:tä sekä toiminut TIKA -tukea intersukupuolisille\, keinoja ammattilaisille hankkeessa sekä kouluttajana\, ohjaajana että kirjoittajana.  \nMika Venholan luennolla käsitellään sitä\, miksi intersukupuolisuuden konsepti voi olla lääkäreille niin hankala. Luennon tavoitteena on lisätä ymmärrystä aiheeseen ja tarjota keinoja ammattilaisille. Venhola on intersukupuolisten lasten itsemääräämisoikeutta ajava Oulun yliopistollisen sairaalan lastenkirurgian erikoislääkäri.  \nIlmoittautuminen  \nTilaisuuteen voi ilmoittautua tämän linkin kautta  \nIlmoittautuminen päättyy koulutustilaisuutta edeltävänä päivänä kello 23:45.  \n 
URL:https://seta.fi/tapahtumat/verkkoluento-intersukupuolisuudesta-juha-kilpia-ja-mika-venhola/
LOCATION:Zoom
CATEGORIES:Koulutukset
ATTACH;FMTTYPE=image/png:https://seta.fi/wp-content/uploads/2021/10/1.10.-klo-9-16-Perustietoa-sukupuolen-moninaisuudesta-2.10.-klo-9-16-Vahemmistostressi-mielessa-kehossa-ja-suhteissa-3.png
END:VEVENT
END:VCALENDAR