BEGIN:VCALENDAR
VERSION:2.0
PRODID:-//Seta ry - ECPv6.15.17.1//NONSGML v1.0//EN
CALSCALE:GREGORIAN
METHOD:PUBLISH
X-WR-CALNAME:Seta ry
X-ORIGINAL-URL:https://seta.fi
X-WR-CALDESC:Tapahtumat Seta ry
REFRESH-INTERVAL;VALUE=DURATION:PT1H
X-Robots-Tag:noindex
X-PUBLISHED-TTL:PT1H
BEGIN:VTIMEZONE
TZID:Europe/Helsinki
BEGIN:DAYLIGHT
TZOFFSETFROM:+0200
TZOFFSETTO:+0300
TZNAME:EEST
DTSTART:20200329T010000
END:DAYLIGHT
BEGIN:STANDARD
TZOFFSETFROM:+0300
TZOFFSETTO:+0200
TZNAME:EET
DTSTART:20201025T010000
END:STANDARD
BEGIN:DAYLIGHT
TZOFFSETFROM:+0200
TZOFFSETTO:+0300
TZNAME:EEST
DTSTART:20210328T010000
END:DAYLIGHT
BEGIN:STANDARD
TZOFFSETFROM:+0300
TZOFFSETTO:+0200
TZNAME:EET
DTSTART:20211031T010000
END:STANDARD
BEGIN:DAYLIGHT
TZOFFSETFROM:+0200
TZOFFSETTO:+0300
TZNAME:EEST
DTSTART:20220327T010000
END:DAYLIGHT
BEGIN:STANDARD
TZOFFSETFROM:+0300
TZOFFSETTO:+0200
TZNAME:EET
DTSTART:20221030T010000
END:STANDARD
END:VTIMEZONE
BEGIN:VEVENT
DTSTART;TZID=Europe/Helsinki:20210701T150000
DTEND;TZID=Europe/Helsinki:20210701T180000
DTSTAMP:20260424T192431
CREATED:20210616T091740Z
LAST-MODIFIED:20210616T091925Z
UID:21225-1625151600-1625162400@seta.fi
SUMMARY:Työpaja: Meikäläisen roolissa - Valokuvatyöpaja esikuvista sateenkaarisenioreille
DESCRIPTION:Sijainti ja ajankohta: to 1.7.2021 klo 15–18\, Setan toimisto\, Pasilanraitio 5\, 00240 Helsinki. Tilaisuudessa huomioidaan turvavälit ja lisäksi osallistujien tulee pitää maskia. \nOnko sinulla jokin esikuva\, jonka rohkeutta\, iloa\, rauhallisuutta tai värikkyyttä ihailet? Tule mukaan valokuvatyöpajaan\, missä keskustelemme erilaisista lhbtiq- esikuvista ja työstämme aihetta leikkimielellä valokuvan keinoin. Työpajassa jokainen saa luoda omakuvan\, johon voi tuoda mukanaan jotain esikuvastaan. \nKuvataiteilija\, kuvataideterapeutti Marjukka Irni pitää sateenkaarisenioreille valokuvatyöpajan\, jossa keskustellaan senioreiden erilaisista lhbtiq- esikuvista ja aihetta työstetään leikkimielellä valokuvan keinoin. Työpajassa jokainen saa luoda omakuvan\, johon voi tuoda mukanaan jotain esikuvastaan.  Työpajan on tarkoitus luoda vertaisuuden kokemuksia ja auttaa löytämään niitä piirteitä myös itsestä\, mitä ihailee omissa esikuvissaan. Valokuvauksen keinoin aihetta käsitellään leikkimielisesti\, jättäen tilaa keskustelulle\, ajatuksien vaihdolle ja mahdollisten samanlaisten kokemusten tunnistamiselle. Mukanaolijat saavat työpajassa tuotetut valokuvat itselleen. \nTyöpaja on suunnattu sukupuoli- ja/tai seksuaalivähemmistöihin kuuluville yli 50-vuotiaille henkilöille sateenkaarisenioreille. Tapahtuma on osa Setan seniorityön Pride-viikon ohjelmaa sateenkaarisenioreille. \nTapahtumaan mahtuu kuusi ennakkoon ilmoittautunutta henkilöä. Ilmoittautuminen työpajaan päättyy maanantaina 28.6.2021 klo 16.00. Ilmoittautumiset sähköpostitse Marjukka Irnille: marjukka.irni@gmail.com.
URL:https://seta.fi/tapahtumat/tyopaja-meikalaisen-roolissa-valokuvatyopaja-esikuvista-sateenkaarisenioreille/
LOCATION:Setan toimisto\, Haapaniemenkatu 7-9 B 7. krs.\, Helsinki\, 00240\, Suomi
CATEGORIES:Helsinki Pride,Setan tapahtuma
ATTACH;FMTTYPE=image/png:https://seta.fi/wp-content/uploads/2021/06/Pride-tapahtumat-Face-ja-verkkosivut-2.png
END:VEVENT
END:VCALENDAR