BEGIN:VCALENDAR
VERSION:2.0
PRODID:-//Seta ry - ECPv6.15.17.1//NONSGML v1.0//EN
CALSCALE:GREGORIAN
METHOD:PUBLISH
X-WR-CALNAME:Seta ry
X-ORIGINAL-URL:https://seta.fi
X-WR-CALDESC:Tapahtumat Seta ry
REFRESH-INTERVAL;VALUE=DURATION:PT1H
X-Robots-Tag:noindex
X-PUBLISHED-TTL:PT1H
BEGIN:VTIMEZONE
TZID:Europe/Helsinki
BEGIN:DAYLIGHT
TZOFFSETFROM:+0200
TZOFFSETTO:+0300
TZNAME:EEST
DTSTART:20200329T010000
END:DAYLIGHT
BEGIN:STANDARD
TZOFFSETFROM:+0300
TZOFFSETTO:+0200
TZNAME:EET
DTSTART:20201025T010000
END:STANDARD
BEGIN:DAYLIGHT
TZOFFSETFROM:+0200
TZOFFSETTO:+0300
TZNAME:EEST
DTSTART:20210328T010000
END:DAYLIGHT
BEGIN:STANDARD
TZOFFSETFROM:+0300
TZOFFSETTO:+0200
TZNAME:EET
DTSTART:20211031T010000
END:STANDARD
BEGIN:DAYLIGHT
TZOFFSETFROM:+0200
TZOFFSETTO:+0300
TZNAME:EEST
DTSTART:20220327T010000
END:DAYLIGHT
BEGIN:STANDARD
TZOFFSETFROM:+0300
TZOFFSETTO:+0200
TZNAME:EET
DTSTART:20221030T010000
END:STANDARD
END:VTIMEZONE
BEGIN:VEVENT
DTSTART;TZID=Europe/Helsinki:20210702T183000
DTEND;TZID=Europe/Helsinki:20210702T200000
DTSTAMP:20260422T094905
CREATED:20210608T091354Z
LAST-MODIFIED:20210630T110512Z
UID:21092-1625250600-1625256000@seta.fi
SUMMARY:Paneelikeskustelu: Vähemmistöt vähemmistöissä
DESCRIPTION:Setan nuorisotoimikunta järjestää Helsinki Pride -viikon perjantaina 2.7. klo 18 alkaen paneelikeskustelun aiheesta vähemmistöjä vähemmistöjen sisällä. Keskustelijoiksi on kutsuttu kokemusasiantuntijoita. Paneelin yhteydessä järjestetään myös sateenkaarinuorille suunnattua hengailua\, mikäli pandemia-tilanne sallii. Tiedotamme ohjelmasta takemmin piakkoin! \nTapahtumapaikkana on Pride House Helsingin kaupungintalolla ja tapahtuma myös striimataan täällä.
URL:https://seta.fi/tapahtumat/paneelikeskustelu-vahemmistot-vahemmistoissa/
LOCATION:Pride House\, Pohjois-Esplanadi 11-13\, Helsinki
CATEGORIES:Helsinki Pride,Setan tapahtuma
ATTACH;FMTTYPE=image/png:https://seta.fi/wp-content/uploads/2021/06/Pride-tapahtumat-sateenkaarinuoret.png
END:VEVENT
END:VCALENDAR