BEGIN:VCALENDAR
VERSION:2.0
PRODID:-//Seta ry - ECPv6.15.17.1//NONSGML v1.0//EN
CALSCALE:GREGORIAN
METHOD:PUBLISH
X-WR-CALNAME:Seta ry
X-ORIGINAL-URL:https://seta.fi
X-WR-CALDESC:Tapahtumat Seta ry
REFRESH-INTERVAL;VALUE=DURATION:PT1H
X-Robots-Tag:noindex
X-PUBLISHED-TTL:PT1H
BEGIN:VTIMEZONE
TZID:Europe/Helsinki
BEGIN:DAYLIGHT
TZOFFSETFROM:+0200
TZOFFSETTO:+0300
TZNAME:EEST
DTSTART:20200329T010000
END:DAYLIGHT
BEGIN:STANDARD
TZOFFSETFROM:+0300
TZOFFSETTO:+0200
TZNAME:EET
DTSTART:20201025T010000
END:STANDARD
BEGIN:DAYLIGHT
TZOFFSETFROM:+0200
TZOFFSETTO:+0300
TZNAME:EEST
DTSTART:20210328T010000
END:DAYLIGHT
BEGIN:STANDARD
TZOFFSETFROM:+0300
TZOFFSETTO:+0200
TZNAME:EET
DTSTART:20211031T010000
END:STANDARD
BEGIN:DAYLIGHT
TZOFFSETFROM:+0200
TZOFFSETTO:+0300
TZNAME:EEST
DTSTART:20220327T010000
END:DAYLIGHT
BEGIN:STANDARD
TZOFFSETFROM:+0300
TZOFFSETTO:+0200
TZNAME:EET
DTSTART:20221030T010000
END:STANDARD
END:VTIMEZONE
BEGIN:VEVENT
DTSTART;VALUE=DATE:20211115
DTEND;VALUE=DATE:20211121
DTSTAMP:20260424T103209
CREATED:20211027T120132Z
LAST-MODIFIED:20211115T131221Z
UID:23907-1636934400-1637452799@seta.fi
SUMMARY:TransHelsinki 2021
DESCRIPTION:TransHelsinki 2021 järjestetään jälleen marraskuussa 15.-20.11. välisenä aikana. TransHelsinki-tapahtumia järjestävät muun muassa Dreamwear Club ry\, Trasek ry\, Trans ry\, Non-Binary Voices / Ei-binäärisiä ääniä\, Isio ry\, Transfeminiinit ry\, Tratu ry\, Sateenkaariperheet ry\, Amnestyn Internationalin Suomen osasto ja Setan sukupuolen moninaisuuden toimikunta sekä Sukupuolen moninaisuuden osaamiskeskus. Ohjelma päivittyy lähempänä tapahtumaa.  \nTransHelsinki-tapahtuma sijoittuu perinteisesti 20.11. vietettävän kansainvälisen transmuistopäivän eli Transgender Day Of Rememembrance -muistotilaisuuden ympärille. Samana päivänä on myös lapsen oikeuksien päivä. \nSeuraa tapahtumia Instagramissa @transhelsinki! Tarkemmat tiedot tapahtumista Facebook-sivuilla olevissa tapahtumissa! \n15.11. 17.30-19.00 Sukupuolen moninaisuuden kohtaaminen työelämässä – Kyselytutkimuksen raportin julkistamistilaisuus\nPaikka: Itäkeskuksen kirjaston kokoustila \nEsteettömyys: Tila ja pääsy sinne ovat ehdollisesti esteettömiä\, mutta todennäköisesti avustajan kanssa saavutettavia. \n15.11. klo 17-20 Perheretki HopLopiin\nhttps://www.facebook.com/events/edit/1252014285318067\n\n15.11. klo 20:30-22 Sukupuoleltaan moninaisten perhechat\nhttps://www.facebook.com/events/590281695629276/?ref=newsfeed\n16.11. 17.00-19.00 Keskustelutilaisuus teemasta translakiuudistus ja nuoret\nPaikka: Viikin kirjaston Elopelto-tila\, Viikinkaari 11 \nEsteettömyys: Tila ja pääsy sinne ovat ehdollisesti esteettömiä\, mutta todennäköisesti avustajan kanssa saavutettavia. \n16.11. klo 17-19 Miten transihmiset tekee lapsia -tilaisuus verkossa\nhttps://www.facebook.com/events/619588819176671 \n18.11. klo 17-19 Sukupuoleltaan moninaisten perhekahvila\nhttps://www.facebook.com/events/158409819784506 \n20.11. 10.00-14.00 TransHelsinki-yhteisöseminaari\nPaikka: Ylioppilasteatteri\, Aleksanterinkatu 23 \nTilan esteettömyys: Ylioppilasteatterille on kaksi sisäänkäyntiä: esteellinen pääsisäänkäynti Kolmen sepän aukiolla sekä avustajan kanssa saavutettava Kaivopihan puoleinen sisäänkäynti osoitteessa Mannerheimintie 3B (Unicafen oikealla puolella syvennyksessä oleva rappukäytävä). \nKaivopihan puoleiselle avustajan kanssa saavutettevissa olevalle sisäänkäynnille tuodaan telineessä oleva esitysjuliste oven ulkopuolelle ennen esitystä. Ulko-ovelle johtavat ulkoportaat\, sekä n. 20 m:n päässä luiska. Rappukäytävässä on hissi (4 krs.)\, joka johtaa teatterille. Teatterin sisäoven kynnys on korkea. Jos tarvitset apua sisääntuloon\, laita viesti TranHelsinki-Facebook-sivun viestitoiminnolla. \nTilassa ei ole esteetöntä vessaa. \n20.11. 17-18 Transgender Day of Remembrance (TDOR)\nMuistotilaisuus tänä vuonna murhattujen transihmisten muistolle. \nPaikka: Kansalaistori (Oodin edustalla) \nEsteettömyys: Tila on esteetön\, mutta matkalla saattaa olla esteitä riippuen suunnasta\, josta sinne saavutaan. \n20.11. 18-19 Transmessu Paikka: Rekolan kirkko\, Kustaantie 22 Vantaa\nEsteettömyys: Esteetön wc-tila molemmissa kerroksissa. Alttarin edustalle esteetön pääsy. Kirkkoherranviraston sisäänkäynti on esteetön\, mutta kulkureitillä esteettömiltä autopaikoilta on pituuskaltevuutta. Rakennuksessa ei ole hissiä. Induktiosilmukka kirkkosalissa. \n20.11. 20-23 TransHelsinki-iltabileet\nPaikka: Ylioppilasteatteri\, Aleksanterinkatu 23\, Helsinki \nTilan esteettömyys: Ylioppilasteatterille on kaksi sisäänkäyntiä: esteellinen pääsisäänkäynti Kolmen sepän aukiolla sekä avustajan kanssa saavutettava Kaivopihan puoleinen sisäänkäynti osoitteessa Mannerheimintie 3B (Unicafen oikealla puolella syvennyksessä oleva rappukäytävä). \nKaivopihan puoleiselle avustajan kanssa saavutettevissa olevalle sisäänkäynnille tuodaan telineessä oleva esitysjuliste oven ulkopuolelle ennen esitystä. Ulko-ovelle johtavat ulkoportaat\, sekä n. 20 m:n päässä luiska. Rappukäytävässä on hissi (4 krs.)\, joka johtaa teatterille. Teatterin sisäoven kynnys on korkea. Jos tarvitset apua sisääntuloon\, laita viesti TranHelsinki-Facebook-sivun viestitoiminnolla. \nTilassa ei ole esteetöntä vessaa.
URL:https://seta.fi/tapahtumat/transhelsinki-2021-2/
CATEGORIES:TransHelsinki
ATTACH;FMTTYPE=image/jpeg:https://seta.fi/wp-content/uploads/2020/11/45520481_2578305932181676_7022016133024710656_o-e1605280171980.jpg
END:VEVENT
END:VCALENDAR