BEGIN:VCALENDAR
VERSION:2.0
PRODID:-//Seta ry - ECPv6.15.17.1//NONSGML v1.0//EN
CALSCALE:GREGORIAN
METHOD:PUBLISH
X-ORIGINAL-URL:https://seta.fi
X-WR-CALDESC:Tapahtumat Seta ry
REFRESH-INTERVAL;VALUE=DURATION:PT1H
X-Robots-Tag:noindex
X-PUBLISHED-TTL:PT1H
BEGIN:VTIMEZONE
TZID:Europe/Helsinki
BEGIN:DAYLIGHT
TZOFFSETFROM:+0200
TZOFFSETTO:+0300
TZNAME:EEST
DTSTART:20200329T010000
END:DAYLIGHT
BEGIN:STANDARD
TZOFFSETFROM:+0300
TZOFFSETTO:+0200
TZNAME:EET
DTSTART:20201025T010000
END:STANDARD
BEGIN:DAYLIGHT
TZOFFSETFROM:+0200
TZOFFSETTO:+0300
TZNAME:EEST
DTSTART:20210328T010000
END:DAYLIGHT
BEGIN:STANDARD
TZOFFSETFROM:+0300
TZOFFSETTO:+0200
TZNAME:EET
DTSTART:20211031T010000
END:STANDARD
BEGIN:DAYLIGHT
TZOFFSETFROM:+0200
TZOFFSETTO:+0300
TZNAME:EEST
DTSTART:20220327T010000
END:DAYLIGHT
BEGIN:STANDARD
TZOFFSETFROM:+0300
TZOFFSETTO:+0200
TZNAME:EET
DTSTART:20221030T010000
END:STANDARD
END:VTIMEZONE
BEGIN:VEVENT
DTSTART;VALUE=DATE:20211001
DTEND;VALUE=DATE:20211003
DTSTAMP:20260424T104121
CREATED:20210323T115723Z
LAST-MODIFIED:20211001T084516Z
UID:20194-1633046400-1633219199@seta.fi
SUMMARY:Webinaari terapeuttista työtä tekeville sote-ammattilaisille
DESCRIPTION:Setan ylläpitämä Sukupuolen moninaisuuden osaamiskeskuksen ja Terapiatalo Quu:n webinaarissa käsitellään sukupuolen ja kehojen moninaisuutta terapeuttisen työn näkökulmasta. \nAikataulu \nperjantai 1.10.2021 klo 9-16 \nlauantai 2.102021 klo 9-16 \nHinta \nMolemmat päivät 150 euroa\, vain toinen päivistä 100 euroa. \nOsallistumismaksu maksetaan ilmoittautumisen yhteydessä käyttäen Paytrail-verkkomaksupalvelua (valittavana on tilisiirto\, yleisimmät luottokortit ja MobilePay)\, eli sinut ohjataan maksusivulle\, kun olet lähettänyt ilmoittautumisen. Jos työnantajasi ei anna tähän mahdollisuutta vaan tarvitset työnantajalle osoitetun verkko- tai sähköpostilaskun\, ole yhteydessä Setan talous- ja hallintopäällikköön: teemu.halme@seta.fi\, 050 400 7789. \nIlmoittaudu tästä \n \nOhjelma\n1.10. klo 9-16 Perustietoa sukupuolen moninaisuudesta\nTervetuloa \n9.15-9.45 Sanat\, joita käytämme\, Miska Salakka SMOK \nLuennolla avataan sukupuolen moninaisuuteen liittyviä keskeisiä käsitteitä\, jotta osallistujana saat mahdollisimman paljon irti seuraavista luennoista. Lisäksi käsitellään puhumisen tapoja\, jotka mahdollistavat sensitiivisen kohtaamisen ja vahvistavat asiakkaan kokemusta nähdyksi tulemisesta. \n9.45-10.15 APAn (American Psychological Association) eettiset ohjeet moninaisuuden kohtaamiseen\, Laura Blomqvist ja Outi Olakivi QUU \nLuennon aikana käydään läpi APAn ohjeistuksia psykologeille sensitiiviseen moninaisuuden kohtaamiseen työssään. Ohjeistukset ovat hyvin sovellettavissa myös muille terveydenhuollon ammattilaisille ja terapeuttista työtä tekeville. Luennolla keskustellaan ohjeiden läpikäymisen lisäksi myös sitä\, kuinka ohjeita tulisi soveltaa käytäntöön. \n10.15-11 Vastatunteet vähemmistöjen kanssa työskennellessä -ammattilaisdialogi \nKeskustelussa kolme työntekijää pohtii keskenään esimerkiksi mokaamisen tunteita\, suorituspaineiden kokemusta\, itselle armollisuutta sekä tilaa ja lupaa omalle kasvuprosessille terapiatyössä. \n11-11.45 Lounastauko \n11.45-12.15 Nuorten sukupuolipohdinta – kannatteleva\, neutraali ja validoiva työote\, Miska Salakka SMOK \nKuinka tukea nuoren sukupuoli-identiteetin tutkimista? Kuinka olla validoiva\, mutta kuitenkin neutraali? Luennolla syvennytään sukupuoltaan pohtivien sekä sukupuolidysforiasta kärsivien nuorten tukemiseen ja kannattelemiseen. \n12.15-12.45 Sukupuolen moninaisuus perheessä\, Maarit Huuska SMOK \nLuento tarjoaa näkökulmia siihen\, miten edistää perheen vuorovaikutusta ja kasvua perheen kohdatessa sukupuolen moninaisuutta. Keskitytään erityisesti lasten ja vanhempien suhteisiin. Miten moninaisuus voi vaikuttaa perhedynamiikkaan? Miten ammattilaisena sensitiivisesti ja dialogisesti tukea vanhempia ja lapsia\, jos tukea tarvitaan? \nTauko \n12:55-13.40 Sukupuolen korjaus psykososiaalisena kasvuprosessina ja terapeuttinen tuki sen eri vaiheissa\, Laura Blomqvist ja Outi Olakivi QUU \nLuennolla keskustellaan siitä\, millaisia kysymyksiä sukupuolen uudelleen määrittelyyn\, minuuden ja identiteetin pohdintaan usein liittyy. Keskustelemme siitä\, millaista tukea sukupuoltaan korjaava monesti tarvitsee ja mitä hoidossa on hyvä huomioida. Luento pohjaa kokemukseen Terapiatalo Quussa tehdyistä transsensitiivisistä lyhytterapioista\, joihin sukupuoli-identiteetin tutkimuspoliklinikka on ohjannut korjausprosessissa olevia asiakkaitaan. \n13.40-14.10 Suomalaisen hoitojärjestelmän ABC – milloin hyödyntää erikoissairaanhoitoa ja järjestöjen erityispalveluja?\, Miska Salakka SMOK \nLuennolla perehdytään siihen\, mitä sukupuolen korjausprosessiin pääseminen Suomessa edellyttää ja mitä hoitoja sekä juridisia muutoksia sukupuolen korjaukseen voi kuulua. Lisäksi esitellään järjestöjen tarjoamia tukipalveluita transihmisille. \n14.10-14.30 Kysymyksiä ja vastauksia\, QUU & SMOK \nTauko \n14.40-15.30 Kokemusasiantuntijapaneeli: nuoren puheenvuoro\, läheisen puheenvuoro\, transition läpikäyneen puheenvuoro\, kokemuskouluttajan tarinoita hyvästä ja kehnommasta kohtaamisesta \n15.30-16 Loppukeskustelu \nIlmoittaudu tästä \n2.10. klo 9-16 Vähemmistöstressi mielessä\, kehossa ja suhteissa\n9.00-9.30 Tervetuloa ja johdatus päivään \n9.30-10.00 Androgynia ja kulttuurin äänet sisäisessä maailmassa\, Maarit Huuska SMOK \nMitä androgyniaan ja sukupuolen moninaisuuteen on toistuvasti liitetty myyteissä tuhansien vuosien ajan? Miten kulttuurin äänet vaikuttavat sisäiseen puheeseen? Luennon avulla opit huomioimaan sisäistettyjä trans-kriittisiä ääniä ja aktivoimaan parantavia arkkityyppisiä mielikuvia terapeuttisessa työssä ja ohjauksessa. \n10-10.30 Sisäistetty itsesyrjintä\, Mari Korpela QUU \nLuento käsittelee vähemmistöidentiteettiin liittyvän sisäistetyn itsesyrjinnän ilmiötä\, ilmenemismuotoja sekä sisäistetyn itsesyrjinnän työstämistä terapiassa. Luennolla pohditaan mm. sitä\, miten terapiassa voidaan yhdessä tarkastella itseä syrjiviä ajatuksia\, niiden syntyprosesseja tai vaikutuksia omaan elämään ja vointiin. \n10.30-11 Vähemmistöstressistä ja identiteettityöstä marginalisoinnin vastustamisen resursseihin\, SanTra Rinne QUU \nLuennolla tarkastellaan vähemmistöstressi-käsitettä kriittisesti\, plussien ja miinusten kautta. Rinne avaa marginalisoiduksi tulemisen ja sen vastustamisen merkityksiä sekä reflektoi kriittisesti identiteettityön käsitettä ja sen eri puolia. Luennolla huomioidaan sukupuolen\, seksuaalisuuden ja suhteiden moninaisuuden sekä intersektionaalisuuden käsittelyn resursseja ja voimavaroja marginalisoimisen vastustamisessa \n11-11.30 Transhäpeä ja sen työstäminen\, Miska Salakka SMOK \nTransihmisyyteen voi liittyä voimakkaita\, varhaisiakin häpeäkokemuksia\, jotka juontavat juurensa mm. sukupuolinormeista ja transihmisyyteen liittyvistä kielteisistä ennakkoluuloista. Yksilön kasvu omaksi autenttiseksi itsekseen voi vaatia häpeän käsittelemistä ammattilaisen kanssa. Luennolla syvennytään siihen\, kuinka ammattilainen voi sensitiivisesti tukea asiakasta häpeän käsittelemisessä. \n11.30-12.15 Lounastauko \n12.15-12.45 Kehollisuus asiakastyössä\, Jaana Pirskanen QUU \nLuennossa käydään läpi teoriaa ja yleisiä periaatteita liittyen kehon huomioimiseen osana terapeuttista työtä. \n12.45-13.15 Kehon itsehuolto ja terapeuttiset kehometodit vähemmistöstressin hoidossa\, Jaana Pirskanen QUU \nLuennossa käydään läpi erilaisia kehollisia harjoitteita\, joita voi hyödyntää vähemmistöstressin hoidossa. \nTauko \n13.25-13.55 Vähemmistöstressin vaikutus pari- ja monisuhteissa sekä seksuaalisuudessa\, Maarit Grönroos QUU \nPuheenvuoron aikana esitetään joitain näkökulmia siitä\, miten vähemmistöstressi voi vaikuttaa erilaisissa\npari- ja monisuhteissa\, intiimisuhteissa sekä seksuaalisuudessa. \n13.55-14.25 Miten tukea lasta\, joka kokee vähemmistöstressiä?\, Maarit Huuska SMOK \nLuento käsittelee sitä\, miten lapset kokevat vähemmistöstressiä\, siltä suojaavia tekijöitä ja lasten voimaannuttamista. \nTauko \n15-15.30 Työvälineiden esittely\, SMOK ja QUU \n15.30-16 Kysymyksiä & vastauksia\, SMOK ja QUU \nIlmoittaudu tästä \n \nKouluttajat\n Laura Blomqvist on psykologi (PsM) ja valmistuva kognitiivinen psykoterapeutti (valm. 2021). Hän on työskennellyt useiden vuosien ajan seksuaalisuuden ja sukupuolen moninaisuuden kysymysten äärellä tehden asiakastyötä vähemmistöjen kanssa sekä kouluttaen eri ammattilaisia yhdenvertaisuus- ja tasaarvokysymyksissä. Blomqvist on työskennellyt työterveyspsykologina\, terveyskeskuspsykologina sekä oppilaitospsykologina. Hän on toinen Terapiatalo Quun perustajista ja omistajista. \nOuti Olakivi on psykologi (PsM) joka opiskelee kognitiivis-integratiiviseksi psykoterapeutiksi (valm. 2023). Lisäksi hän opiskelee Helsingin yliopistossa Sukupuolentutkimuksen maisteriohjelmassa. Hän on toiminut vuosia seksuaalisuuden ja sukupuolen moninaisuuden sekä yhdenvertaisuuteen\, tasa-arvoon ja vähemmistöihin liittyvien kysymysten parissa sekä töissä että vapaa-ajalla. Olakivi on toiminut psykologina mm. lastensuojelussa ja terveyskeskuksessa. Hän on toinen Terapiatalo Quun perustajista ja omistajista. \nMaarit Grönroos on psykologi (PsM)\, seksuaaliterapeutti ja valmistuu 2021 integratiiviseksi psykoterapeutiksi. Hän on työskennellyt urallaan seksuaalisuuden\, sukupuolen sekä suhteiden moninaisuuden parissa asiakastyötä tehden. Lisäksi Grönroos kouluttaa sote-alan ammattilaisia näistä moninaisuuden teemoista ja on toiminut asiantuntijana esim. Psykologiliiton ammatillisessa työryhmässä. Hän on työskennellyt koulupsykologina\, aikuispsykiatrialla ja nuorisopsykiatrialla sekä viime vuodet ammatinharjoittajana Terapiatalo Quussa. \nJaana Pirskanen on psykologi (PsyM) sekä filosofian maisteri (FM). Hän opiskelee integratiiviseksi psykoterapeutiksi (valm. 2023)\, jonka lisäksi hän käy parhaillaan psykofyysisen psykoterapian perusopintoja. Pirskanen on tehnyt jatko-opintoja sukupuolentutkimuksesta Helsingin yliopistossa. Viime vuodet hän on työskennellyt Sukupuolen moninaisuuden osaamiskeskuksessa intersukupuolisuuden\, kehojen moninaisuuden ja sukupuolen moninaisuuden teemojen parissa ja kouluttanut sosiaali-\,\nterveys- ja kasvatusalan ammattilaisia valtakunnallisesti. Tällä hetkellä Pirskanen tekee psykoterapeuttista asiakastyötä Terapiatalo Quussa. Hän toimii aktiivisesti myös kulttuuri- ja taidekentällä ja hän on taiteellisena johtajana Aistikkaat -projektissa\, joka käsittelee yli 60-vuotiaiden ihmisten moninaista seksuaalisuutta. \nMari Korpela on psykologi (PsM)\, joka opiskelee kognitiiviseksi psykoterapeutiksi (valmistuminen 2023). Korpelalla on pitkä kokemus työskentelystä kliinisenä psykologina terveyskeskuksessa\, varhaiskasvatuksessa\, opiskeluhuollon psykologina koulumaailmassa sekä perheneuvolassa. Tällä hetkellä Mari työskentelee Terapiatalo Quussa toteuttaen mm. transsensitiivistä lyhytterapiaa. Mari on eri työtehtävissään kouluttanut seksuaalisuuden ja sukupuolen moninaisuuden teemoista nuoria ja aikuisia sekä tehnyt vaikuttamistyötä Psykologiliiton seksuaalisen suuntautumisen ja sukupuolen moninaisuuden työryhmän jäsenenä. \nSanTra Rinne on psykologi\, aikuisten integratiivisen yksilöpsykoterapian koulutettava\, ”Tahdolla ja taidolla”-parisuhdeohjelman ohjaaja\, ammattitanssinopettaja. SanTra – T:llä niin kuin Trans\, Transgender\, Transmaskuliininen – pronomineilla he/him\, they/them\, on monisukupuolinen ja -seksuaalinen sateenkaari-ihminen ja psykologi asiakkaille\, joille ihmisten tasa-arvo\, yhdenvertaisuus ja monimuotoisuus ovat tärkeitä. Yhteistyössä Terapiatalo Quun kanssa tarjotussa transsensitiivisessä lyhytterapiassa työskentelyn fokuksina toimivat esim. sukupuolen\, seksuaalisuuden ja suhteiden moninaisuus sekä intersektionaalisuus ja marginalisoimisen vastustamisen voimavarat. Hän on opiskellut myös nais- ja sukupuolentutkimusta ja on kiinnostunut lisäksi urheilu- ja liikuntapsykologian aihepiireistä. Psykologina hänellä reilun kymmenen vuoden työkokemus\, mm. kouluista ja perheneuvoloista.\n \nMiska Salakka\, Sukupuolen moninaisuuden osaamiskeskuksen palveluohjaaja on sosionomi (AMK) ja opiskelee parhaillaan kognitiivis-analyyttiseksi psykoterapeutiksi (valmistuminen 2022). Miska on työskennellyt Sukupuolen moninaisuuden osaamiskeskuksessa palveluohjaajana vuodesta 2016 alkaen. Miska työskentelee kaiken ikäisten sukupuoleltaan moninaisten ihmisten sekä heidän läheistensä kanssa. Lisäksi hän kouluttaa sukupuolen moninaisuudesta sosiaali-\, terveys- ja kasvatusalojen ammattilaisia. Miska on perehtynyt lopputyössään ja jatko-opinnoissaan sukupuolen moninaisuuteen ja erityisesti muunsukupuolisuuteen. Miska on kehittänyt Sukupuolen moninaisuuden osaamiskeskuksen asiakastyön menetelmiä sekä luonut omahoitosivuja. \nMaarit Huuska\, Sukupuolen moninaisuuden osaamiskeskuksen johtava sosiaalityöntekijä\, perhepsykoterapeutti on työskennellyt Setassa parikymmentä vuotta omaa tai läheisen sukupuolta kohtaavien eri ikäisten yksilöiden\, parien ja perheiden kanssa. Koulutukseltaan hän on myös sosiologi\, tutustunut narratiivisuuteen\, taideterapiaan\, jungilaiseen analyysiin sekä dialogiseen ja voimavarakeskeiseen työotteeseen. Hän on julkaissut useita aihealueen ammatillisia artikkeleita ja ollut pitkään jäsen yhdistyksessä WPATH/EPATH. \n  \nOrganisaatiot\nTerapiatalo Quu on vuonna 2019 perustettu seksuaalisuuden ja sukupuolen moninaisuuden kysymyksiin erikoistunut terapiatalo\, joka tarjoaa psykologi- ja psykoterapiapalveluita sekä koulutuspalveluita. Terapiatalo Quussa työskentelevät ammattilaiset ovat psykologeja ja psykoterapeutteja\, joiden osaamisessa painottuvat sensitiivinen moninaisuuden kohtaaminen sekä ymmärrys normatiivisten rakenteiden merkityksestä elämässä. Terapiatalo Quu on kouluttanut kasvatuksen ja koulutuksen sekä sosiaali- ja terveydenhuollon alan ammattilaisia seksuaalisuuden ja sukupuolen moninaisuuden kohtaamisesta. \nSukupuolen moninaisuuden osaamiskeskus toimii voimavarana yhteisöille ja yksilöille\, joita sukupuolen moninaisuus koskettaa. Osaamiskeskus tarjoaa psykososiaalista ammatillista tukea yksilöille ja perheille sekä vertaistukea. Osaamiskeskus kouluttaa ja konsultoi yhteisöjä\, oppilaitoksia ja eri alojen ammattilaisia\, seuraa kansainvälistä ja kotimaista keskustelua sekä kokoaa\, tuottaa ja jakaa tietoa sukupuolen moninaisuudesta. Osaamiskeskusta ylläpitää ihmisoikeusjärjestö Seta ja se on toiminut vuodesta 1994. \nIlmoittaudu tästä
URL:https://seta.fi/tapahtumat/webinaari-terapeuttista-tyota-tekeville-sote-ammattilaisille/
CATEGORIES:Koulutukset
ATTACH;FMTTYPE=image/png:https://seta.fi/wp-content/uploads/2021/03/Yhteistyokoulutus-SMOK-Quu.png
END:VEVENT
END:VCALENDAR