BEGIN:VCALENDAR
VERSION:2.0
PRODID:-//Seta ry - ECPv6.15.17.1//NONSGML v1.0//EN
CALSCALE:GREGORIAN
METHOD:PUBLISH
X-ORIGINAL-URL:https://seta.fi
X-WR-CALDESC:Tapahtumat Seta ry
REFRESH-INTERVAL;VALUE=DURATION:PT1H
X-Robots-Tag:noindex
X-PUBLISHED-TTL:PT1H
BEGIN:VTIMEZONE
TZID:Europe/Helsinki
BEGIN:DAYLIGHT
TZOFFSETFROM:+0200
TZOFFSETTO:+0300
TZNAME:EEST
DTSTART:20200329T010000
END:DAYLIGHT
BEGIN:STANDARD
TZOFFSETFROM:+0300
TZOFFSETTO:+0200
TZNAME:EET
DTSTART:20201025T010000
END:STANDARD
BEGIN:DAYLIGHT
TZOFFSETFROM:+0200
TZOFFSETTO:+0300
TZNAME:EEST
DTSTART:20210328T010000
END:DAYLIGHT
BEGIN:STANDARD
TZOFFSETFROM:+0300
TZOFFSETTO:+0200
TZNAME:EET
DTSTART:20211031T010000
END:STANDARD
BEGIN:DAYLIGHT
TZOFFSETFROM:+0200
TZOFFSETTO:+0300
TZNAME:EEST
DTSTART:20220327T010000
END:DAYLIGHT
BEGIN:STANDARD
TZOFFSETFROM:+0300
TZOFFSETTO:+0200
TZNAME:EET
DTSTART:20221030T010000
END:STANDARD
END:VTIMEZONE
BEGIN:VEVENT
DTSTART;TZID=Europe/Helsinki:20210630T140000
DTEND;TZID=Europe/Helsinki:20210630T160000
DTSTAMP:20260426T024008
CREATED:20210527T083836Z
LAST-MODIFIED:20210629T135930Z
UID:20878-1625061600-1625068800@seta.fi
SUMMARY:Paneelikeskustelu: Sateenkaareva tulevaisuus
DESCRIPTION:Miten sukupuoleltaan moninaiset nuoret saisivat elää täysillä ja toteutua kokonaisina? Millainen on yhteiskunta\, jossa ei-binääriset ihmiset on huomioitu yhdenvertaisesti? Miltä näyttää unelmien sateenkaari-Suomi? \nPaneelikeskustelu järjestetään keskiviikkona 30.6. klo 14.00 alkaen Pride Housessa Helsingin kaupungintalolla ja tilaisuus striimataan. Panelisteina ovat Anukatariina Saloheimo\, Ani Iivanainen ja Renja Valta. Vetäjä on Elena Rekola. \nTilaisuuden järjestää Setan sukupuolen moninaisuus -toimikunta. \nTervetuloa!
URL:https://seta.fi/tapahtumat/paneelikeskustelu-sateenkaareva-tulevaisuus/
LOCATION:Pride House\, Pohjois-Esplanadi 11-13\, Helsinki
CATEGORIES:Helsinki Pride,Setan tapahtuma
ATTACH;FMTTYPE=image/png:https://seta.fi/wp-content/uploads/2021/06/2.png
END:VEVENT
END:VCALENDAR