BEGIN:VCALENDAR
VERSION:2.0
PRODID:-//Seta ry - ECPv6.15.17.1//NONSGML v1.0//EN
CALSCALE:GREGORIAN
METHOD:PUBLISH
X-ORIGINAL-URL:https://seta.fi
X-WR-CALDESC:Tapahtumat Seta ry
REFRESH-INTERVAL;VALUE=DURATION:PT1H
X-Robots-Tag:noindex
X-PUBLISHED-TTL:PT1H
BEGIN:VTIMEZONE
TZID:Europe/Helsinki
BEGIN:DAYLIGHT
TZOFFSETFROM:+0200
TZOFFSETTO:+0300
TZNAME:EEST
DTSTART:20210328T010000
END:DAYLIGHT
BEGIN:STANDARD
TZOFFSETFROM:+0300
TZOFFSETTO:+0200
TZNAME:EET
DTSTART:20211031T010000
END:STANDARD
BEGIN:DAYLIGHT
TZOFFSETFROM:+0200
TZOFFSETTO:+0300
TZNAME:EEST
DTSTART:20220327T010000
END:DAYLIGHT
BEGIN:STANDARD
TZOFFSETFROM:+0300
TZOFFSETTO:+0200
TZNAME:EET
DTSTART:20221030T010000
END:STANDARD
BEGIN:DAYLIGHT
TZOFFSETFROM:+0200
TZOFFSETTO:+0300
TZNAME:EEST
DTSTART:20230326T010000
END:DAYLIGHT
BEGIN:STANDARD
TZOFFSETFROM:+0300
TZOFFSETTO:+0200
TZNAME:EET
DTSTART:20231029T010000
END:STANDARD
END:VTIMEZONE
BEGIN:VEVENT
DTSTART;TZID=Europe/Helsinki:20220427T183000
DTEND;TZID=Europe/Helsinki:20220427T200000
DTSTAMP:20260424T231300
CREATED:20211217T083452Z
LAST-MODIFIED:20211217T090254Z
UID:24832-1651084200-1651089600@seta.fi
SUMMARY:Verkkoluento 27.4. Detransitio – miten auttaa itseään\, jos transitio herättääkin epäilyksiä tai katumusta? 
DESCRIPTION:Detransitio tarkoittaa lääketieteellisen sukupuolen korjauksen tai transition\, jonka aikana on siirtynyt sosiaalisesti sukupuolesta toiseen\, keskeyttämistä\, perumista tai lieventämistä.  \n27.4.2022 klo 18.30–20.00 pidettävällä luennolla saat tietoa siitä\, miten voit työstää omia huolia liittyen sukupuolen korjausprosessin mahdolliseen katumiseen. Saat luennolla tietoa myös detransitioprosesseista ja välineitä omasta hyvinvoinnista huolehtimiseen detransitioharkinnan sekä mahdollisen detransition aikana. Luento on maksuton. \nEtäosallistuminen toteutetaan Microsoft Teamsin avulla. Etäosallistujille lähetetään kutsu tilaisuuteen sähköpostilla ilmoittautumisajan päätyttyä. \nLuennoitsijoina toimivat Sukupuolen moninaisuuden osaamiskeskuksen palveluohjaaja Miska Salakka ja sosiaaliohjaaja Enni Happonen. \nMiska Salakka on sosionomi (AMK) ja opiskelee parhaillaan psykoterapeutiksi. Hän on työskennellyt Sukupuolen moninaisuuden osaamiskeskuksessa palveluohjaajana vuodesta 2016 alkaen. Hän työskentelee kaiken ikäisten sukupuoleltaan moninaisten ihmisten sekä heidän läheistensä kanssa. Lisäksi Salakka kouluttaa sukupuolen moninaisuudesta sosiaali- ja terveysalan ammattilaisia\, erityisesti seksuaalineuvoja-\, seksuaaliterapeutti- ja seksuaalikasvattajaopiskelijoita. Salakka on perehtynyt lopputyössään ja jatko-opinnoissaan sukupuolen moninaisuuteen ja erityisesti muunsukupuolisuuteen. \nEnni Happonen on koulutukseltaan lasten ja nuorten hoito- ja kasvatustyöhön suuntautunut lähihoitaja ja mielenterveys- ja päihdetyön sosionomi (AMK). Aikaisemmin hän on työskennellyt nuorten mielenterveyden parissa sekä ennaltaehkäisevällä että kriisiauttamisen puolella. Sukupuolen monninaisuuden osaamiskeskuksella sosiaaliohjaajana hän tekee pääasiassa asiakastyötä sukupuoleltaan moninaisten tai sukupuoltaan pohtivien lasten\, nuorten ja nuorten aikuisten kanssa\, sekä kouluttaa sosiaali- terveys- ja kasvatusalojen ammattilaisia sukupuolen moninaisuudesta.
URL:https://seta.fi/tapahtumat/verkkoluento-27-4-detransitio-miten-auttaa-itseaan-jos-transitio-herattaakin-epailyksia-tai-katumusta/
LOCATION:Microsoft Teams
CATEGORIES:Koulutukset,Setan tapahtuma
ATTACH;FMTTYPE=image/png:https://seta.fi/wp-content/uploads/2021/12/Ryhmamainos.png
END:VEVENT
END:VCALENDAR