BEGIN:VCALENDAR
VERSION:2.0
PRODID:-//Seta ry - ECPv6.15.17.1//NONSGML v1.0//EN
CALSCALE:GREGORIAN
METHOD:PUBLISH
X-ORIGINAL-URL:https://seta.fi
X-WR-CALDESC:Tapahtumat Seta ry
REFRESH-INTERVAL;VALUE=DURATION:PT1H
X-Robots-Tag:noindex
X-PUBLISHED-TTL:PT1H
BEGIN:VTIMEZONE
TZID:Europe/Helsinki
BEGIN:DAYLIGHT
TZOFFSETFROM:+0200
TZOFFSETTO:+0300
TZNAME:EEST
DTSTART:20240331T010000
END:DAYLIGHT
BEGIN:STANDARD
TZOFFSETFROM:+0300
TZOFFSETTO:+0200
TZNAME:EET
DTSTART:20241027T010000
END:STANDARD
BEGIN:DAYLIGHT
TZOFFSETFROM:+0200
TZOFFSETTO:+0300
TZNAME:EEST
DTSTART:20250330T010000
END:DAYLIGHT
BEGIN:STANDARD
TZOFFSETFROM:+0300
TZOFFSETTO:+0200
TZNAME:EET
DTSTART:20251026T010000
END:STANDARD
BEGIN:DAYLIGHT
TZOFFSETFROM:+0200
TZOFFSETTO:+0300
TZNAME:EEST
DTSTART:20260329T010000
END:DAYLIGHT
BEGIN:STANDARD
TZOFFSETFROM:+0300
TZOFFSETTO:+0200
TZNAME:EET
DTSTART:20261025T010000
END:STANDARD
END:VTIMEZONE
BEGIN:VEVENT
DTSTART;TZID=Europe/Helsinki:20250319T170000
DTEND;TZID=Europe/Helsinki:20250319T193000
DTSTAMP:20260420T060009
CREATED:20241217T081822Z
LAST-MODIFIED:20250115T152312Z
UID:38108-1742403600-1742412600@seta.fi
SUMMARY:Etäkoulutus: Sote-ammattilainen transnuoren kasvurauhan ja kehityksen tukijana
DESCRIPTION:15-vuotias sateenkaarinuori Sulo pitää harteillaan translippua. Kuva Mikko Patrikainen.\nKasvurauha antaa lapsille ja nuorille turvallisen ja arvostavan ympäristön\, jossa he voivat rauhassa kasvaa ja kehittyä omiksi itsekseen. Sosiaali- ja terveysalan ammattilaiset voivat edistää sukupuolivähemmistöön kuuluvien nuorten kasvurauhaa omassa työssään: kasvurauhaa voidaan turvata esimerkiksi asiallisen sateenkaaritiedon\, turvallisten työtapojen ja normitietoisen kohtaamisen keinoin. Sensitiivinen ammattilainen voi parhaimmillaan tarjota vähemmistöasiakkailleen korjaavia kokemuksia sote-palveluissa. \nSukupuolivähemmistönuoriin kuuluvat kaikki ne nuoret\, jotka eivät koe syntymässä määritetyn sukupuolen vastaavan omaa sukupuoltaan. He voivat olla mm. trans- tai muunsukupuolisia\, ei-binäärisiä tai sukupuolettomia\, demipoikia ja -tyttöjä\, intersukupuolisia tai sukupuoli-identiteettiään pohtivia nuoria. Näiden nuorten kasvurauhan takaaminen vaatii sote-alan ammattilaiselta ymmärrystä kohderyhmän erityispiirteistä ja niistä kumpuavista tarpeista. Koulutuksessa käydään läpi esimerkiksi sukupuolidysforian\, vähemmistöstressin ja neurokirjon vaikutuksia vähemmistönuorten elämään. \nKouluttajana toimii Setan Sukupuolen moninaisuuden osaamiskeskuksen sosiaaliohjaaja Elina Sorsa (sosionomi AMK). \nKoulutus koostuu luento-osuudesta (2 h) ja keskusteluosuudesta (30 min)\, jonka aikana voi kysyä kouluttajalta koulutukseen ja aiheeseen liittyviä kysymyksiä. \nLue lisää: https://seta.fi/palvelut/asiantuntija-ja-koulutuspalvelut/koulutusiltapaivat/ \nIlmoittaudu tästä. \nSetan muut koulutukset keväällä 2025\n\n20.2. Sateenkaari varhaiskasvatuksessa\n23.4. Turvallisempi tila sateenkaarinuorille\n\n\n\n\n21.5. Sateenkaarisanasto kuntoon 2025
URL:https://seta.fi/tapahtumat/setan-koulutusiltapaiva-sote-ammattilainen-transnuoren-kasvurauhan-ja-kehityksen-tukijana/
CATEGORIES:Koulutukset
END:VEVENT
BEGIN:VEVENT
DTSTART;TZID=Europe/Helsinki:20250321T180000
DTEND;TZID=Europe/Helsinki:20250321T200000
DTSTAMP:20260420T060009
CREATED:20250220T093250Z
LAST-MODIFIED:20250318T082221Z
UID:39004-1742580000-1742587200@seta.fi
SUMMARY:Sateenkaareva vaalipaneeli Tampereella
DESCRIPTION:Millainen on hyvä ja turvallinen kaupunki sateenkaari-ihmisille? Miten hyvinvointialueilla varmistetaan sateenkaari-ihmisten yhdenvertaiset oikeudet terveyteen ja hyvinvointiin? \nSinuiksi ry\, Transfeminiinit ry ja valtakunnallinen Seta järjestävät sateenkaarevan vaalipaneelin 21.3.2025 klo 18–20 Tampereella Tammelan lähitorilla. Paneelikeskustelun aiheena on sukupuoli- ja seksuaalivähemmistöihin kuuluvien ihmisten huomioiminen ja yhdenvertaisuuden ja tasa-arvon edistäminen kaupungin ja hyvinvointialueen päätöksenteossa. \nJokaiselle kuuluu oikeus elää avoimesti omana itsenään ja tulla kohdatuksi palveluissa yhdenvertaisesti. Kunnat ja hyvinvointialueet ovat vastuussa sateenkaari-ihmisten yhdenvertaisuuden\, hyvinvoinnin\, turvallisuuden ja osallisuuden toteutumisesta. Näistä teemoista keskustelemassa ovat eri puolueiden kunta- ja aluevaaliehdokkaat Tampereelta ja Pirkanmaalta: \n– Milla Zuev\, SDP\n– Kukka Kunnari\, Vasemmistoliitto\n– Arttu Vuori\, Kokoomus\n– Anna Moilanen\, Vihreät \nTilaisuudessa noudatetaan turvallisemman tilan periaatteita. \nMiten sinun mielestäsi sateenkaari-ihmiset tulisi huomioida Tampereella ja Pirhassa? Voit lähettää kysymyksesi meille etukäteen os. info@seta.fi. \nTervetuloa mukaan! \nLisätietoja Setan vaalitavoitteista: https://seta.fi/ihmisoikeudet/poliittiset-ohjelmat/vaalitavoitteet-2025 \nJärjestäjät: Sinuiksi ry\, Transfeminiinit ry ja Seta ry \nSaavutettavuustiedot: Tammelan lähitori toimii Tammelakeskuksen ensimmäisessä kerroksessa osoitteessa Itsenäisyydenkatu 21 B\, 33500 Tampere. Julkaisemme lisätietoa saavutettavuudesta myöhemmin.
URL:https://seta.fi/tapahtumat/sateenkaareva-vaalipaneeli-tampereella/
LOCATION:Tammelan lähitori\, Itsenäisyydenkatu 21 B\, Tampere\, 33500
CATEGORIES:Jäsenjärjestöt,Setan tapahtuma
ATTACH;FMTTYPE=image/png:https://seta.fi/wp-content/uploads/2025/02/Vaalipaneeli-aluevaali-kuntavaali-2025.png
END:VEVENT
END:VCALENDAR