BEGIN:VCALENDAR
VERSION:2.0
PRODID:-//Seta ry - ECPv6.15.17.1//NONSGML v1.0//EN
CALSCALE:GREGORIAN
METHOD:PUBLISH
X-ORIGINAL-URL:https://seta.fi
X-WR-CALDESC:Tapahtumat Seta ry
REFRESH-INTERVAL;VALUE=DURATION:PT1H
X-Robots-Tag:noindex
X-PUBLISHED-TTL:PT1H
BEGIN:VTIMEZONE
TZID:Europe/Helsinki
BEGIN:DAYLIGHT
TZOFFSETFROM:+0200
TZOFFSETTO:+0300
TZNAME:EEST
DTSTART:20170326T010000
END:DAYLIGHT
BEGIN:STANDARD
TZOFFSETFROM:+0300
TZOFFSETTO:+0200
TZNAME:EET
DTSTART:20171029T010000
END:STANDARD
BEGIN:DAYLIGHT
TZOFFSETFROM:+0200
TZOFFSETTO:+0300
TZNAME:EEST
DTSTART:20180325T010000
END:DAYLIGHT
BEGIN:STANDARD
TZOFFSETFROM:+0300
TZOFFSETTO:+0200
TZNAME:EET
DTSTART:20181028T010000
END:STANDARD
BEGIN:DAYLIGHT
TZOFFSETFROM:+0200
TZOFFSETTO:+0300
TZNAME:EEST
DTSTART:20190331T010000
END:DAYLIGHT
BEGIN:STANDARD
TZOFFSETFROM:+0300
TZOFFSETTO:+0200
TZNAME:EET
DTSTART:20191027T010000
END:STANDARD
END:VTIMEZONE
BEGIN:VEVENT
DTSTART;TZID=Europe/Helsinki:20180428T110000
DTEND;TZID=Europe/Helsinki:20180429T160000
DTSTAMP:20260426T043741
CREATED:20180219T101950Z
LAST-MODIFIED:20180219T101950Z
UID:10882-1524913200-1525017600@seta.fi
SUMMARY:Ryhmänohjaajakoulutus perusosa\, Helsinki
DESCRIPTION:Seta ja sen jäsenjärjestöt aloittavat yhteistyössä uuden ryhmänohjaajakoulutuksen. Haluamme tarjota vapaaehtoisille mahdollisuuden oman osaamisen kehittämiseen. Sen lisäksi meille on tärkeää varmistaa ryhmätoiminnan laatu ja turvallisuus. \nKoulutuspolku koostuu kahdesta osiosta: perusosasta ja jatko-osista. Perusosassa kartutetaan ryhmän ohjaamisen perustaitoja perehtymällä mm. omaan rooliin ryhmänohjaajana\, vuorovaikutustaitoihin\, ryhmädynamiikkaan ja ryhmän turvallisuuteen. Perusosa on yhteinen kaikille ryhmänohjaajaksi haluaville riippumatta siitä\, millaista ryhmää haluaisi ohjata Setan jäsenjärjestöissä tai Transtukipisteellä. \nPerus- ja jatko-osat suoritettuaan osallistuja on saanut valmiuksia ryhmän ohjaamiseen. Koulutusten käyminen ei automaattisesti takaa sitä\, että pääsee ohjaamaan ryhmää. Ryhmän ohjaamisen aloittamisesta keskustellaan aina jatko-osan ohjaajien ja oman järjestön vastuuhenkilöiden kanssa. \nRyhmänohjaajan peruskoulutukseen toivotaan osallistujia eri puolilta Suomea. Koska kyseessä on aivan uudenlainen koulutuspolku\, peruskoulutukseen kannustetaan osallistumaan myös jo nyt ryhmänohjaajina toimivia henkilöitä. \nVuoden 2018 ensimmäinen perusosa järjestetään 28.-29.4. Helsingissä. Koulutus alkaa lauantaina klo 11. Sunnuntaina lopetamme klo 16.00. \nPeruskoulutukseen haetaan oheisella ilmoittautumislomakkeella 5.-28.2.2018 välisenä aikana. Mukaan valitaan 25 osallistujaa. Koulutus on maksuton. Osallistujien matka- ja majoituskulut korvataan Setalta saatavien ohjeiden mukaisesti. \nHAKULOMAKE \nLisätietoa: \nHeta Hölttä\nnuorisotyön koordinaattori\nnuorisotyö\, nuorisohankkeet\, asiantuntijuus hlbtiq-teemoissa \np. +358 44 301 3020\nheta.holtta@seta.fi
URL:https://seta.fi/tapahtumat/ryhmanohjaajakoulutus-perusosa/
CATEGORIES:Jäsenjärjestöt,Koulutukset,Setan tapahtuma
ATTACH;FMTTYPE=:
END:VEVENT
END:VCALENDAR