BEGIN:VCALENDAR
VERSION:2.0
PRODID:-//Seta ry - ECPv6.15.17.1//NONSGML v1.0//EN
CALSCALE:GREGORIAN
METHOD:PUBLISH
X-WR-CALNAME:Seta ry
X-ORIGINAL-URL:https://seta.fi
X-WR-CALDESC:Tapahtumat Seta ry
REFRESH-INTERVAL;VALUE=DURATION:PT1H
X-Robots-Tag:noindex
X-PUBLISHED-TTL:PT1H
BEGIN:VTIMEZONE
TZID:Europe/Helsinki
BEGIN:DAYLIGHT
TZOFFSETFROM:+0200
TZOFFSETTO:+0300
TZNAME:EEST
DTSTART:20170326T010000
END:DAYLIGHT
BEGIN:STANDARD
TZOFFSETFROM:+0300
TZOFFSETTO:+0200
TZNAME:EET
DTSTART:20171029T010000
END:STANDARD
BEGIN:DAYLIGHT
TZOFFSETFROM:+0200
TZOFFSETTO:+0300
TZNAME:EEST
DTSTART:20180325T010000
END:DAYLIGHT
BEGIN:STANDARD
TZOFFSETFROM:+0300
TZOFFSETTO:+0200
TZNAME:EET
DTSTART:20181028T010000
END:STANDARD
BEGIN:DAYLIGHT
TZOFFSETFROM:+0200
TZOFFSETTO:+0300
TZNAME:EEST
DTSTART:20190331T010000
END:DAYLIGHT
BEGIN:STANDARD
TZOFFSETFROM:+0300
TZOFFSETTO:+0200
TZNAME:EET
DTSTART:20191027T010000
END:STANDARD
END:VTIMEZONE
BEGIN:VEVENT
DTSTART;TZID=Europe/Helsinki:20180312T150000
DTEND;TZID=Europe/Helsinki:20180312T170000
DTSTAMP:20260426T060719
CREATED:20180220T105516Z
LAST-MODIFIED:20180220T105516Z
UID:10895-1520866800-1520874000@seta.fi
SUMMARY:Sateenkaarisenioreiden vertaistukiryhmä\, Helsinki
DESCRIPTION:Sateenkaarisenioreille tarkoitettu avoin ja luottamuksellinen vertaistukiryhmä kokoontuu kaksi kertaa kuukaudessa Helsingissä. Vetäjinä toimii Setan ja Transtukipisteen henkilökuntaa. Ryhmä tapaa 12.3.2018 Kinaporin palvelukeskuksessa (Kinaporinkatu 7-9). \nRyhmä on tarkoitettu seniori-ikäisille ja sitä lähestyville yli 55-vuotiaille. Tarkoituksena on tarjota turvallinen tila keskusteluun. Uusien jäsenten on helppo tulla mukaan\, ja joka ryhmäkerran alussa käydään kuulumiskierros. Ryhmä on luonteeltaan vertaistuellinen ja sen aikana keskustellaan osallistujille tärkeistä aiheista. Toimintaa suunnitellaan yhdessä osallistujien kanssa. Ryhmän periaatteisiin kuuluvat luottamuksellisuus\, itsemäärittely- ja itsemäärittelemättömyysoikeus sekä toisten kunnioittaminen. \nTervetuloa omana itsenäsi!
URL:https://seta.fi/tapahtumat/sateenkaarisenioreiden-vertaistukiryhma-helsinki-2/
CATEGORIES:Setan tapahtuma
END:VEVENT
END:VCALENDAR