BEGIN:VCALENDAR
VERSION:2.0
PRODID:-//Seta ry - ECPv6.15.17.1//NONSGML v1.0//EN
CALSCALE:GREGORIAN
METHOD:PUBLISH
X-WR-CALNAME:Seta ry
X-ORIGINAL-URL:https://seta.fi
X-WR-CALDESC:Tapahtumat Seta ry
REFRESH-INTERVAL;VALUE=DURATION:PT1H
X-Robots-Tag:noindex
X-PUBLISHED-TTL:PT1H
BEGIN:VTIMEZONE
TZID:Europe/Helsinki
BEGIN:DAYLIGHT
TZOFFSETFROM:+0200
TZOFFSETTO:+0300
TZNAME:EEST
DTSTART:20210328T010000
END:DAYLIGHT
BEGIN:STANDARD
TZOFFSETFROM:+0300
TZOFFSETTO:+0200
TZNAME:EET
DTSTART:20211031T010000
END:STANDARD
BEGIN:DAYLIGHT
TZOFFSETFROM:+0200
TZOFFSETTO:+0300
TZNAME:EEST
DTSTART:20220327T010000
END:DAYLIGHT
BEGIN:STANDARD
TZOFFSETFROM:+0300
TZOFFSETTO:+0200
TZNAME:EET
DTSTART:20221030T010000
END:STANDARD
BEGIN:DAYLIGHT
TZOFFSETFROM:+0200
TZOFFSETTO:+0300
TZNAME:EEST
DTSTART:20230326T010000
END:DAYLIGHT
BEGIN:STANDARD
TZOFFSETFROM:+0300
TZOFFSETTO:+0200
TZNAME:EET
DTSTART:20231029T010000
END:STANDARD
END:VTIMEZONE
BEGIN:VEVENT
DTSTART;TZID=Europe/Helsinki:20220601T180000
DTEND;TZID=Europe/Helsinki:20220601T200000
DTSTAMP:20260423T233027
CREATED:20211217T084438Z
LAST-MODIFIED:20211217T090531Z
UID:24836-1654106400-1654113600@seta.fi
SUMMARY:Koulutusiltapäivä 1.6. Sateenkaariresilienssi
DESCRIPTION:Setan koulutusiltapäivät ovat ammattilaisille ja opiskelijoille sekä sateenkaariteemoista kiinnostuneille suunnattuja koulutuksia\, joissa perehdytään ajankohtaisiin sukupuolen ja seksuaalisen suuntautumisen moninaisuutta käsitteleviin teemoihin. Koulutusiltapäivät järjestetään pääsääntöisesti keskiviikkoisin klo 17-20 etäyhteyden kautta. Yhden koulutuksen hinta on 25 euroa. Koulutuksiin ilmoittaudutaan lomakkein\, joiden linkit löytyvät kunkin koulutuksen sivulta. \nEtäosallistuminen toteutetaan Microsoft Teamsin avulla. Etäosallistujille lähetetään kutsu tilaisuuteen sähköpostilla ilmoittautumisajan päätyttyä. \nKoulutusiltapäivän 1.6.2022 teemana on sateenkaariresilienssi. Sateenkaari-ihmisten elämää usein kuvataan erityisten haasteiden ja vastoinkäymisten valossa. Resilienssi näkökulma usein unohtuu. Resilienssi tarkoittaa kestokykyä\, kykyä kasvaa ja muita hyviä ominaisuuksia\, jotka voivat vahvistua yksilöissä tai yhteisöissä haasteisiin vastaamisen seurauksena. \nSukupuoli- ja seksuaalivähemmistöt kohtaavat elämässä samoja vastoinkäymisiä kuin ihmiset yleensä. Lisäksi ilmapiirin avoimuuden vahvistumisesta huolimatta lhbtiq+-ihmiset yhä kohtaavat normipaineita\, syrjintää\, ennakkoluuloja\, tärkeiden tarpeiden sivuuttamista instituutioissa sekä vähemmistöstressiä. Joillakin dysforia vaikeuttaa läsnäoloa omassa kehossa. Monet sukupuoli- ja seksuaalivähemmistöön kuuluvat kohtaavat siis paljonkin vastoinkäymisiä ja haasteita\, usein lapsesta asti. Seuraako tästä resilienssiä? Luennossa pohditaan sateenkaariresilienssiä. Luento sisältää harjoituksia ja kokemusasiantuntija osion. \nKouluttajan toimivat Sukupuolen moninaisuuden osaamiskeskuksen johtava sosiaalityöntekijä Maarit Huuska ja kokemuskouluttaja. Maarit Huuska on työskennellyt yli 20 vuotta sukupuolen moninaisuuden teemojen äärellä yksilöiden\, pari- ja monisuhteissa olevien ja perheiden kanssa. \nILMOITTAUDU 1.6. KOULUTUKSEEN
URL:https://seta.fi/tapahtumat/koulutusiltapaiva-1-6-sateenkaariresilienssi/
LOCATION:Microsoft Teams
CATEGORIES:Koulutukset,Setan tapahtuma
ATTACH;FMTTYPE=image/png:https://seta.fi/wp-content/uploads/2021/12/KOI-kansikuvat-2022-3.png
END:VEVENT
END:VCALENDAR