BEGIN:VCALENDAR
VERSION:2.0
PRODID:-//Seta ry - ECPv6.15.17.1//NONSGML v1.0//EN
CALSCALE:GREGORIAN
METHOD:PUBLISH
X-WR-CALNAME:Seta ry
X-ORIGINAL-URL:https://seta.fi
X-WR-CALDESC:Tapahtumat Seta ry
REFRESH-INTERVAL;VALUE=DURATION:PT1H
X-Robots-Tag:noindex
X-PUBLISHED-TTL:PT1H
BEGIN:VTIMEZONE
TZID:Europe/Helsinki
BEGIN:DAYLIGHT
TZOFFSETFROM:+0200
TZOFFSETTO:+0300
TZNAME:EEST
DTSTART:20220327T010000
END:DAYLIGHT
BEGIN:STANDARD
TZOFFSETFROM:+0300
TZOFFSETTO:+0200
TZNAME:EET
DTSTART:20221030T010000
END:STANDARD
BEGIN:DAYLIGHT
TZOFFSETFROM:+0200
TZOFFSETTO:+0300
TZNAME:EEST
DTSTART:20230326T010000
END:DAYLIGHT
BEGIN:STANDARD
TZOFFSETFROM:+0300
TZOFFSETTO:+0200
TZNAME:EET
DTSTART:20231029T010000
END:STANDARD
BEGIN:DAYLIGHT
TZOFFSETFROM:+0200
TZOFFSETTO:+0300
TZNAME:EEST
DTSTART:20240331T010000
END:DAYLIGHT
BEGIN:STANDARD
TZOFFSETFROM:+0300
TZOFFSETTO:+0200
TZNAME:EET
DTSTART:20241027T010000
END:STANDARD
END:VTIMEZONE
BEGIN:VEVENT
DTSTART;TZID=Europe/Helsinki:20230406T180000
DTEND;TZID=Europe/Helsinki:20230406T193000
DTSTAMP:20260423T131843
CREATED:20230113T125229Z
LAST-MODIFIED:20230113T125748Z
UID:31162-1680804000-1680809400@seta.fi
SUMMARY:Jäsenjärjestöilta 6.4. - Sateenkaaritapahtumat\, viranomaisyhteistyö ja viharikosten torjunta
DESCRIPTION:6.4. Jäsenjärjestöillassa käsitellään viranomaistyötä ja viharikosten torjuntaa muun muassa sateenkaaritapahtumissa.\nMukana Outi Tjurin ja vierailevat puhujat. \nIlmoittaudu täällä! \nJäsenjärjestöilta on Setan jäsenjärjestöissä toimiville tarkoitettu etätilaisuus\, joka järjestetään Microsoft Teamsin avulla.
URL:https://seta.fi/tapahtumat/jasenjarjestoilta-6-4-sateenkaaritapahtumat-viranomaisyhteistyo-ja-viharikosten-torjunta/
CATEGORIES:Jäsenjärjestöt
ATTACH;FMTTYPE=image/png:https://seta.fi/wp-content/uploads/2023/01/jaja-3.png
END:VEVENT
END:VCALENDAR