BEGIN:VCALENDAR
VERSION:2.0
PRODID:-//Seta ry - ECPv6.15.17.1//NONSGML v1.0//EN
CALSCALE:GREGORIAN
METHOD:PUBLISH
X-WR-CALNAME:Seta ry
X-ORIGINAL-URL:https://seta.fi
X-WR-CALDESC:Tapahtumat Seta ry
REFRESH-INTERVAL;VALUE=DURATION:PT1H
X-Robots-Tag:noindex
X-PUBLISHED-TTL:PT1H
BEGIN:VTIMEZONE
TZID:Europe/Helsinki
BEGIN:DAYLIGHT
TZOFFSETFROM:+0200
TZOFFSETTO:+0300
TZNAME:EEST
DTSTART:20170326T010000
END:DAYLIGHT
BEGIN:STANDARD
TZOFFSETFROM:+0300
TZOFFSETTO:+0200
TZNAME:EET
DTSTART:20171029T010000
END:STANDARD
BEGIN:DAYLIGHT
TZOFFSETFROM:+0200
TZOFFSETTO:+0300
TZNAME:EEST
DTSTART:20180325T010000
END:DAYLIGHT
BEGIN:STANDARD
TZOFFSETFROM:+0300
TZOFFSETTO:+0200
TZNAME:EET
DTSTART:20181028T010000
END:STANDARD
BEGIN:DAYLIGHT
TZOFFSETFROM:+0200
TZOFFSETTO:+0300
TZNAME:EEST
DTSTART:20190331T010000
END:DAYLIGHT
BEGIN:STANDARD
TZOFFSETFROM:+0300
TZOFFSETTO:+0200
TZNAME:EET
DTSTART:20191027T010000
END:STANDARD
END:VTIMEZONE
BEGIN:VEVENT
DTSTART;TZID=Europe/Helsinki:20181024T081500
DTEND;TZID=Europe/Helsinki:20181024T153000
DTSTAMP:20260425T160742
CREATED:20180509T120513Z
LAST-MODIFIED:20180920T053213Z
UID:11215-1540368900-1540395000@seta.fi
SUMMARY:Sateenkaarevat perhe- ja läheissuhteet -koulutuspäivä ammattilaisille 24.10. Helsingissä
DESCRIPTION:Seta järjestää yhteistyössä Perhesuhdekeskuksen kanssa Sateenkaarevat perhe- ja läheissuhteet –koulutuspäivän ammattilaisille 24.10.2018. Setan koulutuspäivä ammattilaisille on kolmatta kertaa järjestettävä kokonaisuus\, joka tarjoaa perustietoa\, syventävää osaamista\, verkostoitumista sekä hyviä käytänteitä nuorten ja heidän vanhempiensa\, parien\, moniskuntien ja perheiden kanssa työskenteleville ammattilaisille. \nKouluttajina toimivat sukupuolen ja seksuaalisen suuntautumisen moninaisuuden asiantuntijat Setasta ja Perhesuhdekeskuksesta. Koulutus järjestetään Kulttuuritalolla Helsingissä osoitteessa Sturenkatu 4\, 00510 Helsinki. Osallistumismaksu on 90 € ja se sisältää aamukahvit ja lounaan. \nJokainen osallistuja saa todistuksen koulutukseen osallistumisesta. \nIlmoittaudu viimeistään 15.10.2018. \n  \nILMOITTAUDU TÄSTÄ!\n\nOhjelma\n8:15-8:30 Ilmoittautuminen perusosioon osallistuville \n8:30-9:15 Perustiedot LHBTIQ-aihepiiristä \nAamun ensimmäinen osuus on tarkoitettu niille\, jotka haluavat omaksua tai päivittää perustietoja sukupuolen ja seksuaalisen suuntautumisen moninaisuudesta. \n9:00-9:30 Ilmoittautuminen ja kahvit – Ilmoittautuminen muille kuin perusosioon osallistuville\, aamukahvitarjoilu kaikille \n9:30-10:00 Tervetuloa! Yleiskatsaus perhe- ja läheissuhteisiin\nKerttu Tarjamo\, Setan pääsihteeri\nSanna Metsäpuu\, Perhesuhdekeskuksen projektipäällikkö\nTouko Niinimäki\, Setan seniorityön koordinaattori \n10:00-10:30 Vähemmistöstressin vaikutukset suhteessa itseen ja läheissuhteisiin\nMaarit Huuska\, johtava sosiaalityöntekijä\, perheterapeutti\, Transtukipiste \nSuhde itseen voi olla ystävällinen\, hyväksyvä\, vihamielinen\, sensuroiva\, kannustava\, arvosteleva… Vähemmistöstressi vaikuttaa ihmisen sisäiseen dialogiin ja suhteeseen itseen. Se vaikuttaa rakkaussuhteiden ja perheen dynamiikkaan ja yhteistyösuhteeseen ammattilaisen kanssa. Luennossa pohditaan\, miten olla avuksi asiakkaalle vähemmistöstressikysymyksissä. \nOsallistujat voivat valita osallistumisen kahteen eri työpajaan. Ilmoitus valituista työpajoista ilmoittautumisen yhteydessä. \n10:45-12:15 Työpaja – osa 1:  \na) Kun lapsi on trans-\, inter- tai muunsukupuolinen – vanhemman polku tuetusta tukijaksi\nMiska Salakka\, palveluohjaaja\, Transtukipiste \nMiten ammattilainen voi tukea vanhempaa\, joka kamppailee hyväksyäkseen lapsensa sukupuolen? Entä\, kun vanhempi kyseenalaistaa lapsensa transsukupuolisuuden täysin? Miten kohdata vanhemman huoli ja mahdollinen suru\, kun hänelle syntyykin intersukupuolinen lapsi? Työpajassa paneudutaan keinoihin tukea vanhempaa\, jotta hän voisi puolestaan tukea ja kasvattaa lastaan parhaalla mahdollisella tavalla. \nb) Läheissuhteet nuorten voimavarana – ”Mä saan olla mä!”\nSasu Mattila\, yhteisöpedagogi\, Transtukipiste ja Marita Karvinen\, koulutussuunnittelija\, Seta \nTyöpajassa pohditaan sukupuolivähemmistöihin kuuluvien nuorten erilaisten läheissuhteiden merkitystä erityisesti voimavarojen näkökulmasta.  Mitkä tekijät vahvistavat nuoren itseluottamusta? Millaisia toiveita ja tarpeita lähipiiriin kohdistuu? Mikä on kavereiden\, perheen tai seurustelukumppanin rooli nuoren tukijana? Teemoihin perehdytään sekä asiakaskokemusten että sateenkaarinuoria koskevien tutkimusten pohjalta. \nc) Perhesuhteet sateenkaariperheissä\nSanna Metsäpuu \nMillaiset ovat sateenkaariperheiden vanhempien ja lasten väliset suhteet? Miten sateenkaariperheiden vanhempien rakkaussuhteet voivat? Miten läheiset suhtautuvat sateenkaariperheyteen? Miten sateenkaariperheiden vanhemmat kokevat saavansa palveluista tukea perhesuhteilleen? Työpajassa käsitellään sateenkaariperheiden moninaisia perhesuhteita uuden suomalaisen tutkimustiedon valossa ja osallistujan oman työn näkökulmasta. \n12:15-13:15 Lounas – Lounas sisältyy koulutuspaketin hintaan \n13:15-14:45 Työpaja – osa 2:  \na) Kun lapsi on trans – vanhemman polku tuetusta tukijaksi\nMiska Salakka ja Kuura Autere \nb Läheissuhteet nuorten voimavarana – ”Mä saan olla mä”\nSasu Mattila ja Marita Karvinen \nc) Kuinka rakentaa läheissuhdetta kriisin jälkeen?\nTerhi Väisänen\, perhetyöntekijä\, perhe- ja paripsykoterapeutti\, Perhesuhdekeskus’ \nMikään läheissuhde ei ole täysin immuuni vaikeuksille. Joistakin elämäntapahtumista seuraa kriisi\, joka voi vaikuttaa perhe- tai läheissuhteeseen pitkäksikin aikaa\, pahimmillaan suhteet katkeavat hetkellisesti tai kokonaan. Ihmiset reagoivat kriiseihin eri tavoin ja tarvitsevat erilaisia asioita toipuakseen. Työpajassa pohditaan\, kuinka sateenkaarevia läheissuhteita voi rakentaa kriisien jälkeen. \n14:45-15:15 Iltapäiväkahvit ja verkostoituminen päivän eri teemojen tiimoilta  \n15.15-15.30 Päätössessio: Näin voimme olla avuksi\, vinkkejä miten voit hyödyntää Setan ja Perhesuhdekeskuksen palveluja\nSanna Metsäpuu ja Kuura Autere\, Transtukipiste \nLisätietoa:\nMarita Karvinen\nkoulutussuunnittelija\, Seta\np. 040 570 4328\nmarita.karvinen@seta.fi \nSeta on valtakunnallinen ihmisoikeusjärjestö\, jonka tavoitteena on\, että kaikki voisivat elää yhdenvertaisina riippumatta seksuaalisesta suuntautumisesta\, sukupuoli-identiteetistä tai sukupuolen ilmaisusta. \nTranstukipiste on sukupuolen moninaisuuden osaamiskeskus\, joka tarjoaa tukea monipuolista sukupuolivähemmistöille\, sukupuoltaan pohtiville ja heidän läheisilleen sekä tekee näkyväksi sukupuolen moninaisuutta. \nPerhesuhdekeskus lisää hyvinvointia sateenkaarikansan perhesuhteisiin järjestämällä perhesuhteiat tukevaa vertaistoimintaa\, tarjoamalla ammatillista tukea haastavissa tilanteissa oleville ja tuottamalla tietoa perhesuhteiden tueksi. \n  \nAsiantuntijat\n\n \nMarita Karvinen\, Dottore in Scienze Politiche (sosiologia)\, valtiotieteiden tohtori (sosiaaliantropologia)\, työorganisaatioiden kehittäjä ja henkilöstökouluttaja\, seksuaalineuvoja. Karvinen työskentelee Setan koulutussuunnittelijana. Hänellä on kokemusta laaja-alaisesta lhbtiq-teemojen kouluttamisesta 15 vuoden ajalta. Erityisosaamista hänellä on opetus- ja kasvatusalojen ammattilaisten kouluttamisessa. \n \nMaarit Huuska\, YTM (sosiologi\, sosiaalityöntekijä ja psykoterapeutti (ET) työskentelee Setan Transtukipisteellä johtavana sosiaalityöntekijänä. Hän on opiskellut dialogista ja voimavarakeskeistä perheterapiaa ja taideterapeuttisia työmenetelmiä. Hänellä on yli kahdenkymmenen vuoden työkokemus sukupuolen moninaisuudesta. Hän tekee terapeuttista asiakastyötä yksilöiden\, parien/moniskuntien ja perheiden kanssa ja ohjaa vertaisryhmiä läheisille. Hän on työssään edistänyt ammattialansa työtapojen kehittymistä\, mm. kirjoittanut aiheesta useita ammatillisia artikkeleita ja lasten tarinoita ja kehittänyt Transtukipisteelle yhdessä työryhmän kanssa uusia transsensitiivisiä tukityön menetelmiä\, kuten identiteettityön tuki. Hän on pitkäaikainen jäsen kansainvälisessä terveysjärjestössä The World Professional Association for Transgender Health WPATH. \n \nMiska Salakka\, sosionomi (AMK) on työskennellyt Setan Transtukipisteellä palveluohjaajana vuodesta 2016 alkaen. Hän työskentelee kaiken ikäisten sukupuoleltaan moninaisten ihmisten sekä heidän läheistensä kanssa. Sukupuoleltaan moninaisten ihmisten vanhempien kysymyksiin hän on päässyt paneutumaan ohjatessaan Transtukipisteen vanhemmille suunnattua vertaistukiryhmää. Salakka on perehtynyt erikoistumisopinnoissaan ja lopputyössään sukupuolen moninaisuuteen ja erityisesti muunsukupuolisuuteen. \n \nTouko Niinimäki\, sosionomi (AMK) on Setan seniorityön koordinaattori\, joka tarkastelee kouluttaa ja konsultoi työssään sukupuolen ja seksuaalisen suuntautumisen moninaisuudesta ikääntymisen näkökulmasta. Niinimäki on perehtynyt sateenkaarisensitiiviseen palveluasumiseen\, sateenkaariseniorien vertaistoimintaan ja vanhustyön kentän kehittämiseen sateenkaariseniorit huomioiden. \n \nTerhi Väisänen on koulutukseltaan perhe- ja paripsykoterapeutti sekä psykiatrian sairaanhoitaja. Työkokemusta ihmissuhde- ja perhetyöstä hänelle on kertynyt yli 20 vuotta\, viimeisimmäksi Sateenkaariparit-hankkeen asiantuntijana. Väisänen on työskennellyt pitkään myös päihteiden käyttäjien ja heidän läheistensä\, pitkäaikaissairaiden ja erityislasten vanhempien sekä erilaisissa elämänkriiseissä olevien ihmisten kanssa. Lisäksi erilaiset mielenterveyden ongelmat ovat tuttuja teemoja. Väisänen työskentelee Perhesuhdekeskuksen perhetyöntekijänä. \n \nSanna Metsäpuu FM\, opettaja\, aloitti 2016 Sateenkaariperheet ry:n koulutussuunnittelijana hankkeessa\, jossa perehdytettiin ammattilaisia kohtaamaan sateenkaariperheitä työssään. 2017 hän siirtyi Perhesuhdekeskuksen projektipäälliköksi. Perhesuhdekeskus on Sateenkaariperheet ry:n komivuotinen hanke\, jolla lisätään hyvinvointia sateenkaari-ihmisten ja heidän läheistensä perhesuhteisiin. \n \nSasu Mattila\, yhteisöpedagogi (AMK) ja nuoriso- ja vapaa-ajan ohjaaja on työskennellyt lastensuojelussa ja erityistä tukea tarvitsevien nuorten sekä nuorten mielenterveyskuntoutujien parissa. Mattila työskentelee Transtukipisteen yhteisöpedagogina. \n 
URL:https://seta.fi/tapahtumat/ammattilaiskoulutuspaiva2018/
CATEGORIES:Koulutukset,Setan tapahtuma
ATTACH;FMTTYPE=image/png:https://seta.fi/wp-content/uploads/2018/05/Sateenkaarevat-perhe-ja-läheissuhteet-koulutuspäivän-ammattilaisille-24.10.2018-1.png
END:VEVENT
END:VCALENDAR