BEGIN:VCALENDAR
VERSION:2.0
PRODID:-//Seta ry - ECPv6.15.17.1//NONSGML v1.0//EN
CALSCALE:GREGORIAN
METHOD:PUBLISH
X-WR-CALNAME:Seta ry
X-ORIGINAL-URL:https://seta.fi
X-WR-CALDESC:Tapahtumat Seta ry
REFRESH-INTERVAL;VALUE=DURATION:PT1H
X-Robots-Tag:noindex
X-PUBLISHED-TTL:PT1H
BEGIN:VTIMEZONE
TZID:Europe/Helsinki
BEGIN:DAYLIGHT
TZOFFSETFROM:+0200
TZOFFSETTO:+0300
TZNAME:EEST
DTSTART:20220327T010000
END:DAYLIGHT
BEGIN:STANDARD
TZOFFSETFROM:+0300
TZOFFSETTO:+0200
TZNAME:EET
DTSTART:20221030T010000
END:STANDARD
BEGIN:DAYLIGHT
TZOFFSETFROM:+0200
TZOFFSETTO:+0300
TZNAME:EEST
DTSTART:20230326T010000
END:DAYLIGHT
BEGIN:STANDARD
TZOFFSETFROM:+0300
TZOFFSETTO:+0200
TZNAME:EET
DTSTART:20231029T010000
END:STANDARD
BEGIN:DAYLIGHT
TZOFFSETFROM:+0200
TZOFFSETTO:+0300
TZNAME:EEST
DTSTART:20240331T010000
END:DAYLIGHT
BEGIN:STANDARD
TZOFFSETFROM:+0300
TZOFFSETTO:+0200
TZNAME:EET
DTSTART:20241027T010000
END:STANDARD
END:VTIMEZONE
BEGIN:VEVENT
DTSTART;TZID=Europe/Helsinki:20230426T170000
DTEND;TZID=Europe/Helsinki:20230426T193000
DTSTAMP:20260420T043044
CREATED:20221215T120911Z
LAST-MODIFIED:20230413T095127Z
UID:30971-1682528400-1682537400@seta.fi
SUMMARY:Setan koulutusiltapäivä 26.4.: "Sateenkaarinuorisotyötä\, meidän kunnassammeko?"
DESCRIPTION:Sateenkaarinuorille kotikunnan avoimeen nuorisotoimintaan osallistuminen voi olla monen kynnyksen takana. Kokonaan uuden työmuodon aloittamiseen taas voi olla haastavaa saada sen paremmin työaikaa kuin määrärahojakaan. Tutkimuksista kuitenkin tiedämme\, että sateenkaarinuoret kaipaavat elämäänsä tukevia kohtaamisia aikuisten kanssa ja turvallisempia tiloja\, joissa jokainen saa olla oma itsensä. Miten kunnan nuorisotyö voisi paremmin vastata tähän tarpeeseen? Koulutuksessa perehdytään sateenkaarinuorille suunnatun nuorisotyön lähtökohtiin. Mitä vaaditaan sateenkaarierityisen nuorisotyön käynnistämiseksi? Tarvitaanko oma sateenkaarityöntekijä? Miten luodaan turvallisempi tila? Miten tieto toiminnasta tavoittaa osallistujat?  \nKouluttajana toimii Setan nuorisotyön osallisuuden asiantuntija Teija Ryhtä. Lisäksi koulutuksessa kuullaan kokemuksia ja hyviä käytäntöjä ammattilaisilta\, jotka ovat olleet käynnistämässä ja kehittämässä sateenkaaritoimintaa osana kunnan nuorisotyötä. Vierailevat puhujat vahvistetaan myöhemmin.  \n  \nIlmoittaudu tästä!
URL:https://seta.fi/tapahtumat/setan-koulutusiltapaiva-26-4-sateenkaarinuorisotyota-meidan-kunnassammeko/
CATEGORIES:Koulutukset
ATTACH;FMTTYPE=image/png:https://seta.fi/wp-content/uploads/2022/12/KOI-kansikuvat-2022-9.png
END:VEVENT
END:VCALENDAR