BEGIN:VCALENDAR
VERSION:2.0
PRODID:-//Seta ry - ECPv6.15.17.1//NONSGML v1.0//EN
CALSCALE:GREGORIAN
METHOD:PUBLISH
X-ORIGINAL-URL:https://seta.fi
X-WR-CALDESC:Tapahtumat Seta ry
REFRESH-INTERVAL;VALUE=DURATION:PT1H
X-Robots-Tag:noindex
X-PUBLISHED-TTL:PT1H
BEGIN:VTIMEZONE
TZID:Europe/Helsinki
BEGIN:DAYLIGHT
TZOFFSETFROM:+0200
TZOFFSETTO:+0300
TZNAME:EEST
DTSTART:20220327T010000
END:DAYLIGHT
BEGIN:STANDARD
TZOFFSETFROM:+0300
TZOFFSETTO:+0200
TZNAME:EET
DTSTART:20221030T010000
END:STANDARD
BEGIN:DAYLIGHT
TZOFFSETFROM:+0200
TZOFFSETTO:+0300
TZNAME:EEST
DTSTART:20230326T010000
END:DAYLIGHT
BEGIN:STANDARD
TZOFFSETFROM:+0300
TZOFFSETTO:+0200
TZNAME:EET
DTSTART:20231029T010000
END:STANDARD
BEGIN:DAYLIGHT
TZOFFSETFROM:+0200
TZOFFSETTO:+0300
TZNAME:EEST
DTSTART:20240331T010000
END:DAYLIGHT
BEGIN:STANDARD
TZOFFSETFROM:+0300
TZOFFSETTO:+0200
TZNAME:EET
DTSTART:20241027T010000
END:STANDARD
END:VTIMEZONE
BEGIN:VEVENT
DTSTART;TZID=Europe/Helsinki:20230323T180000
DTEND;TZID=Europe/Helsinki:20230323T180000
DTSTAMP:20260420T061140
CREATED:20230303T123504Z
LAST-MODIFIED:20230310T153440Z
UID:31618-1679594400-1679594400@seta.fi
SUMMARY:Loiste kouluttaa 23.3.: Discord hyötykäyttöön
DESCRIPTION:Mikä ihme on nuorten sekä erityisesti videopelaajien suosima Discord -sovellus? Kuinka hyödyntää Discordia järjestön toiminnassa? Tule kuulemaan kokemuksia ja käytännön vinkkejä Setan verkkonuorisotalo Loisteelta! \n\nDiscord on maksuton selaimessa tai sovelluksella käytettävä keskustelualusta\, jolla voi lähettää tekstiä\, kuvia\, ääntä ja videota. Setan verkkonuorisotalo Loiste aloitti toimintansa Discordissa tammikuussa 2022. Vuoden ajan Loisteen Discordissa on tehty verkkonuorisotyötä sekä tarjottu oma turvallisempi vertaisyhteisö nuorille. Loisteen Discordissa ohjaajina toimivat sekä ammattilaiset että tehtäväänsä koulutetut vapaaehtoiset. Nuorten kohtaamisen sekä nuorisotyön lisäksi Discord voi mahdollistaa järjestölle paljon muuta: esimerkiksi keskustelualustan aktiiveille\, kokouspaikan ja tiedon jakokanavan. \nKouluttajina tilaisuudessa toimivat Setan Hyvinvointia ja toimintakykyä sateenkaarinuorille -hankkeen verkkonuorisotyön ammattilaiset nuorisotyöntekijä Eevi Harju (sosionomi AMK\, seksuaalineuvoja) sekä hankepäällikkö Sanna Immonen (yhteisöpedagogi YAMK). \nKoulutuksen kesto 1\,5h (sis. lyhyen tauon). \nIlmoittaudu mukaan viimeistään su 19.3.2023 täällä:\nFloMembers – Discord hyötykäyttöön
URL:https://seta.fi/tapahtumat/verkkonuorisotalo-loiste-kouluttaa-22-3-discord-hyotykayttoon/
CATEGORIES:Koulutukset
ATTACH;FMTTYPE=image/png:https://seta.fi/wp-content/uploads/2023/03/1.png
END:VEVENT
END:VCALENDAR