BEGIN:VCALENDAR
VERSION:2.0
PRODID:-//Seta ry - ECPv6.15.17.1//NONSGML v1.0//EN
CALSCALE:GREGORIAN
METHOD:PUBLISH
X-WR-CALNAME:Seta ry
X-ORIGINAL-URL:https://seta.fi
X-WR-CALDESC:Tapahtumat Seta ry
REFRESH-INTERVAL;VALUE=DURATION:PT1H
X-Robots-Tag:noindex
X-PUBLISHED-TTL:PT1H
BEGIN:VTIMEZONE
TZID:Europe/Helsinki
BEGIN:DAYLIGHT
TZOFFSETFROM:+0200
TZOFFSETTO:+0300
TZNAME:EEST
DTSTART:20210328T010000
END:DAYLIGHT
BEGIN:STANDARD
TZOFFSETFROM:+0300
TZOFFSETTO:+0200
TZNAME:EET
DTSTART:20211031T010000
END:STANDARD
BEGIN:DAYLIGHT
TZOFFSETFROM:+0200
TZOFFSETTO:+0300
TZNAME:EEST
DTSTART:20220327T010000
END:DAYLIGHT
BEGIN:STANDARD
TZOFFSETFROM:+0300
TZOFFSETTO:+0200
TZNAME:EET
DTSTART:20221030T010000
END:STANDARD
BEGIN:DAYLIGHT
TZOFFSETFROM:+0200
TZOFFSETTO:+0300
TZNAME:EEST
DTSTART:20230326T010000
END:DAYLIGHT
BEGIN:STANDARD
TZOFFSETFROM:+0300
TZOFFSETTO:+0200
TZNAME:EET
DTSTART:20231029T010000
END:STANDARD
END:VTIMEZONE
BEGIN:VEVENT
DTSTART;TZID=Europe/Helsinki:20220701T180000
DTEND;TZID=Europe/Helsinki:20220701T200000
DTSTAMP:20260423T031928
CREATED:20220614T102236Z
LAST-MODIFIED:20220614T102237Z
UID:28111-1656698400-1656705600@seta.fi
SUMMARY:Nuorten pride-piknik
DESCRIPTION:Vuoden Priden teema on kohtaamisia. Olemmekin Setan nuorisotoimikunnassa halunneet järjestää kaikille sateenkaarinuorille mahdollisuuden kivoihin kohtaamisiin. Tule siis sateenkaarinuorille suunnattuun pikniktapahtumaan kanssamme! \nTarkoitus on nauttia priden tunnelmasta rennolla fiiliksellä muiden nuorten kanssa. Tarjolla on purtavaa ja rennon hengailun lomassa on mahdollisuus myös askarella itselleen banderolli lauantain pridekulkuetta varten! Lähdemme yhdessä 1.7. klo 18 Nuorten Pride Houselta kohti Roineen puistoa. Mukaan voi napata oman istumisalustan! Sään ollessa huono hengailu toteutetaan Nuorten Pride Housessa. \nTämä ohjelma on 13-25-vuotiaille.
URL:https://seta.fi/tapahtumat/nuorten-pride-piknik/
LOCATION:Roineen puisto\, Helsinki
CATEGORIES:Helsinki Pride,Setan tapahtuma
ATTACH;FMTTYPE=image/jpeg:https://seta.fi/wp-content/uploads/2021/12/seta-nuoret-1024x687-1.jpg
END:VEVENT
END:VCALENDAR