BEGIN:VCALENDAR
VERSION:2.0
PRODID:-//Seta ry - ECPv6.15.17.1//NONSGML v1.0//EN
CALSCALE:GREGORIAN
METHOD:PUBLISH
X-ORIGINAL-URL:https://seta.fi
X-WR-CALDESC:Tapahtumat Seta ry
REFRESH-INTERVAL;VALUE=DURATION:PT1H
X-Robots-Tag:noindex
X-PUBLISHED-TTL:PT1H
BEGIN:VTIMEZONE
TZID:Europe/Helsinki
BEGIN:DAYLIGHT
TZOFFSETFROM:+0200
TZOFFSETTO:+0300
TZNAME:EEST
DTSTART:20210328T010000
END:DAYLIGHT
BEGIN:STANDARD
TZOFFSETFROM:+0300
TZOFFSETTO:+0200
TZNAME:EET
DTSTART:20211031T010000
END:STANDARD
BEGIN:DAYLIGHT
TZOFFSETFROM:+0200
TZOFFSETTO:+0300
TZNAME:EEST
DTSTART:20220327T010000
END:DAYLIGHT
BEGIN:STANDARD
TZOFFSETFROM:+0300
TZOFFSETTO:+0200
TZNAME:EET
DTSTART:20221030T010000
END:STANDARD
BEGIN:DAYLIGHT
TZOFFSETFROM:+0200
TZOFFSETTO:+0300
TZNAME:EEST
DTSTART:20230326T010000
END:DAYLIGHT
BEGIN:STANDARD
TZOFFSETFROM:+0300
TZOFFSETTO:+0200
TZNAME:EET
DTSTART:20231029T010000
END:STANDARD
END:VTIMEZONE
BEGIN:VEVENT
DTSTART;TZID=Europe/Helsinki:20220518T170000
DTEND;TZID=Europe/Helsinki:20220518T200000
DTSTAMP:20260423T115158
CREATED:20211217T075433Z
LAST-MODIFIED:20220331T092417Z
UID:24825-1652893200-1652904000@seta.fi
SUMMARY:18.5.2022 Sateenkaarinuorten kohtaama seksuaalinen häirintä
DESCRIPTION:Setan koulutusiltapäivät ovat ammattilaisille ja opiskelijoille sekä sateenkaariteemoista kiinnostuneille suunnattuja koulutuksia\, joissa perehdytään ajankohtaisiin sukupuolen ja seksuaalisen suuntautumisen moninaisuutta käsitteleviin teemoihin. Koulutusiltapäivät järjestetään pääsääntöisesti keskiviikkoisin klo 17-20 etäyhteyden kautta. Yhden koulutuksen hinta on 25 euroa. Koulutuksiin ilmoittaudutaan lomakkein\, joiden linkit löytyvät kunkin koulutuksen sivulta. \nEtäosallistuminen toteutetaan Microsoft Teamsin avulla. Etäosallistujille lähetetään kutsu tilaisuuteen sähköpostilla ilmoittautumisajan päätyttyä. \nKoulutusiltapäivän 18.5.2022 teemana on sateenkaarinuorten kohtaama seksuaalinen häirintä. Kouluterveyskyselyn (THL 2019) mukaan sateenkaarinuoret kokevat huomattavasti useammin seksuaalista häirintää kuin enemmistöön kuuluvat nuoret. Tasa-arvolaissa seksuaalinen häirintä ja häirintä sukupuolen\, sukupuoli-identiteetin tai sukupuolen ilmaisun perusteella ovat syrjintää. Koulutuksessa tutustutaan tutkimustietoon sateenkaarinuorten kohtaamasta seksuaalisesta häirinnästä\, tuodaan esille syitä ilmiöön sekä analysoidaan työkaluja seksuaalisen häirinnän ennaltaehkäisyyn ja siihen puuttumiseen. \nKouluttajana toimii Setan nuorisotyön vaikuttamisen asiantuntija Lotte Telakivi. Hän on koulutukseltaan Master of Arts (sosiologia\, sosiaalipolitiikka ja Afrikan tutkimus). Telakiven erityisalaa ovat tasa-arvo\, ihmisoikeudet ja sateenkaariteemat. Hän on ollut mukana muun muassa Väkivallaton lapsuus –kansallisen toimenpideohjelman luomisessa\, Amnestyn Suomen osaston Joku raja! -työvaliokunnassa\, naisiin kohdistuvan väkivallan ja perheväkivallan torjunnan toimikunnan järjestötyöryhmässä sekä konsultoinut lapsiin kohdistuvan seksuaaliväkivallan vastaisen toimenpideohjelman sisällöstä.       \nILMOITTAUDU 18.5. KOULUTUKSEEN
URL:https://seta.fi/tapahtumat/18-5-2022-sateenkaarinuorten-kohtaama-seksuaalinen-hairinta/
LOCATION:Microsoft Teams
CATEGORIES:Koulutukset,Setan tapahtuma
ATTACH;FMTTYPE=image/png:https://seta.fi/wp-content/uploads/2021/12/KOI-kansikuvat-2022-2.png
END:VEVENT
END:VCALENDAR