BEGIN:VCALENDAR
VERSION:2.0
PRODID:-//Seta ry - ECPv6.15.17.1//NONSGML v1.0//EN
CALSCALE:GREGORIAN
METHOD:PUBLISH
X-WR-CALNAME:Seta ry
X-ORIGINAL-URL:https://seta.fi
X-WR-CALDESC:Tapahtumat Seta ry
REFRESH-INTERVAL;VALUE=DURATION:PT1H
X-Robots-Tag:noindex
X-PUBLISHED-TTL:PT1H
BEGIN:VTIMEZONE
TZID:Europe/Helsinki
BEGIN:DAYLIGHT
TZOFFSETFROM:+0200
TZOFFSETTO:+0300
TZNAME:EEST
DTSTART:20210328T010000
END:DAYLIGHT
BEGIN:STANDARD
TZOFFSETFROM:+0300
TZOFFSETTO:+0200
TZNAME:EET
DTSTART:20211031T010000
END:STANDARD
BEGIN:DAYLIGHT
TZOFFSETFROM:+0200
TZOFFSETTO:+0300
TZNAME:EEST
DTSTART:20220327T010000
END:DAYLIGHT
BEGIN:STANDARD
TZOFFSETFROM:+0300
TZOFFSETTO:+0200
TZNAME:EET
DTSTART:20221030T010000
END:STANDARD
BEGIN:DAYLIGHT
TZOFFSETFROM:+0200
TZOFFSETTO:+0300
TZNAME:EEST
DTSTART:20230326T010000
END:DAYLIGHT
BEGIN:STANDARD
TZOFFSETFROM:+0300
TZOFFSETTO:+0200
TZNAME:EET
DTSTART:20231029T010000
END:STANDARD
END:VTIMEZONE
BEGIN:VEVENT
DTSTART;TZID=Europe/Helsinki:20221203T100000
DTEND;TZID=Europe/Helsinki:20221203T143000
DTSTAMP:20260424T024228
CREATED:20221102T100123Z
LAST-MODIFIED:20221102T100123Z
UID:30403-1670061600-1670077800@seta.fi
SUMMARY:Pomppu-työpaja
DESCRIPTION:Palvelumuotoilu oppaana ja apuna\, eli Pomppu-työpaja la 3.12.22 klo 10.00–14.30.   \nTyöpajan järjestää Voi ja saa! Voimaa sateenkaarijärjestötoiminnasta -hanke.  \nKaatuvatko kaikki järjestöhommat yhden harteille? Kaipaatko aktiivitoiminnan hahmottamiseen helpotusta?  \nPomppu tarttuu järjestötoiminnan haasteisiin ja mahdollisuuksiin palvelumuotoilun keinoin. Pompussa pureudumme konkreettisesti havaittaviin ongelmiin\, kuten jäsenten tavoittamiseen ja sitouttamiseen\, sekä näkyvyyden lisäämiseen.  \nPalvelumuotoiluasiantuntijat Hanna Korpua ja Sofia Parada johdattavat meidät palvelumuotoilun työkalujen äärelle ja opastavat\, kuinka niitä voi hyödyntää järjestötoiminnassa ilmenevien pulmien ratkomisessa.  \nTutustu kouluttajiin:  \nSofia  \nParhaillaan Milanossa asuva teollisen muotoilun maisteriopiskelija Lapin yliopistosta. Kiinnostunut kansalaistoiminnan lähestyttävyyden sekä kestävämpien yhteiskuntarakenteiden kehittämisestä. “Pyrin luomaan ympärilleni eläväisiä ja elämistä sujuvoittavia detaljeita\, niin palvelu- kuin tuotemuotoilun maailmassa. Erityinen palo koskien roskaa sekä suhdettamme siihen”.  \nHanna  \nRovaniemeläinen palvelumuotoilun maisteriopiskelija ja lähes valmis yhteiskuntatieteiden maisteri. Suhtautuu intohimoisesti käyttäjäkokemuksen kehittämiseen\, tapahtuipa se asiakasrajapinnassa tai työyhteisön sisäisissä prosesseissa. Vahvuuksia ovat monialainen tausta\, suunnittelu- ja organisointitaidot sekä kyky innostua aidosti yhteiskehittämisestä.  \nLämpimästi tervetuloa Pomppu-pajaan!  \nTyöpaja toteutetaan Teams-yhteydellä.  \nIlmoittaudu täällä: FloMembers – Pomppu-työpaja\, Palvelumuotoilu oppaana ja apuna \n 
URL:https://seta.fi/tapahtumat/pomppu-tyopaja/
LOCATION:Microsoft Teams
CATEGORIES:Koulutukset
END:VEVENT
END:VCALENDAR