BEGIN:VCALENDAR
VERSION:2.0
PRODID:-//Seta ry - ECPv6.15.17.1//NONSGML v1.0//EN
CALSCALE:GREGORIAN
METHOD:PUBLISH
X-WR-CALNAME:Seta ry
X-ORIGINAL-URL:https://seta.fi
X-WR-CALDESC:Tapahtumat Seta ry
REFRESH-INTERVAL;VALUE=DURATION:PT1H
X-Robots-Tag:noindex
X-PUBLISHED-TTL:PT1H
BEGIN:VTIMEZONE
TZID:Europe/Helsinki
BEGIN:DAYLIGHT
TZOFFSETFROM:+0200
TZOFFSETTO:+0300
TZNAME:EEST
DTSTART:20170326T010000
END:DAYLIGHT
BEGIN:STANDARD
TZOFFSETFROM:+0300
TZOFFSETTO:+0200
TZNAME:EET
DTSTART:20171029T010000
END:STANDARD
BEGIN:DAYLIGHT
TZOFFSETFROM:+0200
TZOFFSETTO:+0300
TZNAME:EEST
DTSTART:20180325T010000
END:DAYLIGHT
BEGIN:STANDARD
TZOFFSETFROM:+0300
TZOFFSETTO:+0200
TZNAME:EET
DTSTART:20181028T010000
END:STANDARD
BEGIN:DAYLIGHT
TZOFFSETFROM:+0200
TZOFFSETTO:+0300
TZNAME:EEST
DTSTART:20190331T010000
END:DAYLIGHT
BEGIN:STANDARD
TZOFFSETFROM:+0300
TZOFFSETTO:+0200
TZNAME:EET
DTSTART:20191027T010000
END:STANDARD
END:VTIMEZONE
BEGIN:VEVENT
DTSTART;TZID=Europe/Helsinki:20180925T000000
DTEND;TZID=Europe/Helsinki:20181118T000000
DTSTAMP:20260425T140641
CREATED:20180926T073751Z
LAST-MODIFIED:20181010T121805Z
UID:12433-1537833600-1542499200@seta.fi
SUMMARY:Tilaa: Kaikki on katseessa -opastus ja keskustelutyöpaja\, Helsinki
DESCRIPTION:Opas Laura Porola kertoo yleisölle Alec Sothin näyttelystä syksyllä 2016. Kuva: Virve Laustela / Suomen valokuvataiteen museo.\nOsallistavan opastuksen aikana harjoittelemme katsomaan ja kysymään muun muassa sukupuolta\, toimijuutta sekä identiteettiä. Millä tavalla sinä katsot? Mistä omat näkökulmamme kumpuavat? Minkälaisia näkökulmia haluaisit oppia? \nTilaa ryhmällesi teemaopastus\, jossa tutkimme yhdessä Valokuvataiteen museon näyttelyitä tavoilla\, jotka haastavat normatiivisia käsityksiä maailmasta ja yhteiskunnasta. Osallistavan opastuksen aikana harjoittelemme katsomaan ja kysymään muun muassa sukupuolta\, toimijuutta sekä identiteettiä. Millä tavalla sinä katsot? Mistä omat näkökulmamme kumpuavat? Minkälaisia näkökulmia haluaisit oppia? Keskustelemme ryhmässä sekä teemme pieniä pohdintatehtäviä. Teemaopastuksen kokonaiskesto on 90 minuuttia. Opastus koostuu osallistavasta kierroksesta näyttelyssä (45min) sekä keskusteluosuudesta (45min). Teemaopastuksen vetävät museon kuvataidepedagogit Aapo Raudaskoski ja Jemina Lindholm\, jotka ovat erityisen kiinnostuneita pohtimaan queerfeminismiin ja kriittiseen vammaistutkimukseen liittyviä ilmiöitä. \nAikuisryhmille hinta: 26 €/hlö (ryhmän minimihinta 260 €). Hinta sisältää sisäänpääsyn\, teemaopastuksen näyttelyssä ja ohjatun keskustelutilaisuuden.\nKoululaisryhmille: 90 €\, la–su 140 €. Ikäsuositus: yläkoulu ja lukio Kesto: 90 min\, ryhmäkoko: max. 25 \nVaraus ja lisätiedot: workshop@fmp.fi\, p. 09-68663621 ti–pe klo 9–12. \nEsteetön sisäänpääsy\, esteetön WC\, ei induktiosilmukkaa. \n 
URL:https://seta.fi/tapahtumat/kaikki-on-katseessa-opastus-ja-keskustelutyopaja/
LOCATION:Valokuvataiteen museo\, Kaapelitehdas\, Tallbergonkatu 1 G\, 00180 Helsinki
CATEGORIES:Historiakuukausi
ATTACH;FMTTYPE=image/jpeg:https://seta.fi/wp-content/uploads/2018/09/mg_3586.jpg
END:VEVENT
BEGIN:VEVENT
DTSTART;VALUE=DATE:20181020
DTEND;VALUE=DATE:20181121
DTSTAMP:20260425T140641
CREATED:20181002T121430Z
LAST-MODIFIED:20181025T063251Z
UID:12953-1539993600-1542758399@seta.fi
SUMMARY:Aineen taidemuseo sateenkaaren väreissä\, Tornio
DESCRIPTION:Aineen taidemuseon kokoelmaan teoksia tutkitaan sateenkaarevin silmin taideleikin muodossa. Erityisesti sateenkaarihistoriakuukauden aikana taidemuseon tekemät taidepelikortit johdattelevat väreillään ja symboliikallaan moniarvoisuuteen kokoelmateoksia hyödyntäen.  Taideleikkiin kuuluu 11 erilaista pelikorttia\, joissa yhdistyvät Aineen taidemuseon kokoelmateokseen liittyvä yksityiskohtakuva. Kortin toisella puolella on kuvaus sukupuoli- tai seksuaalivähemmistöä kuvaavasta lipusta sekä sen merkityksestä. Teoskuvan värit ja lipun värit ovat samankaltaisia. Peliä voi pelata milloin vain. \nSisäänpääsymaksu 5 euroa. \nTaidemuseon parkkipaikalla on mahdollista esteettömään paikoitukseen\, sisätiloissa on käytettävissä asiakashissi\, jolla pääsy esteettömiin näyttelysaleihin sekä wc-tiloihin. \nTapahtuman verkkosivut: https://www.tornio.fi/kulttuuri-ja-vapaa-aika/aineen-taidemuseo/ajankohtaista/ \n 
URL:https://seta.fi/tapahtumat/aineen-taidemuseo-sateenkaaren-vareissa/
LOCATION:Aineen taidemuseo\, Torikatu 2\, 95400 Tornio
CATEGORIES:Historiakuukausi
ATTACH;FMTTYPE=image/jpeg:https://seta.fi/wp-content/uploads/2018/10/Kuva-e1540449157977.jpg
END:VEVENT
BEGIN:VEVENT
DTSTART;VALUE=DATE:20181026
DTEND;VALUE=DATE:20181117
DTSTAMP:20260425T140641
CREATED:20181029T122551Z
LAST-MODIFIED:20181105T122121Z
UID:13367-1540512000-1542412799@seta.fi
SUMMARY:Kalle Hammin Uudet ikonit -näyttely esillä Kulttuuria kaikille -palvelun tiloissa
DESCRIPTION:Kalle Hamm – Uudet ikonit\nKalle Hammin uusi teossarja (joita hän kutsuu ikoneiksi) on esillä Sateenkaarihistoriakuukauden ajan Kulttuuria kaikille -palvelun tiloissa. Hamm käyttää emoji-kieltä tarkastellakseen homoseksuaalisuuden\, sukupuoli-identiteetin ja kirkon instituutin välisiä suhteita. \nNäyttely on avoinna perjantaisin 26.10.-16.11.2018 klo 10-12 ja 13-16 \nNäyttely on maksuton. \nLue lisää esteettömyydestä: http://www.kulttuuriakaikille.fi/tietoa_meista_toimiston_saavutettavuus \n 
URL:https://seta.fi/tapahtumat/kalle-hammin-uudet-ikonit-nayttely-esilla-kulttuuria-kaikille-palvelun-tiloissa/
LOCATION:Kulttuuri kaikille –palvelun (Culture for all / Kultur för alla) tiloissa osoitteessa Tallberginkatu 1\, portaikko D\, 5. kerros\, Helsinki
CATEGORIES:Historiakuukausi
ATTACH;FMTTYPE=image/jpeg:https://seta.fi/wp-content/uploads/2018/10/Kalle_Hamm_new_icons.jpg
END:VEVENT
BEGIN:VEVENT
DTSTART;TZID=Europe/Helsinki:20181107T173000
DTEND;TZID=Europe/Helsinki:20181107T220000
DTSTAMP:20260425T140641
CREATED:20181107T093938Z
LAST-MODIFIED:20181107T093938Z
UID:13469-1541611800-1541628000@seta.fi
SUMMARY:Setan Sateenkaarihistoriaklubi
DESCRIPTION:Pimeneekö marraskuu ja uupuuko tälle illalle vielä mielekäs meno? \nSuomen ensimmäistä sateenkaarihistoriakuukautta juhlitaan tänään Setan järjestämällä Sateenkaarihistoriaklubilla klo 17:30-22:00 Kansallismuseon Ateljeeheessa (Mannerheimintie 34\, sisäänkäynti 2 A\, 2. kerros). Esteetön pääsy. Huom! Tilan koon vuoksi mukaan mahtuu ensimmäiset 70 ilmoittautunutta. Ilmoittaudu oheisen lomakkeen kautta: https://forms.office.com/Pages/ResponsePage.aspx?id=0ZOaI9b2kkeCpTya_UtZ0HkwaAGf9s9JmT-2ieh3mF9UMFFPMjFCTklXMlQ3MDQxUEpMTEhSUUdWMy4u \nTapahtuma on maksuton. \nJärjestäytynyt sateenkaaritoiminta Suomessa täyttää tänä vuonna pyöreät 50 vuotta ja Seta haluaa juhlistaa sitä sateenkaarihistoriaklubilla menneitä muistellen. Muistojen äärelle johdattelee kaksi keskustelua. Eduskunnan portaat -keskustelussa käydään läpi sateenkaariliikkeen saavuttamia voittoja ja vaikuttamistyötä eduskunnassa. Salaiset tilat -keskustelussa muistellaan sateenkaariliikkeelle merkityksellisiä kohtaamispaikkoja. Halutessasi voit kertoa omia muisteluita tilaisuuden open mic-osuudessa. \nTilaisuuden juontaa Mikko Silvennoinen ja sen kulku on seuraava: \n17:30 – aloitus\, alkumaljan hakeminen sekä ruuan haku\n17:50 – alkusanat\, Kerttu Tarjamo\, pääsihteeri\, Seta\n18:00 – keskustelu: Eduskunnan portaat.\nKeskustelemassa Jorma Hentilä\, Tiia Forström\, Tiina Kivinen\, Sakris Kupila ja Kerttu Tarjamo\n19:15-19:40 – tauko\n19:40-21:00 – keskustelu: Salaiset tilat. Keskustelemassa Janette Grönfors\, Jussi Nissinen\, Kati Mustola\, Antti Kauppinen\, Veli Hyvärinen ja Valo Inkinen\n21:00-22:00 – open mic\, jonka jälkeen päätössanat \nTilaisuus on luonteeltaan rento\, odotamme lämminhenkisiä kohtaamisia ja kiinnostavia keskusteluja\, emme tiukkaa pukukoodia. \nTilaisuudessa on tarjolla alkumaljat ja pientä purtavaa. \nTervetuloa!
URL:https://seta.fi/tapahtumat/setan-sateenkaarihistoriaklubi/
LOCATION:Kansallismuseo\, Mannerheimintie 34\, sisäänkäynti 2 A\, 2. kerros
CATEGORIES:Historiakuukausi
ATTACH;FMTTYPE=image/png:https://seta.fi/wp-content/uploads/2018/11/klubbii-e1550047920111.png
END:VEVENT
BEGIN:VEVENT
DTSTART;TZID=Europe/Helsinki:20181111T143000
DTEND;TZID=Europe/Helsinki:20181111T153000
DTSTAMP:20260425T140641
CREATED:20181002T120321Z
LAST-MODIFIED:20181010T122508Z
UID:12936-1541946600-1541950200@seta.fi
SUMMARY:Queer-opastus Taidekoti Kirpilän näyttelyyn\, Helsinki
DESCRIPTION:Kuva: Rauno Träskelin\, Naiset\nQueer-opastuksilla taidekokoelmamme teoksia tarkastellaan vinolla katseella\, heteronormatiivisten tulkintojen ulkopuolella. Taidekoti Kirpilän opas\, FM Karoliina Arola johdattelee kokoelman teosten pariin sateenkaarevin silmin. \nSisäänpääsy on maksuton. \nTila ei ole esteetön. Esteettömiä autopaikkoja ei ole tarjolla. Induktiosilmukkaa ei voi käyttää. \nTapahtuma sivuilla: https://taidekotikirpila.fi/tapahtuma/queer-opastus-4/?instance_id=27 \n 
URL:https://seta.fi/tapahtumat/queer-opastus-taidekoti-kirpilan-nayttelyyn/
LOCATION:Pohjoinen Hesperiankatu 7 6. krs / 6th floor 00260 Helsinki
CATEGORIES:Historiakuukausi
ATTACH;FMTTYPE=image/jpeg:https://seta.fi/wp-content/uploads/2018/10/naiset-1080x675.jpg
END:VEVENT
BEGIN:VEVENT
DTSTART;TZID=Europe/Helsinki:20181113T170000
DTEND;TZID=Europe/Helsinki:20181113T180000
DTSTAMP:20260425T140641
CREATED:20180926T082543Z
LAST-MODIFIED:20181010T122537Z
UID:12489-1542128400-1542132000@seta.fi
SUMMARY:Muumimukeja ja Jokapoika-paitoja: queer-opastus Designmuseon kokoelmanäyttelyyn\, Helsinki
DESCRIPTION:Oscar Ortiz-Nieminen on taidehistorioitsija\, joka on vetänyt queer-opastuksia museoissa vuodesta 2015.\nDesignmuseon kokoelmanäyttely Utopia nyt – kertomus suomalaisesta muotoilusta kertoo designin merkityksestä suomalaisen hyvinvointivaltion kehityksessä. Taidehistorioitsija Oscar Ortiz-Niemisen opastuksella tuuletetaan muotoilun tekijöitä ja tunnettuja tuotteita. Tarkastelemalla museoesineitä queer-linssien läpi paljastuu niistä yllättäviäkin puolia ja uusia merkityksiä. \nOscar Ortiz-Nieminen on taidehistorioitsija\, joka on vetänyt queer-opastuksia museoissa vuodesta 2015. Lisäksi hän on kouluttanut eri puolilla Suomea taidemuseoammattilaisia queer-teemojen saloihin. \nKierrokselle ilmoittautuminen avautuu 20.10.2018. \nMaksu: Museon sisäänpääsymaksu tai Museokortti. \nEsteetön sisäänpääsy\, esteetön WC.
URL:https://seta.fi/tapahtumat/muumimukeja-ja-jokapoika-paitoja-queer-opastus-designmuseon-kokoelmanayttelyyn/
LOCATION:Designmuseo\, Korkeavuorenkatu 23\, HELSINKI
CATEGORIES:Historiakuukausi
ATTACH;FMTTYPE=image/jpeg:https://seta.fi/wp-content/uploads/2018/09/Oscar.jpg
END:VEVENT
BEGIN:VEVENT
DTSTART;TZID=Europe/Helsinki:20181114T143000
DTEND;TZID=Europe/Helsinki:20181114T153000
DTSTAMP:20260425T140641
CREATED:20180925T131917Z
LAST-MODIFIED:20181029T104835Z
UID:12410-1542205800-1542209400@seta.fi
SUMMARY:Vinoja kohtaamisia kaupungissa  - queer-kierros Ateneumin näyttelyyn\, Helsinki
DESCRIPTION:Kuva: Olli Lyytikäinen: Nainen ja sateenkaari\, 1974. Kansallisgalleria / Ateneumin taidemuseo. Valokuva: Kansallisgalleria / Petri Virtanen\nAteneum tarjoaa queer-näkökulmaopastukset 27.10. klo 14.30 ja 14.11. klo 14.30 näyttelyynsä “Kohtaamisia kaupungissa – suomalaista taidetta 1900-luvulta” erityisesti tämän kuukauden aikana. \n1910-1980 -lukujen kaupunkielämä sai aikaan suuria muutoksia\, vapautumista ja uudenlaista moniäänisyyttä yhteiskunnassa ja arjessa. Queer-kierroksella tutkitaan identiteetin\, sukupuolien ja seksuaalisuuksien moninaisuutta ja esitystapoja sekä katsetta\, valtaa ja halua “Kohtaamisia kaupungissa” -näyttelyn esimerkkiteosten kautta. Näyttelysaleissa tapahtuvan kierroksen kesto on noin tunti. Oppaana FM Karoliina Arola. \nMaksu: Museon sisäänpääsymaksu\, tulosta paikkavaraus: https://holvi.com/shop/kansallisgalleria/\nAteneumissa on esteetön sisäänpääsy/kulkeminen ja inva-wc.
URL:https://seta.fi/tapahtumat/vinoja-kohtaamisia-kaupungissa-queer-kierros-nayttelyyn/
LOCATION:Ateneumin taidemuseo\, Kaivokatu 2\, 00100 Helsinki
CATEGORIES:Historiakuukausi
ATTACH;FMTTYPE=image/jpeg:https://seta.fi/wp-content/uploads/2018/09/4941-n-1997-104-720x961.jpg
END:VEVENT
BEGIN:VEVENT
DTSTART;TZID=Europe/Helsinki:20181114T160000
DTEND;TZID=Europe/Helsinki:20181114T180000
DTSTAMP:20260425T140641
CREATED:20181016T101645Z
LAST-MODIFIED:20181016T101645Z
UID:13244-1542211200-1542218400@seta.fi
SUMMARY:Nice Place -muisteluilta Tampereen työväen museo Werstaalla
DESCRIPTION:Ravintola Nice Place Tampereella.\nNice Place -muisteluilta on sukupuoli- ja seksuualivähemmistön historian keruuseen liittyvä tapahtuma. \nMuistatko Nice Place -ravintolan Tampereen keskustassa? Keräämme talteen ravintolaan liittyviä muistoja ja kokemuksia kaikille avoimessa muisteluillassa. Paikalle toivotaan niin ravintolan asiakkaita kuin henkilökuntaakin. Tilaisuudessa luetaan mm. ravintolan vieraskirjoja vuosien varrelta. Tilaisuus taltioidaan osallistujien suostumuksella. \nTilaisuus on maksuton. \nTilaan on esteetön sisäänpääsy ja tilassa on esteetön wc\, museon edessä on esteetön autopaikka ja tilaisuudessa voi käyttää induktiosilmukkaa.
URL:https://seta.fi/tapahtumat/nice-place-muisteluilta-tampereen-tyovaen-museolla/
LOCATION:Työväenmuseo Werstas\, Väinö Linnan aukio 8\, 33210 Tampere.
CATEGORIES:Historiakuukausi
ATTACH;FMTTYPE=image/jpeg:https://seta.fi/wp-content/uploads/2018/10/72955-e1550047722568.jpg
END:VEVENT
BEGIN:VEVENT
DTSTART;TZID=Europe/Helsinki:20181114T180000
DTEND;TZID=Europe/Helsinki:20181114T190000
DTSTAMP:20260425T140641
CREATED:20181101T111633Z
LAST-MODIFIED:20181101T113154Z
UID:13418-1542218400-1542222000@seta.fi
SUMMARY:Presidentti Halonen: Sateenkaari-ihmisten oikeudet ennen ja nyt
DESCRIPTION:Setan hallitus (pj. Tarja Halonen) lehtikuvassa vuonna 1980.\nPresidentti Tarja Halosella on pitkä perspektiivi seksuaali- ja sukupuolivähemmistöjen ihmisoikeuksien edistämiseen: hän on toiminut vuosina 1980-81 Seta ry:n puheenjohtajana\, ollut edistämässä työelämän laaja-alaista yhdenvertaisuutta ja tasa-arvoa jo työuransa alkuvaiheessa SAK:n lakimiehenä sekä pitänyt tasavertaisuuden tematiikkaa esillä halki pitkän poliittisen uransa. Hän alustaa näistä teemoista Tapiolan kirjastossa 14.11. Häntä ovat haastattelemassa Etelä-Tapiolan lukion oppilaat. Tilaisuudessa on mahdollisuus myös yleisökysymyksille. \nTilaisuus on maksuton. \nKulttuurikeskuksessa on esteetön wc. Induktiosilmukkaa ei valitettavasti ole.\nLisää tietoa esteettömyydestä: http://www.helmet.fi/fi-FI/Kirjastot_ja_palvelut/Tapiolan_kirjasto/Esteettomyys
URL:https://seta.fi/tapahtumat/presidentti-halonen-sateenkaari-ihmisten-oikeudet-ennen-ja-nyt/
LOCATION:Tapiolan kirjasto\, Kulttuuriaukio 2\, Espoo
CATEGORIES:Historiakuukausi
ATTACH;FMTTYPE=image/jpeg:https://seta.fi/wp-content/uploads/2018/11/seta80.jpg
END:VEVENT
BEGIN:VEVENT
DTSTART;VALUE=DATE:20181115
DTEND;VALUE=DATE:20181116
DTSTAMP:20260425T140641
CREATED:20181026T115500Z
LAST-MODIFIED:20181026T115500Z
UID:13345-1542240000-1542326399@seta.fi
SUMMARY:Helsingin kaupunginmuseon opastukset: Helsinkiä queeristi
DESCRIPTION:Kuva: Matti Honkavaara\, 1971. Miesporukka Kaisaniemen puistossa. Helsingin kaupunginmuseo.\nHaluatko tietää mitä Mäntymäellä tapahtui 1960-luvulla kevätiltaisin? Tai mikä oli kaupungin paras seksuaalivähemmistöjen iskuravintola? Tule mukaan opastetuille kierroksille menneisyyden Helsingin kaduille ja koteihin\, baareihin\, puistoihin ja pusikkoihin queer -näkökulmalla. Tutut paikat ja luutuneet käsitykset saavat uusia merkityksiä\, kun Helsingin kaupunginmuseon Valitut palat -näyttelyyn tutustutaan Sateenkaarihistoriakuukauden hengessä. Kokoontuminen museon ala-aulassa. \nOpastukset ovat maksuttomia ja Kaupunginmuseon tilat esteettömiä. \nOpastukset 15.11. klo: 16 ja 17.30 \n 
URL:https://seta.fi/tapahtumat/helsingin-kaupunginmuseon-opastukset-helsinkia-queeristi/
LOCATION:Helsingin kaupunginmuseo\, Aleksanterinkatu 16
CATEGORIES:Historiakuukausi
END:VEVENT
END:VCALENDAR