BEGIN:VCALENDAR
VERSION:2.0
PRODID:-//Seta ry - ECPv6.15.17.1//NONSGML v1.0//EN
CALSCALE:GREGORIAN
METHOD:PUBLISH
X-ORIGINAL-URL:https://seta.fi
X-WR-CALDESC:Tapahtumat Seta ry
REFRESH-INTERVAL;VALUE=DURATION:PT1H
X-Robots-Tag:noindex
X-PUBLISHED-TTL:PT1H
BEGIN:VTIMEZONE
TZID:Europe/Helsinki
BEGIN:DAYLIGHT
TZOFFSETFROM:+0200
TZOFFSETTO:+0300
TZNAME:EEST
DTSTART:20170326T010000
END:DAYLIGHT
BEGIN:STANDARD
TZOFFSETFROM:+0300
TZOFFSETTO:+0200
TZNAME:EET
DTSTART:20171029T010000
END:STANDARD
BEGIN:DAYLIGHT
TZOFFSETFROM:+0200
TZOFFSETTO:+0300
TZNAME:EEST
DTSTART:20180325T010000
END:DAYLIGHT
BEGIN:STANDARD
TZOFFSETFROM:+0300
TZOFFSETTO:+0200
TZNAME:EET
DTSTART:20181028T010000
END:STANDARD
BEGIN:DAYLIGHT
TZOFFSETFROM:+0200
TZOFFSETTO:+0300
TZNAME:EEST
DTSTART:20190331T010000
END:DAYLIGHT
BEGIN:STANDARD
TZOFFSETFROM:+0300
TZOFFSETTO:+0200
TZNAME:EET
DTSTART:20191027T010000
END:STANDARD
END:VTIMEZONE
BEGIN:VEVENT
DTSTART;TZID=Europe/Helsinki:20180925T000000
DTEND;TZID=Europe/Helsinki:20181118T000000
DTSTAMP:20260425T160254
CREATED:20180926T073751Z
LAST-MODIFIED:20181010T121805Z
UID:12433-1537833600-1542499200@seta.fi
SUMMARY:Tilaa: Kaikki on katseessa -opastus ja keskustelutyöpaja\, Helsinki
DESCRIPTION:Opas Laura Porola kertoo yleisölle Alec Sothin näyttelystä syksyllä 2016. Kuva: Virve Laustela / Suomen valokuvataiteen museo.\nOsallistavan opastuksen aikana harjoittelemme katsomaan ja kysymään muun muassa sukupuolta\, toimijuutta sekä identiteettiä. Millä tavalla sinä katsot? Mistä omat näkökulmamme kumpuavat? Minkälaisia näkökulmia haluaisit oppia? \nTilaa ryhmällesi teemaopastus\, jossa tutkimme yhdessä Valokuvataiteen museon näyttelyitä tavoilla\, jotka haastavat normatiivisia käsityksiä maailmasta ja yhteiskunnasta. Osallistavan opastuksen aikana harjoittelemme katsomaan ja kysymään muun muassa sukupuolta\, toimijuutta sekä identiteettiä. Millä tavalla sinä katsot? Mistä omat näkökulmamme kumpuavat? Minkälaisia näkökulmia haluaisit oppia? Keskustelemme ryhmässä sekä teemme pieniä pohdintatehtäviä. Teemaopastuksen kokonaiskesto on 90 minuuttia. Opastus koostuu osallistavasta kierroksesta näyttelyssä (45min) sekä keskusteluosuudesta (45min). Teemaopastuksen vetävät museon kuvataidepedagogit Aapo Raudaskoski ja Jemina Lindholm\, jotka ovat erityisen kiinnostuneita pohtimaan queerfeminismiin ja kriittiseen vammaistutkimukseen liittyviä ilmiöitä. \nAikuisryhmille hinta: 26 €/hlö (ryhmän minimihinta 260 €). Hinta sisältää sisäänpääsyn\, teemaopastuksen näyttelyssä ja ohjatun keskustelutilaisuuden.\nKoululaisryhmille: 90 €\, la–su 140 €. Ikäsuositus: yläkoulu ja lukio Kesto: 90 min\, ryhmäkoko: max. 25 \nVaraus ja lisätiedot: workshop@fmp.fi\, p. 09-68663621 ti–pe klo 9–12. \nEsteetön sisäänpääsy\, esteetön WC\, ei induktiosilmukkaa. \n 
URL:https://seta.fi/tapahtumat/kaikki-on-katseessa-opastus-ja-keskustelutyopaja/
LOCATION:Valokuvataiteen museo\, Kaapelitehdas\, Tallbergonkatu 1 G\, 00180 Helsinki
CATEGORIES:Historiakuukausi
ATTACH;FMTTYPE=image/jpeg:https://seta.fi/wp-content/uploads/2018/09/mg_3586.jpg
END:VEVENT
END:VCALENDAR