BEGIN:VCALENDAR
VERSION:2.0
PRODID:-//Seta ry - ECPv6.15.17.1//NONSGML v1.0//EN
CALSCALE:GREGORIAN
METHOD:PUBLISH
X-WR-CALNAME:Seta ry
X-ORIGINAL-URL:https://seta.fi
X-WR-CALDESC:Tapahtumat Seta ry
REFRESH-INTERVAL;VALUE=DURATION:PT1H
X-Robots-Tag:noindex
X-PUBLISHED-TTL:PT1H
BEGIN:VTIMEZONE
TZID:Europe/Helsinki
BEGIN:DAYLIGHT
TZOFFSETFROM:+0200
TZOFFSETTO:+0300
TZNAME:EEST
DTSTART:20210328T010000
END:DAYLIGHT
BEGIN:STANDARD
TZOFFSETFROM:+0300
TZOFFSETTO:+0200
TZNAME:EET
DTSTART:20211031T010000
END:STANDARD
BEGIN:DAYLIGHT
TZOFFSETFROM:+0200
TZOFFSETTO:+0300
TZNAME:EEST
DTSTART:20220327T010000
END:DAYLIGHT
BEGIN:STANDARD
TZOFFSETFROM:+0300
TZOFFSETTO:+0200
TZNAME:EET
DTSTART:20221030T010000
END:STANDARD
BEGIN:DAYLIGHT
TZOFFSETFROM:+0200
TZOFFSETTO:+0300
TZNAME:EEST
DTSTART:20230326T010000
END:DAYLIGHT
BEGIN:STANDARD
TZOFFSETFROM:+0300
TZOFFSETTO:+0200
TZNAME:EET
DTSTART:20231029T010000
END:STANDARD
END:VTIMEZONE
BEGIN:VEVENT
DTSTART;TZID=Europe/Helsinki:20220923T080000
DTEND;TZID=Europe/Helsinki:20220925T170000
DTSTAMP:20260424T063956
CREATED:20220401T093321Z
LAST-MODIFIED:20220608T102020Z
UID:26416-1663920000-1664125200@seta.fi
SUMMARY:Ryhmänohjaajakoulutus järjestetään 23.-25.9.2022
DESCRIPTION:Syyskuussa on jälleen mahdollisuus osallistua ryhmänohjaajakoulutuksen perusosaan! Pyrimme järjestämään koulutuksen lähitoteutuksena Helsingissä. Seuraamme koronatilannetta ja viranomaisohjeita\, ja olemme varautuneet siirtymään etätoteutukseen lyhyelläkin varoitusajalla. Jos koulutus järjestetään etäyhteyksin\, on ensimmäinen etätapaaminen jo perjantai-iltana 23.9. \nToivomme koulutukseen ryhmänohjaajiksi haluavia osallistujia eri puolilta Suomea. Haussa on etua siitä\, että on jo jollakin tavalla mukana Setan jäsenjärjestön toiminnassa. Olethan siis rohkeasti yhteydessä lähimpään jäsenjärjestöösi\, jos ryhmän ohjaaminen kiinnostaa! Perusosaan kannustetaan osallistumaan myös jo ryhmänohjaajina toimivia henkilöitä\, jotka eivät ole aiemmin osallistuneet Setan koulutukseen. Kouluttajina toimivat Setan ja Sateenkaari-ihmisten Perhesuhdekeskuksen asiantuntijat. \nRyhmänohjaajakoulutuksen perusosaan haetaan hakulomakkeella 14.8. mennessä. Mukaan valitaan enimmillään 20 osallistujaa. Tieto koulutukseen pääsystä ilmoitetaan kaikille hakijoille viikolla 34.  \nMissä? Helsinki\, tarkempi paikka selviää myöhemmin\nMilloin? Lauantaina 24.9. klo 10–18 ja sunnuntaina 25.9. klo 9–16. Etätoteutusvaihtoehdossa lisäksi perjantaina 23.9. klo 18–20. \nKenelle? Ryhmänohjaaviksi haluaville sekä ryhmää jo ohjaaville\, jotka eivät ole osallistuneet koulutukseen aiemmin.\nMiten haen? Ilmoittaudu tästä sunnuntaihin 14.8. klo 23:45 mennessä!\nMilloin saan tiedon valinnasta? Viikolla 34 (viimeistään pe 26.8.) \nJos koulutus järjestetään Helsingissä: Koulutus järjestetään lauantaina alustavasti klo 10–18 ja sunnuntaina alustavasti klo 9–16. Osallistujien matkakulut korvataan ja majoitus järjestetään Setalta saatavien ohjeiden mukaisesti. Tarkemmat ohjeet matkalippujen varaamisesta ja muista käytännön järjestelyistä lähetetään koulutukseen valituille. Varmistathan kuitenkin jo koulutukseen hakiessasi\, että sinun on mahdollista matkustaa Helsinkiin koulutuksen aikataulujen mukaisesti. Kannustamme matkustamaan julkisilla kulkuvälineillä\, mikäli mahdollista. Oman auton käytöstä ja kilometrikorvauksista sovittava erikseen etukäteen. Pitkämatkalaisten on mahdollista sopia saapumisesta Helsinkiin jo perjantai-iltana. Osallistujien odotetaan osallistuvan koulutukseen molempina päivinä. Tarkemmat aikataulut lähetetään koulutukseen valituille.  \nJos koulutus järjestetään etäyhteyksin: Koulutusalustana käytetään Zoomia. Koulutus koostuu 1–2 h mittaisista eri aiheisista osioista\, joita järjestetään perjantai-iltana alustavasti klo 18–20 sekä lauantaina ja sunnuntaina alustavasti klo 10–17 välillä. Osioihin sisältyy pienryhmätyöskentelyä ja taukoja. Osioiden välillä pidetään taukoja ja hyödynnetään myös itsenäistä työskentelyä. Osallistujien odotetaan osallistuvan kaikkiin osioihin. Tarkemmat aikataulut lähetetään koulutukseen valituille.  \nLisätiedot:\nTeija Ryhtä\nnuorisotyön osallisuuden asiantuntija\nteija.ryhta@seta.fi\npuh/WA 050 505 5234 \nTietoa Setan ryhmänohjaajakoulutuksesta \nSeta ja sen jäsenjärjestöt aloittivat yhteistyössä uuden ryhmänohjaajakoulutuksen järjestämisen keväällä 2018. Tarjoamme jäsenjärjestöissä toimiville vapaaehtoisille ohjaajille mahdollisuuksia oman osaamisen kehittämiseen. Sen lisäksi meille on tärkeää varmistaa ryhmätoiminnan laatu ja turvallisuus.  \nRyhmänohjaajakoulutuksen perusosassa kartutetaan ryhmän ohjaamisen perustaitoja perehtymällä mm. omaan rooliin ryhmänohjaajana\, vuorovaikutustaitoihin\, ryhmädynamiikkaan ja ryhmän turvallisuuteen. Perusosasta saa hyviä perusvalmiuksia ohjaamiseen riippumatta siitä\, millaista ryhmää tai toimintaa haluaisi ohjata Setan jäsenjärjestöissä tai Sukupuolen moninaisuuden osaamiskeskuksessa.  \nKoulutuksen käyminen ei automaattisesti takaa sitä\, että pääsee ohjaamaan ryhmää. Ryhmän ohjaamisen aloittamisesta keskustellaan aina kouluttajien ja Setan jäsenjärjestön vastuuhenkilöiden kanssa. 
URL:https://seta.fi/tapahtumat/ryhmanohjaajakoulutus-jarjestetaan-23-25-9-2022/
CATEGORIES:Koulutukset,Setan tapahtuma
ATTACH;FMTTYPE=image/png:https://seta.fi/wp-content/uploads/2022/04/ryhmanohjaajakoulutus.png
END:VEVENT
END:VCALENDAR