BEGIN:VCALENDAR
VERSION:2.0
PRODID:-//Seta ry - ECPv6.15.17.1//NONSGML v1.0//EN
CALSCALE:GREGORIAN
METHOD:PUBLISH
X-ORIGINAL-URL:https://seta.fi
X-WR-CALDESC:Tapahtumat Seta ry
REFRESH-INTERVAL;VALUE=DURATION:PT1H
X-Robots-Tag:noindex
X-PUBLISHED-TTL:PT1H
BEGIN:VTIMEZONE
TZID:Europe/Helsinki
BEGIN:DAYLIGHT
TZOFFSETFROM:+0200
TZOFFSETTO:+0300
TZNAME:EEST
DTSTART:20200329T010000
END:DAYLIGHT
BEGIN:STANDARD
TZOFFSETFROM:+0300
TZOFFSETTO:+0200
TZNAME:EET
DTSTART:20201025T010000
END:STANDARD
BEGIN:DAYLIGHT
TZOFFSETFROM:+0200
TZOFFSETTO:+0300
TZNAME:EEST
DTSTART:20210328T010000
END:DAYLIGHT
BEGIN:STANDARD
TZOFFSETFROM:+0300
TZOFFSETTO:+0200
TZNAME:EET
DTSTART:20211031T010000
END:STANDARD
BEGIN:DAYLIGHT
TZOFFSETFROM:+0200
TZOFFSETTO:+0300
TZNAME:EEST
DTSTART:20220327T010000
END:DAYLIGHT
BEGIN:STANDARD
TZOFFSETFROM:+0300
TZOFFSETTO:+0200
TZNAME:EET
DTSTART:20221030T010000
END:STANDARD
END:VTIMEZONE
BEGIN:VEVENT
DTSTART;VALUE=DATE:20210917
DTEND;VALUE=DATE:20210920
DTSTAMP:20260425T164343
CREATED:20210531T105512Z
LAST-MODIFIED:20210531T105539Z
UID:20899-1631836800-1632095999@seta.fi
SUMMARY:Ryhmänohjaajakoulutuksen perusosa
DESCRIPTION:Seta järjestää ryhmänohjaajien koulutuksen perusosan 17.–19.9.2021. Haku päättyy 8.8.2021.  \nPitkän koronatauon jälkeen on vihdoin mahdollisuus jälleen osallistua ryhmänohjaajakoulutuksen perusosaan! Vielä emme valitettavasti osaa sanoa\, onko syyskuussa mahdollista tavata kasvokkain vai järjestämmekö koulutuksen etäyhteyksin. Seuraamme koronatilannetta ja viranomaisohjeita ja teemme päätöksen koulutuksen järjestämistavasta elokuussa. Ilmoittautumislomakkeella voit valita\, onko sinun mahdollista osallistua kumpaan tahansa toteutumisvaihtoehtoon vai esimerkiksi vain etätoteutukseen. \nToivomme mukaan vertaisryhmänohjaajiksi haluavia osallistujia eri puolilta Suomea. Etusijalla ovat hakijat\, jotka ovat jo jollakin tavalla mukana Setan jäsenjärjestön toiminnassa. Olethan siis rohkeasti yhteydessä paikalliseen jäsenjärjestöösi\, jos vertaisryhmän ohjaaminen kiinnostaa! Perusosaan kannustetaan osallistumaan myös jo ryhmänohjaajina toimivia henkilöitä\, jotka eivät ole aiemmin osallistuneet tähän koulutukseen. \nRyhmänohjaajakoulutuksen perusosaan haetaan hakulomakkeella 8.8. mennessä täällä. \nMukaan valitaan noin 20 osallistujaa. Tieto koulutukseen pääsystä ilmoitetaan kaikille hakijoille viimeistään perjantaina 20.8. \nKoulutus on osallistujille maksuton. Kouluttajina toimivat Setan ja Perhesuhdekeskuksen asiantuntijat. \nJos koulutus järjestetään etäyhteyksin: Koulutusalustana käytetään Zoomia. Koulutus koostuu 1–2 h mittaisista eri aiheisista osioista\, joita järjestetään perjantai-iltana alustavasti klo 18–20 sekä lauantaina ja sunnuntaina alustavasti klo 10–17 välillä. Osioihin sisältyy pienryhmätyöskentelyä ja taukoja. Osioiden välillä pidetään taukoja ja hyödynnetään myös itsenäistä työskentelyä. Osallistujien odotetaan osallistuvan kaikkiin osioihin. Tarkemmat aikataulut lähetetään koulutuksiin valituille. \nJos koulutus järjestetään Helsingissä: Koulutus järjestetään lauantaina alustavasti klo 10–18 ja sunnuntaina alustavasti klo 9–16. Osallistujien matkakulut korvataan ja majoitus järjestetään Setalta saatavien ohjeiden mukaisesti. Tarkemmat ohjeet matkalippujen varaamisesta ja muista käytännön järjestelyistä lähetetään koulutukseen valituille. Varmistathan kuitenkin jo koulutukseen hakiessasi\, että sinun on mahdollista kulkea jollakin julkisella liikennevälineellä Helsinkiin koulutuksen aikataulujen mukaisesti. Pitkämatkalaisten on mahdollista sopia saapumisesta Helsinkiin jo perjantai-iltana. Koulutukseen tulee osallistua molempina päivinä.  \n\nMissä? Helsingissä tai Zoomin välityksellä \nMilloin? Perjantaista sunnuntaihin\nKenelle? Ryhmänohjaaviksi haluaville sekä ryhmää jo ohjaaville\, jotka eivät ole osallistuneet koulutukseen aiemmin.\nMiten haen? Täytä tämä lomake viimeistään sunnuntaina 8.8. klo 24 mennessä!\nMilloin saan tiedon valinnasta? Viikolla 33 (viimeistään perjantaina 20.8.) \n\nLisätietoja koulutuksesta antaa:\nTeija Ryhtä\nteija.ryhta@seta.fi\npuh./WA 050 505 5234\nHUOM! Kesälomalla 5.7.–1.8. \nSetan ryhmänohjaajakoulutus\nSeta ja sen jäsenjärjestöt aloittivat yhteistyössä uuden ryhmänohjaajakoulutuksen järjestämisen keväällä 2018. Tarjoamme vapaaehtoisille ohjaajille mahdollisuuden oman osaamisen kehittämiseen. Sen lisäksi meille on tärkeää varmistaa ryhmätoiminnan laatu ja turvallisuus.   \nRyhmänohjaajakoulutuksen perusosassa kartutetaan ryhmän ohjaamisen perustaitoja perehtymällä mm. omaan rooliin ryhmänohjaajana\, vuorovaikutustaitoihin\, ryhmädynamiikkaan ja ryhmän turvallisuuteen. Perusosasta saa hyviä perusvalmiuksia ohjaamiseen riippumatta siitä\, millaista ryhmää tai toimintaa haluaisi ohjata Setan jäsenjärjestöissä tai Sukupuolen moninaisuuden osaamiskeskuksessa. Perusosia järjestetään vuosittain kaksi: keväisin Helsingissä ja syksyisin jonkin jäsenjärjestön kotipaikkakunnalla.  \nKeväällä 2021 on järjestetty etäyhteyksin lyhyitä täydennyskoulutuksia eri teemoista. Aiempina vuosina on järjestetty jatko-osia mm. nuorten ryhmien sekä trans- ja läheisryhmien erityiskysymyksiin keskittyen. \nKoulutuksen käyminen ei automaattisesti takaa sitä\, että pääsee ohjaamaan ryhmää. Ryhmän ohjaamisen aloittamisesta keskustellaan aina kouluttajien ja Setan jäsenjärjestön vastuuhenkilöiden kanssa.
URL:https://seta.fi/tapahtumat/ryhmanohjaajakoulutuksen-perusosa-2/
CATEGORIES:Koulutukset,Setan tapahtuma
ATTACH;FMTTYPE=image/png:https://seta.fi/wp-content/uploads/2021/05/Ryhmanohjaajakoulutukset-2021.png
END:VEVENT
END:VCALENDAR