BEGIN:VCALENDAR
VERSION:2.0
PRODID:-//Seta ry - ECPv6.15.17.1//NONSGML v1.0//EN
CALSCALE:GREGORIAN
METHOD:PUBLISH
X-WR-CALNAME:Seta ry
X-ORIGINAL-URL:https://seta.fi
X-WR-CALDESC:Tapahtumat Seta ry
REFRESH-INTERVAL;VALUE=DURATION:PT1H
X-Robots-Tag:noindex
X-PUBLISHED-TTL:PT1H
BEGIN:VTIMEZONE
TZID:Europe/Helsinki
BEGIN:DAYLIGHT
TZOFFSETFROM:+0200
TZOFFSETTO:+0300
TZNAME:EEST
DTSTART:20220327T010000
END:DAYLIGHT
BEGIN:STANDARD
TZOFFSETFROM:+0300
TZOFFSETTO:+0200
TZNAME:EET
DTSTART:20221030T010000
END:STANDARD
BEGIN:DAYLIGHT
TZOFFSETFROM:+0200
TZOFFSETTO:+0300
TZNAME:EEST
DTSTART:20230326T010000
END:DAYLIGHT
BEGIN:STANDARD
TZOFFSETFROM:+0300
TZOFFSETTO:+0200
TZNAME:EET
DTSTART:20231029T010000
END:STANDARD
BEGIN:DAYLIGHT
TZOFFSETFROM:+0200
TZOFFSETTO:+0300
TZNAME:EEST
DTSTART:20240331T010000
END:DAYLIGHT
BEGIN:STANDARD
TZOFFSETFROM:+0300
TZOFFSETTO:+0200
TZNAME:EET
DTSTART:20241027T010000
END:STANDARD
END:VTIMEZONE
BEGIN:VEVENT
DTSTART;TZID=Europe/Helsinki:20230531T170000
DTEND;TZID=Europe/Helsinki:20230531T190000
DTSTAMP:20260420T082329
CREATED:20221215T121232Z
LAST-MODIFIED:20221215T121509Z
UID:30976-1685552400-1685559600@seta.fi
SUMMARY:Setan koulutusiltapäivä 31.5.: Näin huomioit Pride-kuukauden viestinnässä ja toiminnassa
DESCRIPTION:Kesäkuu on kansainvälinen sateenkaari-ihmisten kulttuuria ja oikeuksia esiin nostava pride-kuukausi. Kuukauden aikana erilaiset organisaatiot\, kuten kunnat palveluineen\, yhdistykset ja yritykset ottavat esiin sateenkaaren värit viestinnässään ja ulostuloissaan. Sateenkaarilipun liehuttamisen mukana kulkee myös vastuu sateenkaariyhteisölle – liittolainen tulisi olla vuoden ympäri eikä vain kerran vuodessa. Koulutus vastaa seuraaviin kysymyksiin:   \n\nMiten kansainvälinen pride-kuukausi kannattaa huomioida organisaation viestinnässä? \nMiten toimia sateenkaarioikeuksien ja -näkyvyyden edistämiseksi ympäri vuoden? \nMillaisia toimintamuotoja\, tapahtumia ja ulostuloja organisaatiot voivat tehdä? \nMiten olla hyvä liittolainen ja välttää pinkkipesu? \n\nKouluttajana toimii Setan viestinnän asiantuntija\, medianomi (YAMK) Eliisa Alatalo.  \n  \nIlmoittaudu täällä!
URL:https://seta.fi/tapahtumat/setan-koulutusiltapaiva-31-5-nain-huomioit-pride-kuukauden-viestinnassa-ja-toiminnassa/
ATTACH;FMTTYPE=image/png:https://seta.fi/wp-content/uploads/2022/12/1.png
END:VEVENT
END:VCALENDAR