BEGIN:VCALENDAR
VERSION:2.0
PRODID:-//Seta ry - ECPv6.15.17.1//NONSGML v1.0//EN
CALSCALE:GREGORIAN
METHOD:PUBLISH
X-ORIGINAL-URL:https://seta.fi
X-WR-CALDESC:Tapahtumat Seta ry
REFRESH-INTERVAL;VALUE=DURATION:PT1H
X-Robots-Tag:noindex
X-PUBLISHED-TTL:PT1H
BEGIN:VTIMEZONE
TZID:Europe/Helsinki
BEGIN:DAYLIGHT
TZOFFSETFROM:+0200
TZOFFSETTO:+0300
TZNAME:EEST
DTSTART:20180325T010000
END:DAYLIGHT
BEGIN:STANDARD
TZOFFSETFROM:+0300
TZOFFSETTO:+0200
TZNAME:EET
DTSTART:20181028T010000
END:STANDARD
BEGIN:DAYLIGHT
TZOFFSETFROM:+0200
TZOFFSETTO:+0300
TZNAME:EEST
DTSTART:20190331T010000
END:DAYLIGHT
BEGIN:STANDARD
TZOFFSETFROM:+0300
TZOFFSETTO:+0200
TZNAME:EET
DTSTART:20191027T010000
END:STANDARD
BEGIN:DAYLIGHT
TZOFFSETFROM:+0200
TZOFFSETTO:+0300
TZNAME:EEST
DTSTART:20200329T010000
END:DAYLIGHT
BEGIN:STANDARD
TZOFFSETFROM:+0300
TZOFFSETTO:+0200
TZNAME:EET
DTSTART:20201025T010000
END:STANDARD
END:VTIMEZONE
BEGIN:VEVENT
DTSTART;VALUE=DATE:20190608
DTEND;VALUE=DATE:20190616
DTSTAMP:20260424T062911
CREATED:20190502T121904Z
LAST-MODIFIED:20190613T072530Z
UID:14862-1559952000-1560643199@seta.fi
SUMMARY:Pirkanmaa Pride 8.–15.6.2019
DESCRIPTION:Pirkanmaa Pride järjstetään 8.–15.6. Sen järjestää Pirkanmaan Seta ry\, jolle voit tehdä lahjoituksen ja auttaa näin mm. Priden järjestelykuluissa. \nLahjoita Pirkanmaan Seta ry:lle \nTapahtuma Facebookissa\nTapahtuman verkkosivut
URL:https://seta.fi/tapahtumat/pirkanmaa-pride-8-15-6-2019/
LOCATION:Tampere
CATEGORIES:Jäsenjärjestöt,Pride
ATTACH;FMTTYPE=image/jpeg:https://seta.fi/wp-content/uploads/2019/05/pirkanmaapride.jpg
END:VEVENT
BEGIN:VEVENT
DTSTART;VALUE=DATE:20190610
DTEND;VALUE=DATE:20190617
DTSTAMP:20260424T062911
CREATED:20190502T122255Z
LAST-MODIFIED:20190613T072825Z
UID:14868-1560124800-1560729599@seta.fi
SUMMARY:Vaasa Pride 10.–16.6.2019
DESCRIPTION:Vaasa Pride järjestetään 10.–16.6. Tapahtumaa järjestää Vaasan Seta ry. \nTue Vaasan Setaa ja Vaasa Pridea 2019 lahjoittamalla/ Stöd Vasa Seta och Vaasa Pride 2019 ​​genom att donera pengar / Support Vaasa Seta and Vaasa Pride 2019 by donating money. \nLahjoita / Donera / Donate \nTapahtuma Facebookissa
URL:https://seta.fi/tapahtumat/vaasa-pride-10-16-6-2019/
LOCATION:Vaasa
CATEGORIES:Jäsenjärjestöt,Pride
ATTACH;FMTTYPE=image/jpeg:https://seta.fi/wp-content/uploads/2019/05/vaasapride.jpg
END:VEVENT
BEGIN:VEVENT
DTSTART;TZID=Europe/Helsinki:20190624T103000
DTEND;TZID=Europe/Helsinki:20190624T120000
DTSTAMP:20260424T062911
CREATED:20190607T074319Z
LAST-MODIFIED:20190611T064905Z
UID:15098-1561372200-1561377600@seta.fi
SUMMARY:Kehollisuuden ja sukupuolen pohdintaa liikkeen keinoin / Exploring body and gender through dance
DESCRIPTION:Helsinki Pride -viikon maanantaina 24.6 klo 10.30-12 on Sähinässä (Heikkiläntie 10\, 00210 Helsinki) tanssityöpaja\, jossa pohditaan kehollisuutta ja sukupuolta liikkeen keinoin. \nTyöpaja on avoin kaikille (yli 16-vuotiaille) ja se ei vaadi aikaisempaa tanssitaustaa. \nTyöpajassa tehdään rennossa ilmapiirissä harjoituksia parityöskentelynä. \nTyöapajan järjestää TIKA-hanke\, Sukupuolen moninaisuuden osaamiskeskus ja Seta. \nOhjaajana toimii TIKA-hankkeen koordinaattori\, psykologi ja tanssitaiteen kandidaatti Jaana Pirskanen. \nIlmoittaudu pajaan: jaana.pirskanen@seta.fi\nRegister to jaana.pirskanen@seta.fi \nExploring body and gender through dance \nA movement exploration workshop which is open for all genders. In the workshop we mostly work in pairs\, in relaxed atmosphere. You need no previous dance background. The workshop is organized by TIKA project\, Gender Diversity & Intersex Centre of Expertise\, Seta and it is led by Jaana Pirskanen who is the co-ordinator of TIKA project\, a psychologist and educated in dance studies. \n 
URL:https://seta.fi/tapahtumat/tanssipaja-kehollisuudesta-ja-sukupuolesta-liikkein-keinoin/
CATEGORIES:Pride,Setan tapahtuma,TIKA-hanke
ATTACH;FMTTYPE=image/jpeg:https://seta.fi/wp-content/uploads/2019/06/62021932_2258740140911690_2224632964422041600_n.jpg
END:VEVENT
BEGIN:VEVENT
DTSTART;TZID=Europe/Helsinki:20190626T130000
DTEND;TZID=Europe/Helsinki:20190626T150000
DTSTAMP:20260424T062911
CREATED:20190614T093725Z
LAST-MODIFIED:20190614T093741Z
UID:15195-1561554000-1561561200@seta.fi
SUMMARY:Sateenkaarivähemmistön vähemmistössä – moniperusteisesti syrjittyjen haasteet ja vahvuudet
DESCRIPTION:Moniperusteisesta syrjinnästä puhuessa tarkoitetaan sitä\, kun yksilö joutuu syrjityksi useamman kuin yhden eri syyn perusteella. Paneelissa käsitellään muun muassa sateenkaarivähemmistöjen kohtaamaa moniperusteista syrjintää\, sitä millaisia haasteita ja vahvuuksia seksuaali- ja sukupuolivähemmistöjen lisäksi yhteen tai useampaan muuhun vähemmistöön kuuluvilla ihmisillä on sekä millä keinoin sateenkaariyhteisöissä voitaisiin paremmin huomioida muihin vähemmistöihin kuuluvat ihmiset. \nPaneelissa keskustelevat Anne Olli (sateenkaarisaamelainen ja vuoden sateenkaarinuori 2018)\, Jaana Tiiri (Voimaa seksuaalisuudesta -hanketyöntekijä\, Aspa-säätiö)\, Julianna Brandt (ihmisoikeusaktivisti)\, Lotte Telakivi (nuorisotyön koordinaattori\, Seta) ja Michaela Moua (ylitarkastaja\, yhdenvertaisuusvaltuutetun toimisto). Tilaisuuden juontaa Setan nuorisotoimikunnan varapuheenjohtaja Valo Inkinen. \n13-25-vuotiaille \nEsteettömyys: \nPääsisäänkäynnin ovi tai tilan sisäovet eivät avaudu automaattisesti\, mutta henkilökunta avustaa mielellään niiden kanssa. Nuorten Pride Housesta ei löydy induktiosilmukkaa eikä ohjelmaa voida tulkata. WC:t ovat sukupuolineutraaleja ja esteettömät WC:t löytyvät 1 krs. 2 kpl ja 2 . krs 1 kpl. Suurin osa ohjelmasta sijoittuu 1. kerrokseen\, jossa pääsisäänkäynti on\, mutta 2. kerroksen Happi Pride -tilaan pääsee hissillä. Hissille kuljettaessa tulee vastaan ovi\, jonka kanssa henkilökunta avustaa mielellään. Hissin ovi avautuu käsin helposti. Hissillä on pääsy 2. krs tiloihin. Hissin kerrosnumerot ovat sormin tunnusteltavissa. Katso tarkemmat esteettömyystiedot täältä: https://www.suomi.fi/palvelut/palvelupiste/nuorten-toimintakeskus-happi-helsingin-kaupunki/5bb4bab6-548e-4d10-bbc3-3340ffda72ef \nOsoite: Nuorten Pride House (Happi)\, Sörnäisten Rantatie 31 Helsinki\, 00540 Finland
URL:https://seta.fi/tapahtumat/sateenkaarivahemmiston-vahemmistossa-moniperusteisesti-syrjittyjen-haasteet-ja-vahvuudet/
CATEGORIES:Pride,Setan tapahtuma
ATTACH;FMTTYPE=image/jpeg:https://seta.fi/wp-content/uploads/2019/06/xlarge-anne-olli.jpg
END:VEVENT
END:VCALENDAR