BEGIN:VCALENDAR
VERSION:2.0
PRODID:-//Seta ry - ECPv6.15.17.1//NONSGML v1.0//EN
CALSCALE:GREGORIAN
METHOD:PUBLISH
X-ORIGINAL-URL:https://seta.fi
X-WR-CALDESC:Tapahtumat Seta ry
REFRESH-INTERVAL;VALUE=DURATION:PT1H
X-Robots-Tag:noindex
X-PUBLISHED-TTL:PT1H
BEGIN:VTIMEZONE
TZID:Europe/Helsinki
BEGIN:DAYLIGHT
TZOFFSETFROM:+0200
TZOFFSETTO:+0300
TZNAME:EEST
DTSTART:20170326T010000
END:DAYLIGHT
BEGIN:STANDARD
TZOFFSETFROM:+0300
TZOFFSETTO:+0200
TZNAME:EET
DTSTART:20171029T010000
END:STANDARD
BEGIN:DAYLIGHT
TZOFFSETFROM:+0200
TZOFFSETTO:+0300
TZNAME:EEST
DTSTART:20180325T010000
END:DAYLIGHT
BEGIN:STANDARD
TZOFFSETFROM:+0300
TZOFFSETTO:+0200
TZNAME:EET
DTSTART:20181028T010000
END:STANDARD
BEGIN:DAYLIGHT
TZOFFSETFROM:+0200
TZOFFSETTO:+0300
TZNAME:EEST
DTSTART:20190331T010000
END:DAYLIGHT
BEGIN:STANDARD
TZOFFSETFROM:+0300
TZOFFSETTO:+0200
TZNAME:EET
DTSTART:20191027T010000
END:STANDARD
END:VTIMEZONE
BEGIN:VEVENT
DTSTART;VALUE=DATE:20180814
DTEND;VALUE=DATE:20180903
DTSTAMP:20260425T152537
CREATED:20180125T072937Z
LAST-MODIFIED:20180125T072937Z
UID:10791-1534204800-1535932799@seta.fi
SUMMARY:Lahti Pride\, Lahti
DESCRIPTION:Lahti Pride 2018 -tapahtumia järjestetään 14.8.-2.9. Priden pääbileet järjestetään lauantaina 18.8.2018. \nLahti Pride Facebookissa \nLahti Pride -verkkosivut \nTue Lahden Setaa Lahti Priden järjestämisessä lahjoittamalla\, ryhtymällä talkoolaiseksi tai liittymällä jäseneksi!
URL:https://seta.fi/tapahtumat/lahti-pride-lahti/
CATEGORIES:Jäsenjärjestöt,Setan tapahtuma
ATTACH;FMTTYPE=:
END:VEVENT
BEGIN:VEVENT
DTSTART;VALUE=DATE:20180827
DTEND;VALUE=DATE:20180903
DTSTAMP:20260425T152537
CREATED:20180125T071139Z
LAST-MODIFIED:20180125T071139Z
UID:10784-1535328000-1535932799@seta.fi
SUMMARY:Border Pride\, Tornio-Haaparanta 2018
DESCRIPTION:BorderPride 2018 -tapahtumaa vietetään 27.8.-2.9.2018 Tornio-haaparannan kaksoiskaupungissa. Pride-kulkue ja pääjuhla järjestetään lauantaina 1.9. \nBorder Pride Facebookissa \nTue Meri-Lapin Setaa priden järjestämisessä lahjoittamalla ja ostamalla tuotteita!
URL:https://seta.fi/tapahtumat/border-pride-tornio-haaparanta-2018/
CATEGORIES:Jäsenjärjestöt,Pride
ATTACH;FMTTYPE=:
END:VEVENT
END:VCALENDAR