BEGIN:VCALENDAR
VERSION:2.0
PRODID:-//Seta ry - ECPv6.15.17.1//NONSGML v1.0//EN
CALSCALE:GREGORIAN
METHOD:PUBLISH
X-ORIGINAL-URL:https://seta.fi
X-WR-CALDESC:Tapahtumat Seta ry
REFRESH-INTERVAL;VALUE=DURATION:PT1H
X-Robots-Tag:noindex
X-PUBLISHED-TTL:PT1H
BEGIN:VTIMEZONE
TZID:Europe/Helsinki
BEGIN:DAYLIGHT
TZOFFSETFROM:+0200
TZOFFSETTO:+0300
TZNAME:EEST
DTSTART:20210328T010000
END:DAYLIGHT
BEGIN:STANDARD
TZOFFSETFROM:+0300
TZOFFSETTO:+0200
TZNAME:EET
DTSTART:20211031T010000
END:STANDARD
BEGIN:DAYLIGHT
TZOFFSETFROM:+0200
TZOFFSETTO:+0300
TZNAME:EEST
DTSTART:20220327T010000
END:DAYLIGHT
BEGIN:STANDARD
TZOFFSETFROM:+0300
TZOFFSETTO:+0200
TZNAME:EET
DTSTART:20221030T010000
END:STANDARD
BEGIN:DAYLIGHT
TZOFFSETFROM:+0200
TZOFFSETTO:+0300
TZNAME:EEST
DTSTART:20230326T010000
END:DAYLIGHT
BEGIN:STANDARD
TZOFFSETFROM:+0300
TZOFFSETTO:+0200
TZNAME:EET
DTSTART:20231029T010000
END:STANDARD
END:VTIMEZONE
BEGIN:VEVENT
DTSTART;TZID=Europe/Helsinki:20221214T170000
DTEND;TZID=Europe/Helsinki:20221214T200000
DTSTAMP:20260423T204045
CREATED:20220503T115508Z
LAST-MODIFIED:20220902T123911Z
UID:26911-1671037200-1671048000@seta.fi
SUMMARY:Koulutusiltapäivä 14.12. Monisuhteisuus
DESCRIPTION:Koulutusiltapäivän 14.12.2022 teemana on monisuhteisuus. \nSetan koulutusiltapäivät ovat ammattilaisille ja opiskelijoille sekä sateenkaariteemoista kiinnostuneille suunnattuja koulutuksia\, joissa perehdytään ajankohtaisiin sukupuolen ja seksuaalisen suuntautumisen moninaisuutta käsitteleviin teemoihin. Koulutusiltapäivät järjestetään pääsääntöisesti keskiviikkoisin klo 17-20 etäyhteyden kautta. Yhden koulutuksen hinta on 25 euroa. Koulutuksiin ilmoittaudutaan lomakkein\, joiden linkit löytyvät kunkin koulutuksen sivulta. \nEtäosallistuminen toteutetaan Microsoft Teamsin avulla. Etäosallistujille lähetetään kutsu tilaisuuteen sähköpostilla ilmoittautumisajan päätyttyä. \nKoulutuksessa keskustelemme yhteisymmärrykseen perustuvasta monisuhteisuudesta\, joka tarkoittaa intiimisuhteita\, joissa osapuolia on enemmän kuin kaksi osallisten yhteisestä sopimuksesta. \nKäymme läpi monisuhteisuuden muotoja\, intiimisuhteisiin liittyviä normeja sekä monisuhteisuuden iloja ja haasteita. Pohdimme myös sitä\, kuinka ihmissuhdetyön ammattilaiset voivat työssään kohdata monisuhteessa eläviä ihmisiä sensitiivisesti. \nKouluttajina Polyamoria -monisuhteisuusyhdistyksen Markus Oja sekä Perhe- ja paripsykoterapeutti Terhi Väisänen Sateenkaari-ihmisten perhesuhdekeskuksesta. \nIlmoittautuminen
URL:https://seta.fi/tapahtumat/koulutusiltapaiva-14-12-monisuhteisuus/
CATEGORIES:Koulutukset,Setan tapahtuma
ATTACH;FMTTYPE=image/png:https://seta.fi/wp-content/uploads/2022/05/9.png
END:VEVENT
END:VCALENDAR