BEGIN:VCALENDAR
VERSION:2.0
PRODID:-//Seta ry - ECPv6.15.17.1//NONSGML v1.0//EN
CALSCALE:GREGORIAN
METHOD:PUBLISH
X-ORIGINAL-URL:https://seta.fi
X-WR-CALDESC:Tapahtumat Seta ry
REFRESH-INTERVAL;VALUE=DURATION:PT1H
X-Robots-Tag:noindex
X-PUBLISHED-TTL:PT1H
BEGIN:VTIMEZONE
TZID:Europe/Helsinki
BEGIN:DAYLIGHT
TZOFFSETFROM:+0200
TZOFFSETTO:+0300
TZNAME:EEST
DTSTART:20210328T010000
END:DAYLIGHT
BEGIN:STANDARD
TZOFFSETFROM:+0300
TZOFFSETTO:+0200
TZNAME:EET
DTSTART:20211031T010000
END:STANDARD
BEGIN:DAYLIGHT
TZOFFSETFROM:+0200
TZOFFSETTO:+0300
TZNAME:EEST
DTSTART:20220327T010000
END:DAYLIGHT
BEGIN:STANDARD
TZOFFSETFROM:+0300
TZOFFSETTO:+0200
TZNAME:EET
DTSTART:20221030T010000
END:STANDARD
BEGIN:DAYLIGHT
TZOFFSETFROM:+0200
TZOFFSETTO:+0300
TZNAME:EEST
DTSTART:20230326T010000
END:DAYLIGHT
BEGIN:STANDARD
TZOFFSETFROM:+0300
TZOFFSETTO:+0200
TZNAME:EET
DTSTART:20231029T010000
END:STANDARD
END:VTIMEZONE
BEGIN:VEVENT
DTSTART;TZID=Europe/Helsinki:20220627T173000
DTEND;TZID=Europe/Helsinki:20220627T183000
DTSTAMP:20260423T055112
CREATED:20220602T112605Z
LAST-MODIFIED:20220602T113024Z
UID:27820-1656351000-1656354600@seta.fi
SUMMARY:Verkkoluento vanhemmille ja läheisille: Mikä ihmeen sateenkaari?
DESCRIPTION:Verkkoluento vanhemmille ja läheisille: Mikä ihmeen sateenkaari? Helsinki Priden aikana 27.6. klo 17:30–18:30. \n\n\n\nMikä ihmeen sateenkaari on sateenkaari-ihmisten vanhemmille\, isovanhemmille ja muille läheisille suunnattu verkkoluento. On luonnollista\, että itselle uusi asia voi aiheuttaa hämmennystä ja monenlaisia pohdintoja. \nLuennolla käsitellään: \n\nperustietoa sukupuolen ja seksuaalisen suuntautumisen moninaisuudesta\nkysymyksiä\, joita läheiset usein pohtivat\nkuinka voi olla tukena sukupuoli- ja/tai seksuaalivähemmistöön kuuluvalle lapselleen tai muulle läheiselleen\nmistä voi itse saada tukea\n\nLuennoitsijoina perhetyöntekijä\, perhe- ja paripsykoterapeutti Terhi Väisänen Sateenkaari-ihmisten perhesuhdekeskuksesta ja palveluohjaaja\, psykoterapiakoul. Miska Salakka Setan Sukupuolen moninaisuuden osaamiskeskuksesta. \nLuento toteutetaan Teams-livetapahtumana\, eikä osallistuminen vaadi sovelluksia tai kirjautumista. Luennon katseleminen tapahtuu täysin anonyymisti verkkoselaimessa. Katselulinkki ja ohjeet lisätään tähän kohtaan myöhemmin. Voimme lähettää linkin myös suoraan sähköpostiisi ennen tapahtumaa. Siinä tapauksessa voit jättää yhteystietosi sähköisellä lomakkeella. \nLämpimästi tervetuloa! \nLisätietoja: info@perhesuhdekeskus.fi
URL:https://seta.fi/tapahtumat/verkkoluento-vanhemmille-ja-laheisille-mika-ihmeen-sateenkaari/
LOCATION:Microsoft Teams
CATEGORIES:Helsinki Pride,Setan tapahtuma
ATTACH;FMTTYPE=image/jpeg:https://seta.fi/wp-content/uploads/2017/04/unnamed-file.jpeg
END:VEVENT
END:VCALENDAR