BEGIN:VCALENDAR
VERSION:2.0
PRODID:-//Seta ry - ECPv6.15.17.1//NONSGML v1.0//EN
CALSCALE:GREGORIAN
METHOD:PUBLISH
X-ORIGINAL-URL:https://seta.fi
X-WR-CALDESC:Tapahtumat Seta ry
REFRESH-INTERVAL;VALUE=DURATION:PT1H
X-Robots-Tag:noindex
X-PUBLISHED-TTL:PT1H
BEGIN:VTIMEZONE
TZID:Europe/Helsinki
BEGIN:DAYLIGHT
TZOFFSETFROM:+0200
TZOFFSETTO:+0300
TZNAME:EEST
DTSTART:20200329T010000
END:DAYLIGHT
BEGIN:STANDARD
TZOFFSETFROM:+0300
TZOFFSETTO:+0200
TZNAME:EET
DTSTART:20201025T010000
END:STANDARD
BEGIN:DAYLIGHT
TZOFFSETFROM:+0200
TZOFFSETTO:+0300
TZNAME:EEST
DTSTART:20210328T010000
END:DAYLIGHT
BEGIN:STANDARD
TZOFFSETFROM:+0300
TZOFFSETTO:+0200
TZNAME:EET
DTSTART:20211031T010000
END:STANDARD
BEGIN:DAYLIGHT
TZOFFSETFROM:+0200
TZOFFSETTO:+0300
TZNAME:EEST
DTSTART:20220327T010000
END:DAYLIGHT
BEGIN:STANDARD
TZOFFSETFROM:+0300
TZOFFSETTO:+0200
TZNAME:EET
DTSTART:20221030T010000
END:STANDARD
END:VTIMEZONE
BEGIN:VEVENT
DTSTART;VALUE=DATE:20210502
DTEND;VALUE=DATE:20210503
DTSTAMP:20260422T225507
CREATED:20210428T115457Z
LAST-MODIFIED:20210428T115613Z
UID:20658-1619913600-1619999999@seta.fi
SUMMARY:Sateenkaariperhepäivänä 2.5. tapahtuu!
DESCRIPTION:Kaksi äitiä ja kaksoset -haastattelu Instagramissa\, blogikirjoitus perhehaaveista ja polyperheen haastattelu!\nKansainvälistä sateenkaariperhepäivää vietetään tulevana sunnuntaina 2.5. Setan nuorisotoimikunta vastaa teemapäivän sisällöstä Setan puolesta tänä vuonna. Tässä luku- ja katseluvinkkejä teemapäivää varten: \n Blogikirjoitus otsikolla ”Haaveena sateenkaariperhe” Setan verkkosivuilla\n Polyperheen haastattelu Setan verkkosivuilla\n Instagram-live 2.5. klo 13 alkaen KAKSI ÄITIÄ & KAKSOSET kanssa \nLive pidetään @setanuoret Instagram-tilillä ja keskustelussa mukana varmasti jo monelle tutut kasvot kaksi äitä ja kaksoset- youtubekanavalta. Tule mukaan seuraamaan keskustelua ja heittämään kommentteja liveen! Live pyritään myös tallentamaan myöhempää katselua varten. \nSateenkaariperheiden verkkotapahtuma\nOsallistu Sateenkaariperheet ry:n verkkotapahtumaan sunnuntaina 2.5. klo 17 alkaen. Juhlaa juontaa Maimu Brushwood o.s. Huolirinta\, joka on taidepedagogi\, amatöörirunoilija\, satutäti ja Drag-henkilö. Ensimmäisenä ohjelmassa on Maimun kertoma satu räsynukke Ullasta ja marionettinukke Olavista\, jotka asuvat ihmeellisten tavaroiden kivijalkakaupan takahuoneessa. Tämän jälkeen vuorossa on Santeri Sammakon seikkailut -esitys. \nVuorovaikutteisessa striimiesityksessä Santeri Sammakko kutsuu lapset mukaan leikkiin. 0-5-vuotiaille suunnattu esitys lumoaa lämmöllään ja värikkyydellään. 30 minuutin pituisessa teoksessa Lits läts lätäkkö! -kirjan lorut ja iki-ihanat katselukorttien hahmot johdattavat katsojan lorujen ja tanssin kautta seikkailuun läpi vuodenaikojen. Tämän jälkeen on juhlaherkkujen aika\, jotka jokaisessa perheessä ovat omansalaisia. \nKansainvälisen sateenkaariperhepäivän Minun perheeni -haastattelu\n“Kaikkialla kysellään kovasti lasten näkökulmaa ja mitä kuuluu sateenkaariperheiden lapsille\, kuinka he voivat. Kansainvälinen sateenkaariperhepäivä on hyvä ajankohta antaa puheenvuoro lapsille. Ajattelimme\, että pienellä haastattelulla saadaan mukavalla tavalla avattua lasten näkökulmaa”\, Sateenkaariperheet ry viestittää. \nKysy kysymykset lapseltasi ja kirjaa vastaukset laatikoihin. Tee kirjaus mielellään mahdollisimman totuudenmukaisesti\, sellaisena kun lapsi sen kertoo. Jos haluat olla tunnistamaton\, voit muuttaa lapsen mainitsemat nimet toisiksi. \nLasten haastatteluja julkaistaan somessa Kansainvälisenä sateenkaariperhepäivänä su 2.5. Lähetäthän vastauksen viimeistään torstain 29.4. aikana\, jotta ne ehditään käydä läpi ja rakentaa somepäivityksiksi.Yhteystietonsa jättäneiden kesken arvotaan vapaavalintainen lautapeli kotiin toimitettuna. Jos haluat osallistua arvontaan\, muista kirjata sähköpostiosoitteesi lomakkeen loppuun. Arvontaan osallistuminen ja osoitetietojen jättäminen ei ole pakollista. Otamme innolla vastaan kaikki haastattelut. \nKuva: iris het viri
URL:https://seta.fi/tapahtumat/sateenkaariperhepaivana-2-5-tapahtuu/
CATEGORIES:Setan tapahtuma
ATTACH;FMTTYPE=image/jpeg:https://seta.fi/wp-content/uploads/2021/04/43838737781_3d04d34c26_z.jpg
END:VEVENT
END:VCALENDAR