BEGIN:VCALENDAR
VERSION:2.0
PRODID:-//Seta ry - ECPv6.15.17.1//NONSGML v1.0//EN
CALSCALE:GREGORIAN
METHOD:PUBLISH
X-ORIGINAL-URL:https://seta.fi
X-WR-CALDESC:Tapahtumat Seta ry
REFRESH-INTERVAL;VALUE=DURATION:PT1H
X-Robots-Tag:noindex
X-PUBLISHED-TTL:PT1H
BEGIN:VTIMEZONE
TZID:Europe/Helsinki
BEGIN:DAYLIGHT
TZOFFSETFROM:+0200
TZOFFSETTO:+0300
TZNAME:EEST
DTSTART:20180325T010000
END:DAYLIGHT
BEGIN:STANDARD
TZOFFSETFROM:+0300
TZOFFSETTO:+0200
TZNAME:EET
DTSTART:20181028T010000
END:STANDARD
BEGIN:DAYLIGHT
TZOFFSETFROM:+0200
TZOFFSETTO:+0300
TZNAME:EEST
DTSTART:20190331T010000
END:DAYLIGHT
BEGIN:STANDARD
TZOFFSETFROM:+0300
TZOFFSETTO:+0200
TZNAME:EET
DTSTART:20191027T010000
END:STANDARD
BEGIN:DAYLIGHT
TZOFFSETFROM:+0200
TZOFFSETTO:+0300
TZNAME:EEST
DTSTART:20200329T010000
END:DAYLIGHT
BEGIN:STANDARD
TZOFFSETFROM:+0300
TZOFFSETTO:+0200
TZNAME:EET
DTSTART:20201025T010000
END:STANDARD
END:VTIMEZONE
BEGIN:VEVENT
DTSTART;VALUE=DATE:20190805
DTEND;VALUE=DATE:20190812
DTSTAMP:20260426T063706
CREATED:20190502T123527Z
LAST-MODIFIED:20190613T073128Z
UID:14877-1564963200-1565567999@seta.fi
SUMMARY:Oulu Pride 5.–11.8.2019
DESCRIPTION:Oulu Pride järjestetään 5.–11.8.2019. Tapahtumaa järjestää Oulu Pride ry\, jolle voit tehdä lahjoituksen ja auttaa näin mm. Priden järjestelykuluissa. \nLahjoita Oulu Pride ry:lle. \nTapahtuma Facebookissa
URL:https://seta.fi/tapahtumat/oulu-pride-5-11-8-2019/
LOCATION:Oulu
CATEGORIES:Jäsenjärjestöt,Pride
ATTACH;FMTTYPE=image/jpeg:https://seta.fi/wp-content/uploads/2019/05/oulupride.jpg
END:VEVENT
END:VCALENDAR