BEGIN:VCALENDAR
VERSION:2.0
PRODID:-//Seta ry - ECPv6.15.17.1//NONSGML v1.0//EN
CALSCALE:GREGORIAN
METHOD:PUBLISH
X-ORIGINAL-URL:https://seta.fi
X-WR-CALDESC:Tapahtumat Seta ry
REFRESH-INTERVAL;VALUE=DURATION:PT1H
X-Robots-Tag:noindex
X-PUBLISHED-TTL:PT1H
BEGIN:VTIMEZONE
TZID:Europe/Helsinki
BEGIN:DAYLIGHT
TZOFFSETFROM:+0200
TZOFFSETTO:+0300
TZNAME:EEST
DTSTART:20170326T010000
END:DAYLIGHT
BEGIN:STANDARD
TZOFFSETFROM:+0300
TZOFFSETTO:+0200
TZNAME:EET
DTSTART:20171029T010000
END:STANDARD
BEGIN:DAYLIGHT
TZOFFSETFROM:+0200
TZOFFSETTO:+0300
TZNAME:EEST
DTSTART:20180325T010000
END:DAYLIGHT
BEGIN:STANDARD
TZOFFSETFROM:+0300
TZOFFSETTO:+0200
TZNAME:EET
DTSTART:20181028T010000
END:STANDARD
BEGIN:DAYLIGHT
TZOFFSETFROM:+0200
TZOFFSETTO:+0300
TZNAME:EEST
DTSTART:20190331T010000
END:DAYLIGHT
BEGIN:STANDARD
TZOFFSETFROM:+0300
TZOFFSETTO:+0200
TZNAME:EET
DTSTART:20191027T010000
END:STANDARD
END:VTIMEZONE
BEGIN:VEVENT
DTSTART;VALUE=DATE:20181103
DTEND;VALUE=DATE:20181105
DTSTAMP:20260425T213444
CREATED:20180903T111935Z
LAST-MODIFIED:20180912T115440Z
UID:12109-1541203200-1541375999@seta.fi
SUMMARY:Ryhmänohjaajakoulutuksen perusosa 3.-4.11. Oulussa
DESCRIPTION:Seta ja sen jäsenjärjestöt järjestävät yhteistyössä ryhmänohjaajakoulutuksen perusosan Oulussa 3.-4.11. Koulutus on sama kuin huhtikuun lopussa ensimmäistä kertaa järjestetty koulutus Helsingissä. \nPerusosassa kartutetaan ryhmän ohjaamisen perustaitoja perehtymällä mm. omaan rooliin ryhmänohjaajana\, vuorovaikutustaitoihin\, ryhmädynamiikkaan ja ryhmän turvallisuuteen. Perusosasta saa hyviä perusvalmiuksia riippumatta siitä\, millaista ryhmää tai toimintaa haluaisi ohjata Setan jäsenjärjestöissä tai Transtukipisteellä. \nRyhmänohjaajakoulutukseen toivotaan osallistujia eri puolilta Suomea\, tällä kertaa erityisesti pohjoisen Suomen alueelta. Haussa on etua siitä\, että on jo jollakin tavalla mukana sen järjestön toiminnassa\, jossa haluaisi toimia ryhmänohjaajana. Koska kyseessä on vasta toista kertaa järjestettävä koulutus\, perusosaan kannustetaan osallistumaan myös jo nyt ryhmänohjaajina toimivia henkilöitä. \nKoulutuksen käyminen ei automaattisesti takaa sitä\, että pääsee ohjaamaan ryhmää. Ryhmän ohjaamisen aloittamisesta keskustellaan aina kouluttajien ja oman järjestön vastuuhenkilöiden kanssa. \nPeruskoulutukseen haetaan oheisella hakulomakkeella 7.9.-23.9. välisenä aikana. Mukaan valitaan 25 osallistujaa. Tieto koulutukseen pääsystä ilmoitetaan kaikille hakijoille lokakuun ensimmäisellä viikolla. Koulutus on maksuton. Osallistujien matka- ja majoituskulut korvataan Setalta saatavien ohjeiden mukaisesti. \nHAE TÄMÄN LOMAKKEEN KAUTTA: https://bit.ly/2M5sGni \nTulevien koulutusten aikataulua: \n\nPerusosa Oulussa 3.-4.11. Koulutus alkaa lauantaina klo 11. Sunnuntaina lopetamme klo 15.\nJatko-osia vuoden 2019 aikana eri puolilla Suomea (esim. nuorten ryhmien ohjaajakoulutus ja Rakkaussuhdetuokioiden ohjaajakoulutus).\nSeuraava perusosa järjestetään keväällä 2019 Helsingissä.\n\nLisätietoja koulutuksesta antaa yhteistyökumppani Perhesuhdekeskuksen Sanna Metsäpuu sanna.metsapuu@perhesuhdekeskus.fi.
URL:https://seta.fi/tapahtumat/ryhmanohjaajakoulutuksen-perusosa/
LOCATION:Oulu
CATEGORIES:Jäsenjärjestöt,Koulutukset,Setan tapahtuma
ATTACH;FMTTYPE=image/jpeg:https://seta.fi/wp-content/uploads/2018/08/Vertaisryhmäohjaajan-opas_muoks.jpg
END:VEVENT
END:VCALENDAR