BEGIN:VCALENDAR
VERSION:2.0
PRODID:-//Seta ry - ECPv6.15.17.1//NONSGML v1.0//EN
CALSCALE:GREGORIAN
METHOD:PUBLISH
X-WR-CALNAME:Seta ry
X-ORIGINAL-URL:https://seta.fi
X-WR-CALDESC:Tapahtumat Seta ry
REFRESH-INTERVAL;VALUE=DURATION:PT1H
X-Robots-Tag:noindex
X-PUBLISHED-TTL:PT1H
BEGIN:VTIMEZONE
TZID:Europe/Helsinki
BEGIN:DAYLIGHT
TZOFFSETFROM:+0200
TZOFFSETTO:+0300
TZNAME:EEST
DTSTART:20180325T010000
END:DAYLIGHT
BEGIN:STANDARD
TZOFFSETFROM:+0300
TZOFFSETTO:+0200
TZNAME:EET
DTSTART:20181028T010000
END:STANDARD
BEGIN:DAYLIGHT
TZOFFSETFROM:+0200
TZOFFSETTO:+0300
TZNAME:EEST
DTSTART:20190331T010000
END:DAYLIGHT
BEGIN:STANDARD
TZOFFSETFROM:+0300
TZOFFSETTO:+0200
TZNAME:EET
DTSTART:20191027T010000
END:STANDARD
BEGIN:DAYLIGHT
TZOFFSETFROM:+0200
TZOFFSETTO:+0300
TZNAME:EEST
DTSTART:20200329T010000
END:DAYLIGHT
BEGIN:STANDARD
TZOFFSETFROM:+0300
TZOFFSETTO:+0200
TZNAME:EET
DTSTART:20201025T010000
END:STANDARD
END:VTIMEZONE
BEGIN:VEVENT
DTSTART;VALUE=DATE:20191026
DTEND;VALUE=DATE:20191027
DTSTAMP:20260424T035232
CREATED:20190807T080105Z
LAST-MODIFIED:20190807T082511Z
UID:15355-1572048000-1572134399@seta.fi
SUMMARY:Nuortenryhmien ohjaajakoulutus\, Turku
DESCRIPTION:Seta ja TuSeta järjestävät yhteistyössä nuortenryhmien ohjaajakoulutuksen Setan jäsenjärjestöjen vapaaehtoisille lauantaina 26.10.2019 Turussa. Kouluttajina toimivat Setan alueellisen nuorisotyön koordinaattori Teija Ryhtä ja TuSetan Täl puol sateenkaarta -hankkeen koordinaattori Sanna Larinkoski. \nNuortenryhmien ohjaajakoulutus on tarkoitettu kaikille Setan jäsenjärjestöissä nuortenryhmiä jo ohjaaville tai ohjaamisesta kiinnostuneille. Ryhmänohjaajakoulutuksen perusosan suorittamisesta on etua\, mutta se ei ole koulutukseen osallistumisen edellytys. Osallistujalla tulee kuitenkin olla kontakti johonkin Setan jäsenjärjestöön. Koulutuksen käyneeltä edellytetään sitoutumista Setan jäsenjärjestön toimintaan\, jotta koulutuksessa kerrytetty osaaminen siirtyy Setan järjestökentän hyödyksi. \nKoulutuksessa käsitellään sateenkaarevan vertaistuellisen nuortenryhmän ohjaamista eri näkökulmista. Koulutus vahvistaa ohjaajan kykyä luoda ryhmästä hyvä ja turvallinen paikka osallistujille sekä pohtia omaa rooliaan ohjaajana. Koulutuksessa jaetaan myös materiaaleja ryhmätoiminnan tueksi. Osa koulutuksen materiaaleista lähetetään ennakkoon\, ja osallistujien tulee perehtyä niihin huolella ennen koulutusta. \nNuortenryhmien ohjaajakoulutukseen haetaan hakulomakkeella 8.9. mennessä. Tieto koulutukseen pääsystä ilmoitetaan kaikille hakijoille viikolla 38. \nKoulutus on osallistujille maksuton. Osallistujien matka- ja majoituskulut korvataan Setalta saatavien ohjeiden mukaisesti. Tarkemmat ohjeet matkalippujen varaamisesta ja muista käytännön järjestelyistä lähetetään koulutukseen valituille. Varmistathan kuitenkin jo koulutukseen hakiessasi\, että sinun on mahdollista kulkea jollakin julkisella liikennevälineellä Turkuun koulutuksen aikataulujen mukaisesti. Pitkämatkalaisten on mahdollista sopia saapuminen jo perjantai-iltana. \nMissä? Turun keskustassa\, tarkempi sijainti varmistuu myöhemmin\nMilloin? Lauantaina 26.10. klo 10:30–18\nKenelle? Nuortenryhmien ohjaajille ja ryhmänohjaajiksi haluaville\nMiten haen? Lomakkeella 8.9. klo 24 mennessä!\nMilloin saan tiedon valinnasta? Viikolla 38 \nTietoa Setan ryhmänohjaajakoulutuksesta\nSeta järjestää ryhmänohjaajakoulutusta yhteistyössä jäsenjärjestöjensä kanssa. Tarjoamme vapaaehtoisille ohjaajille mahdollisuuden oman osaamisen kehittämiseen. Sen lisäksi meille on tärkeää varmistaa ryhmätoiminnan laatu ja turvallisuus. \nKoulutuspolku koostuu kahdesta osiosta: perusosasta ja jatko-osista. Perusosassa kartutetaan ryhmän ohjaamisen perustaitoja perehtymällä mm. omaan rooliin ryhmänohjaajana\, vuorovaikutustaitoihin\, ryhmädynamiikkaan ja ryhmän turvallisuuteen. Perusosasta saa hyviä perusvalmiuksia ohjaamiseen riippumatta siitä\, millaista ryhmää tai toimintaa haluaisi ohjata. Jatko-osissa perehdytään tietyn ryhmän ohjaamiseen esim. nuortenryhmän\, senioriryhmän tai sukupuolivähemmistöihin kuuluvien ryhmän. Jatko-osissa pureudutaan kyseisen ryhmän teemoihin\, sisältöihin ja erityiskysymyksiin. \nKoulutuksen käyminen ei automaattisesti takaa sitä\, että pääsee ohjaamaan ryhmää. Ryhmän ohjaamisen aloittamisesta keskustellaan aina kouluttajien ja oman järjestön vastuuhenkilöiden kanssa. \nLisätietoa\nTeija Ryhtä\nteija.ryhta@seta.fi\n050 505 5234
URL:https://seta.fi/tapahtumat/nuortenryhmien-ohjaajakoulutus-turku/
CATEGORIES:Jäsenjärjestöt,Koulutukset,Setan tapahtuma
ATTACH;FMTTYPE=image/png:https://seta.fi/wp-content/uploads/2019/08/nuortenryhmien_ohjaajakoulutus.png
END:VEVENT
END:VCALENDAR