BEGIN:VCALENDAR
VERSION:2.0
PRODID:-//Seta ry - ECPv6.15.17.1//NONSGML v1.0//EN
CALSCALE:GREGORIAN
METHOD:PUBLISH
X-WR-CALNAME:Seta ry
X-ORIGINAL-URL:https://seta.fi
X-WR-CALDESC:Tapahtumat Seta ry
REFRESH-INTERVAL;VALUE=DURATION:PT1H
X-Robots-Tag:noindex
X-PUBLISHED-TTL:PT1H
BEGIN:VTIMEZONE
TZID:Europe/Helsinki
BEGIN:DAYLIGHT
TZOFFSETFROM:+0200
TZOFFSETTO:+0300
TZNAME:EEST
DTSTART:20210328T010000
END:DAYLIGHT
BEGIN:STANDARD
TZOFFSETFROM:+0300
TZOFFSETTO:+0200
TZNAME:EET
DTSTART:20211031T010000
END:STANDARD
BEGIN:DAYLIGHT
TZOFFSETFROM:+0200
TZOFFSETTO:+0300
TZNAME:EEST
DTSTART:20220327T010000
END:DAYLIGHT
BEGIN:STANDARD
TZOFFSETFROM:+0300
TZOFFSETTO:+0200
TZNAME:EET
DTSTART:20221030T010000
END:STANDARD
BEGIN:DAYLIGHT
TZOFFSETFROM:+0200
TZOFFSETTO:+0300
TZNAME:EEST
DTSTART:20230326T010000
END:DAYLIGHT
BEGIN:STANDARD
TZOFFSETFROM:+0300
TZOFFSETTO:+0200
TZNAME:EET
DTSTART:20231029T010000
END:STANDARD
END:VTIMEZONE
BEGIN:VEVENT
DTSTART;VALUE=DATE:20221021
DTEND;VALUE=DATE:20221022
DTSTAMP:20260423T041505
CREATED:20220830T082812Z
LAST-MODIFIED:20220907T090435Z
UID:29171-1666310400-1666396799@seta.fi
SUMMARY:TÄYNNÄ! Setan nuorten aktiiviviikonloppu 21.–23.10. Tampereella
DESCRIPTION:HUOM! Tapahtuman osallistujamäärä on tällä hetkellä täynnä. Mikäli tapahtumaan aukeaa peruutuspaikkoja\, ilmoitamme niistä lokakuussa. \nSetan nuorten aktiiviviikonloppu kutsuu lokakuussa Tampereelle! Tänä vuonna aktiiviviikonloppu järjestetään 21.–23.10. \nAktiiviviikonloppu kokoaa nuoria ympäri Suomen tutustumaan toisiinsa ja toimimaan ihmisoikeuksien puolesta. Tapahtuma on avoin kaikille Setan toiminnasta ja sateenkaarevista teemoista kiinnostuneille 15–29-vuotiaille nuorille. Aktiiviviikonlopun ohjelmasta vastaa Setan nuorisotoimikunta – luvassa on erilaisia työpajoja ja muuta ohjelmaa liittyen muun muassa poliittiseen vaikuttamiseen\, oikeuksiin ja normitietoisuuteen. Mukana myös vierailevia puhujia. Setan työntekijät ovat paikalla koko tapahtuman ajan. \nTapahtumaan saavutaan perjantai-iltana\, jolloin luvassa on tutustumista ja yhteinen iltapala n. klo 20. Tapahtuma päättyy sunnuntaina klo 16 mennessä. Julkaisemme tarkemman ohjelman mahdollisimman pian. \nIlmoittautumiset lomakkeen kautta 5.10.2022 klo 12 mennessä. Seta korvaa osallistujille matkakulut tositteita vastaan ja tarjoaa majoituksen ja ruokailut tapahtuman aikana. Muistathan kertoa ilmoittautumislomakkeessa ruokavaliostasi ja mahdollisista muista tarpeistasi. Annamme tarvittaessa mielellämme lisätietoja esteettömyyteen ja saavutettavuuteen liittyen. Jos olet alle 18-vuotias\, sinun tarvitsee lähettää huoltajan kirjallinen suostumus (esimerkiksi sähköposti huoltajasi osoitteesta) tapahtumaan osallistuaksesi. \nLinkki ilmoittautumislomakkeeseen:  https://bit.ly/3Kkxh4Y \nIlmoittautuneille lähetetään vahvistus mukaan pääsystä sekä tarkempia ohjeita ja viikonlopun ohjelma ilmoittautumisajan päätyttyä. \nLisätiedot nuorisotyön osallisuuden asiantuntijalta: \nTeija Ryhtä\nteija.ryhta@seta.fi\npuhelin/WA 050 505 5234 \nSetan nuorisotoiminta on päihteetöntä ja kaiken muotoisesta syrjinnästä vapaata. Toiminnassa kunnioitetaan jokaisen yhdenvertaisuutta\, tasa-arvoa ja oikeutta itsemäärittelyyn ja -määrittelemättömyyteen. Tapahtumassa on voimassa turvallisemman tilan periaatteet\, jotka lähetetään kaikille osallistujille etukäteen ja käydään yhdessä läpi tapahtumassa.
URL:https://seta.fi/tapahtumat/setan-nuorten-aktiiviviikonloppu-21-23-10-tampereella/
LOCATION:Tampere
CATEGORIES:Setan tapahtuma
END:VEVENT
END:VCALENDAR