BEGIN:VCALENDAR
VERSION:2.0
PRODID:-//Seta ry - ECPv6.15.17.1//NONSGML v1.0//EN
CALSCALE:GREGORIAN
METHOD:PUBLISH
X-ORIGINAL-URL:https://seta.fi
X-WR-CALDESC:Tapahtumat Seta ry
REFRESH-INTERVAL;VALUE=DURATION:PT1H
X-Robots-Tag:noindex
X-PUBLISHED-TTL:PT1H
BEGIN:VTIMEZONE
TZID:Europe/Helsinki
BEGIN:DAYLIGHT
TZOFFSETFROM:+0200
TZOFFSETTO:+0300
TZNAME:EEST
DTSTART:20180325T010000
END:DAYLIGHT
BEGIN:STANDARD
TZOFFSETFROM:+0300
TZOFFSETTO:+0200
TZNAME:EET
DTSTART:20181028T010000
END:STANDARD
BEGIN:DAYLIGHT
TZOFFSETFROM:+0200
TZOFFSETTO:+0300
TZNAME:EEST
DTSTART:20190331T010000
END:DAYLIGHT
BEGIN:STANDARD
TZOFFSETFROM:+0300
TZOFFSETTO:+0200
TZNAME:EET
DTSTART:20191027T010000
END:STANDARD
BEGIN:DAYLIGHT
TZOFFSETFROM:+0200
TZOFFSETTO:+0300
TZNAME:EEST
DTSTART:20200329T010000
END:DAYLIGHT
BEGIN:STANDARD
TZOFFSETFROM:+0300
TZOFFSETTO:+0200
TZNAME:EET
DTSTART:20201025T010000
END:STANDARD
END:VTIMEZONE
BEGIN:VEVENT
DTSTART;TZID=Europe/Helsinki:20190327T170000
DTEND;TZID=Europe/Helsinki:20190327T200000
DTSTAMP:20260426T060717
CREATED:20181220T085537Z
LAST-MODIFIED:20190311T081036Z
UID:13746-1553706000-1553716800@seta.fi
SUMMARY:Koulutusiltapäivä: muunsukupuolisuus
DESCRIPTION:Koulutusiltapäivät ovat ammattilaisille ja opiskelijoille sekä sateenkaariteemoista kiinnostuneille suunnattuja koulutuksia\, joissa perehdytään ajankohtaisiin sukupuolen ja seksuaalisen suuntautumisen moninaisuutta käsitteleviin teemoihin. Transtukipistettä ylläpitävän Setan koulutusiltapäivät järjestetään keskiviikkoisin klo 17-20 toimistollamme Länsi-Pasilassa Helsingissä. Yhden koulutuksen hinta on 30 euroa. \nVuoden kolmannen koulutuksen teemana on muunsukupuolisuus. Koulutus vastaa kysymyksiin: \n\nMitä muunsukupuolisuus ja ei-binäärisyys tarkoittaa?\nMinkälaisia erilaisia ei-binäärisiä sukupuoli-identiteettejä on?\nMitä erityistä ei-binäärisyys voi tuoda yksilön elämään?\nMitä muunsukupuoliset toivovat ammattilaisilta tullakseen kohdatuiksi?\n\nKoulutusiltapäivästä vastaa Transtukipisteen palveluohjaaja Miska Salakka. Salakka on sosionomi (AMK) ja työskennellyt Setan Transtukipisteellä palveluohjaajana vuodesta 2016 alkaen. Hän työskentelee kaiken ikäisten sukupuoleltaan moninaisten ihmisten sekä heidän läheistensä kanssa. Sukupuoleltaan moninaisten ihmisten vanhempien kysymyksiin hän on päässyt paneutumaan ohjatessaan Transtukipisteen vanhemmille suunnattua vertaistukiryhmää. Salakka on perehtynyt erikoistumisopinnoissaan ja lopputyössään sukupuolen moninaisuuteen ja erityisesti muunsukupuolisuuteen. \nPaikkoja on rajallisesti\, ja ne jaetaan ilmoittautumisjärjestyksessä. \nILMOITTAUDU TÄSTÄ  \nKevään koulutusiltapäivät\n30.1.2019 Intersukupuolisuus\, kouluttajana TIKA-hankkeen koordinaattori\, psykologi Jaana Pirskanen \n27.2.2019 Transvestisuus\, kouluttajana Transtukipisteen johtava sosiaalityöntekijä\, perheterapeutti Maarit Huuska \n27.3.2019 Muunsukupuolisuus\, kouluttajana Transtukipisteen palveluohjaaja\, sosionomi Miska Salakka \n24.4.2019 Sateenkaarinuoren kohtaaminen\, kouluttajana Setan alueellisen nuorisotyön koordinaattori\, Teija Ryhtä \n22.5. 2019 Vähemmistöstressi\, kouluttajana Transtukipisteen johtava sosiaalityöntekijä\, perheterapeutti Maarit Huuska \nLisätietoa\nMarita Karvinen\nkoulutussuunnittelija\nSetan koulutuspalvelut\, kouluvierailut\, asiantuntijuus hlbtiq-teemoissa \np. + 358 40 570 4328\nmarita.karvinen@seta.fi
URL:https://seta.fi/tapahtumat/koulutusiltapaiva-muunsukupuolisuus/
LOCATION:Setan toimisto\, Haapaniemenkatu 7-9 B 7. krs.\, Helsinki\, 00240\, Suomi
CATEGORIES:Koulutukset,Setan tapahtuma
ATTACH;FMTTYPE=image/png:https://seta.fi/wp-content/uploads/2018/12/Piirtoalusta-1-e1550048227895.png
END:VEVENT
END:VCALENDAR