BEGIN:VCALENDAR
VERSION:2.0
PRODID:-//Seta ry - ECPv6.15.17.1//NONSGML v1.0//EN
CALSCALE:GREGORIAN
METHOD:PUBLISH
X-ORIGINAL-URL:https://seta.fi
X-WR-CALDESC:Tapahtumat Seta ry
REFRESH-INTERVAL;VALUE=DURATION:PT1H
X-Robots-Tag:noindex
X-PUBLISHED-TTL:PT1H
BEGIN:VTIMEZONE
TZID:Europe/Helsinki
BEGIN:DAYLIGHT
TZOFFSETFROM:+0200
TZOFFSETTO:+0300
TZNAME:EEST
DTSTART:20170326T010000
END:DAYLIGHT
BEGIN:STANDARD
TZOFFSETFROM:+0300
TZOFFSETTO:+0200
TZNAME:EET
DTSTART:20171029T010000
END:STANDARD
BEGIN:DAYLIGHT
TZOFFSETFROM:+0200
TZOFFSETTO:+0300
TZNAME:EEST
DTSTART:20180325T010000
END:DAYLIGHT
BEGIN:STANDARD
TZOFFSETFROM:+0300
TZOFFSETTO:+0200
TZNAME:EET
DTSTART:20181028T010000
END:STANDARD
BEGIN:DAYLIGHT
TZOFFSETFROM:+0200
TZOFFSETTO:+0300
TZNAME:EEST
DTSTART:20190331T010000
END:DAYLIGHT
BEGIN:STANDARD
TZOFFSETFROM:+0300
TZOFFSETTO:+0200
TZNAME:EET
DTSTART:20191027T010000
END:STANDARD
END:VTIMEZONE
BEGIN:VEVENT
DTSTART;VALUE=DATE:20181027
DTEND;VALUE=DATE:20181028
DTSTAMP:20260425T061210
CREATED:20181001T124251Z
LAST-MODIFIED:20181001T124251Z
UID:12886-1540598400-1540684799@seta.fi
SUMMARY:Mikkeli Pride 27.10.
DESCRIPTION:Mikkeli Pride 27.10.2018 on kaikille tarkoitettu kulttuuri- ja ihmisoikeustapahtuma. \nMikkelissä Pride järjestetään syksyllä\, vuoden pimeimpään aikaan. Tämä symboloi monien vähemmistöryhmien asemaa myös valtakunnallisesti\, mutta etenkin pienemmissä kaupungeissa ja kunnissa. Mikkeli Pride haluaa tuoda esiin sen\, että Suomessa tasa-arvoisten ja yhdenvertaisten oikeuksien toteutumisessa on suuria maantieteellisiä eroja. \nMikkeli Priden kantavana teemana on tuoda VALOA ja VÄRIÄ pimeään.\nValo – näkyvyys\, kuuluvuuden ja hyväksynnän tunne.\nVäri – yksilöllisyys\, moninaisuus ja yhtenäisyys. \nTänä vuonna Mikkeli Pride haluaa tuoda esiin kaikki vähemmistöt. Mikkeli Pride haluaa korostaa erityisesti tasa-arvoa ja yhdenvertaisuutta työelämässä. \nPysy kuulolla yksityiskohtia julkaistaan: \n\nFacebook: Mikkeli Pride\nInstagram: Mikkelipride\n\nOta yhteyttä:\ninfo@mikkelipride.fi
URL:https://seta.fi/tapahtumat/mikkeli-pride-27-10/
LOCATION:Mikkeli
ATTACH;FMTTYPE=image/jpeg:https://seta.fi/wp-content/uploads/2018/10/31947677_2021165691470766_4833312816301604864_o-scaled.jpg
END:VEVENT
END:VCALENDAR