BEGIN:VCALENDAR
VERSION:2.0
PRODID:-//Seta ry - ECPv6.15.17.1//NONSGML v1.0//EN
CALSCALE:GREGORIAN
METHOD:PUBLISH
X-ORIGINAL-URL:https://seta.fi
X-WR-CALDESC:Tapahtumat Seta ry
REFRESH-INTERVAL;VALUE=DURATION:PT1H
X-Robots-Tag:noindex
X-PUBLISHED-TTL:PT1H
BEGIN:VTIMEZONE
TZID:Europe/Helsinki
BEGIN:DAYLIGHT
TZOFFSETFROM:+0200
TZOFFSETTO:+0300
TZNAME:EEST
DTSTART:20220327T010000
END:DAYLIGHT
BEGIN:STANDARD
TZOFFSETFROM:+0300
TZOFFSETTO:+0200
TZNAME:EET
DTSTART:20221030T010000
END:STANDARD
BEGIN:DAYLIGHT
TZOFFSETFROM:+0200
TZOFFSETTO:+0300
TZNAME:EEST
DTSTART:20230326T010000
END:DAYLIGHT
BEGIN:STANDARD
TZOFFSETFROM:+0300
TZOFFSETTO:+0200
TZNAME:EET
DTSTART:20231029T010000
END:STANDARD
BEGIN:DAYLIGHT
TZOFFSETFROM:+0200
TZOFFSETTO:+0300
TZNAME:EEST
DTSTART:20240331T010000
END:DAYLIGHT
BEGIN:STANDARD
TZOFFSETFROM:+0300
TZOFFSETTO:+0200
TZNAME:EET
DTSTART:20241027T010000
END:STANDARD
END:VTIMEZONE
BEGIN:VEVENT
DTSTART;TZID=Europe/Helsinki:20231129T170000
DTEND;TZID=Europe/Helsinki:20231129T193000
DTSTAMP:20260420T093034
CREATED:20230614T122902Z
LAST-MODIFIED:20230614T122902Z
UID:32645-1701277200-1701286200@seta.fi
SUMMARY:Setan koulutusiltapäivä 29.11. Sateenkaarinuoret koulumaailmassa
DESCRIPTION:Tutkimuksista tiedämme\, että sateenkaarinuoret kohtaavat koulumaailmassa monenlaisia haasteita. He myös kokevat muita nuoria harvemmin saavansa tukea koulun aikuisilta. Koulun henkilökunnalla ei välttämättä ole tarvittavia työkaluja sateenkaarinuorten tukemiseen\, eivätkä koulun rakenteet aina huomioi moninaisuutta riittävällä tavalla. Koulutusiltapäivässä syvennytään käytännön esimerkkien kautta siihen\, miten koulu voisi olla mahdollisimman turvallinen paikka sateenkaarinuorille. Tutustutaan esimerkiksi seuraaviin asioihin:   \n\nMiten yhdenvertaisuus- ja tasa-arvolaki velvoittavat huomioimaan sateenkaarinuoret? Mitä tämä tarkoittaa konkreettisesti\, arjen tasolla? \nMillaisia hyväksi havaittuja toimintamalleja ja vinkkejä on yhdenvertaisuuden edistämiseen ja moninaisuuden huomioimiseen koulun arjessa? \nMillaisia käytännön seikkoja liittyy oppilaan valitun nimen käyttöön ja viralliseen nimenmuutokseen? \nMitä toimia opiskelijan juridisen sukupuolen vahvistamisesta seuraa oppilaitokselle?\n\nKouluttajana toimii Setan nuorisotyön osallisuuden asiantuntija\, sosiaalityöntekijä (YTM) Teija Ryhtä. \nIlmoittaudu tästä
URL:https://seta.fi/tapahtumat/koulutusiltapaiva-29-11-sateenkaarinuoret-koulumaailmassa/
CATEGORIES:Koulutukset
ATTACH;FMTTYPE=image/png:https://seta.fi/wp-content/uploads/2023/06/Sateenkaarinuoret-koulumaailmassa-29.11.png
END:VEVENT
END:VCALENDAR