BEGIN:VCALENDAR
VERSION:2.0
PRODID:-//Seta ry - ECPv6.15.17.1//NONSGML v1.0//EN
CALSCALE:GREGORIAN
METHOD:PUBLISH
X-WR-CALNAME:Seta ry
X-ORIGINAL-URL:https://seta.fi
X-WR-CALDESC:Tapahtumat Seta ry
REFRESH-INTERVAL;VALUE=DURATION:PT1H
X-Robots-Tag:noindex
X-PUBLISHED-TTL:PT1H
BEGIN:VTIMEZONE
TZID:Europe/Helsinki
BEGIN:DAYLIGHT
TZOFFSETFROM:+0200
TZOFFSETTO:+0300
TZNAME:EEST
DTSTART:20210328T010000
END:DAYLIGHT
BEGIN:STANDARD
TZOFFSETFROM:+0300
TZOFFSETTO:+0200
TZNAME:EET
DTSTART:20211031T010000
END:STANDARD
BEGIN:DAYLIGHT
TZOFFSETFROM:+0200
TZOFFSETTO:+0300
TZNAME:EEST
DTSTART:20220327T010000
END:DAYLIGHT
BEGIN:STANDARD
TZOFFSETFROM:+0300
TZOFFSETTO:+0200
TZNAME:EET
DTSTART:20221030T010000
END:STANDARD
BEGIN:DAYLIGHT
TZOFFSETFROM:+0200
TZOFFSETTO:+0300
TZNAME:EEST
DTSTART:20230326T010000
END:DAYLIGHT
BEGIN:STANDARD
TZOFFSETFROM:+0300
TZOFFSETTO:+0200
TZNAME:EET
DTSTART:20231029T010000
END:STANDARD
END:VTIMEZONE
BEGIN:VEVENT
DTSTART;TZID=Europe/Helsinki:20220628T160000
DTEND;TZID=Europe/Helsinki:20220628T183000
DTSTAMP:20260421T141346
CREATED:20220525T104355Z
LAST-MODIFIED:20220602T073857Z
UID:27609-1656432000-1656441000@seta.fi
SUMMARY:Keskustelu: Sateenkaari-ihmisiin kohdistuvat seksuaalisen suuntautumisen ja sukupuoli-identiteetin muutospyrkimykset
DESCRIPTION:Sateenkaari-ihmisiin kohdistuvat seksuaalisen suuntautumisen ja sukupuoli-identiteetin muutospyrkimykset – mistä on kyse ja miten ne tulisi Suomessa kieltää? \nTiistaina 28.6. klo 16:00-18:30 Glo Hotel Artissa 2. kerroksessa sijaitsevassa Jugend-salissa keskustellaan sateenkaari-ihmisiin kohdistuvista seksuaalisen suuntautumisen ja sukupuoli-identiteetin muuttamisyrityksistä Eli mistä tässä niin kutsutussa eheyttämisessä on kyse ja miten ne tulisi Suomessa kieltää?  \nKeskustelua alustaa asiantuntija Peik Ingman\, joka laati Setalle maaliskuussa julkaistun selvityksen näistä muutospyrkimyksistä ja kieltämisen keinoista. Keskustelun tavoitteena on avata sitä\, miksi niin sanottu eheyttämistoiminta on haitallista\, miten siihen on puututtu muissa maissa ja miten se tulisi Suomessa kieltää. \nKeskusteluun ovat tervetulleita sateenkaari-ihmisten oikeuksista ja hyvinvoinnista sekä yhdenvertaisuuden edistämisestä kiinnostuneet aktivistit\, viranomaiset sekä uskonnollisissa/hengellisissä yhteisöissä toimivat henkilöt\, jotka haluavat edistää sateenkaari-ihmisten hyvinvointia niiden piirissä.  \nKeskustelu käydään suomen kielellä. \nEsteettömyys\nJugend-sali on saavutettavissa pyörätuolilla henkilökunnan avustamana. Toiseen kerrokseen kuljetaan saatettuna henkilökunnan hissillä. Samoin Inva-wc on saavutettavissa hissin kautta saatettuna. Tilaisuudessa ei ole tulkkausta eikä induktiosilmukkaa. \nVoit olla yhteydessä eliisa.alatalo@seta.fi\, mikäli sinulla on jotain saavutettavuuteen ja esteettömyyteen liittyviä toiveita.
URL:https://seta.fi/tapahtumat/keskustelu-sateenkaari-ihmisiin-kohdistuvat-seksuaalisen-suuntautumisen-ja-sukupuoli-identiteetin-muutospyrkimykset/
LOCATION:Glo Hotel Art\, Lönnrotinkatu 29\, Helsinki\, 00180
CATEGORIES:Helsinki Pride,Setan tapahtuma
ATTACH;FMTTYPE=image/png:https://seta.fi/wp-content/uploads/2022/05/2-3.png
END:VEVENT
END:VCALENDAR