BEGIN:VCALENDAR
VERSION:2.0
PRODID:-//Seta ry - ECPv6.15.17.1//NONSGML v1.0//EN
CALSCALE:GREGORIAN
METHOD:PUBLISH
X-WR-CALNAME:Seta ry
X-ORIGINAL-URL:https://seta.fi
X-WR-CALDESC:Tapahtumat Seta ry
REFRESH-INTERVAL;VALUE=DURATION:PT1H
X-Robots-Tag:noindex
X-PUBLISHED-TTL:PT1H
BEGIN:VTIMEZONE
TZID:Europe/Helsinki
BEGIN:DAYLIGHT
TZOFFSETFROM:+0200
TZOFFSETTO:+0300
TZNAME:EEST
DTSTART:20200329T010000
END:DAYLIGHT
BEGIN:STANDARD
TZOFFSETFROM:+0300
TZOFFSETTO:+0200
TZNAME:EET
DTSTART:20201025T010000
END:STANDARD
BEGIN:DAYLIGHT
TZOFFSETFROM:+0200
TZOFFSETTO:+0300
TZNAME:EEST
DTSTART:20210328T010000
END:DAYLIGHT
BEGIN:STANDARD
TZOFFSETFROM:+0300
TZOFFSETTO:+0200
TZNAME:EET
DTSTART:20211031T010000
END:STANDARD
BEGIN:DAYLIGHT
TZOFFSETFROM:+0200
TZOFFSETTO:+0300
TZNAME:EEST
DTSTART:20220327T010000
END:DAYLIGHT
BEGIN:STANDARD
TZOFFSETFROM:+0300
TZOFFSETTO:+0200
TZNAME:EET
DTSTART:20221030T010000
END:STANDARD
END:VTIMEZONE
BEGIN:VEVENT
DTSTART;TZID=Europe/Helsinki:20210508T093000
DTEND;TZID=Europe/Helsinki:20210508T160000
DTSTAMP:20260422T171739
CREATED:20210419T064036Z
LAST-MODIFIED:20210419T064743Z
UID:20496-1620466200-1620489600@seta.fi
SUMMARY:Kokemuskouluttajakoulutus Teamsissä 8.5.2021
DESCRIPTION:Uskotko tarinoiden voimaan? Voiko omasta arjesta kertominen auttaa normien purkamisessa? Olisiko kokemusten jakamisesta hyötyä muillekin? \nSeta järjestää lauantaina 8.5.2021 kokemuskouluttajakoulutuksen kaikille\, jotka ovat kiinnostuneita toimimaan Setan tai sen jäsenjärjestöjen koulutuksissa vapaaehtoisina kouluttajina. Koulutus toteutetaan etämuotoisena Teams-alustaa hyödyntäen.\nKoulutuksessa perehdytään muun muassa kokemuskouluttajien rooliin Setan koulutuksissa\, esiintymisen alkeisiin\, etäkouluttamiseen\, yleisön kysymyksiin vastaamiseen ja oman tarinan jäsentämisen rakenteisiin. Lisäksi koulutuksessa harjoitellaan oman tarinan kertomista osana kokemusasiantuntijuutta. \nKoulutuksen rakenne\nKoulutus alkaa klo 9:30 yhteisellä etäosuudella\, jota seuraa noin 2 tunnin osuus itsenäistä työskentelyä. Tämän jälkeen jatketaan verkkotyöskentelyä yhdessä\, ja koulutuspäivä päättyy klo 16:00. \nLisätietoa ja ilmoittautumiset 5.5.2021 mennessä osoitteeseen marita.karvinen@seta.fi. \nMiksi koulutamme kokemuskouluttajia?\nSetan ammattilaisille ja opiskelijoille suunnattuihin asiantuntijakoulutuksiin kuuluu myös kokemusouluttajan osuus. Kokemuskouluttajat toimivat yhteistyössä Setan asiantuntijoiden ja muiden Setan ammatillisten kouluttajien kanssa. Kokemuskouluttajille järjestetään koulutuksia tarpeen mukaan noin kerran vuodessa.
URL:https://seta.fi/tapahtumat/kokemuskouluttajakoulutus-8-5-21/
LOCATION:Microsoft Teams
CATEGORIES:Koulutukset
ATTACH;FMTTYPE=image/png:https://seta.fi/wp-content/uploads/2018/12/koulutuspäiväkuva-e1550048179489.png
END:VEVENT
END:VCALENDAR