BEGIN:VCALENDAR
VERSION:2.0
PRODID:-//Seta ry - ECPv6.15.17.1//NONSGML v1.0//EN
CALSCALE:GREGORIAN
METHOD:PUBLISH
X-ORIGINAL-URL:https://seta.fi
X-WR-CALDESC:Tapahtumat Seta ry
REFRESH-INTERVAL;VALUE=DURATION:PT1H
X-Robots-Tag:noindex
X-PUBLISHED-TTL:PT1H
BEGIN:VTIMEZONE
TZID:Europe/Helsinki
BEGIN:DAYLIGHT
TZOFFSETFROM:+0200
TZOFFSETTO:+0300
TZNAME:EEST
DTSTART:20170326T010000
END:DAYLIGHT
BEGIN:STANDARD
TZOFFSETFROM:+0300
TZOFFSETTO:+0200
TZNAME:EET
DTSTART:20171029T010000
END:STANDARD
BEGIN:DAYLIGHT
TZOFFSETFROM:+0200
TZOFFSETTO:+0300
TZNAME:EEST
DTSTART:20180325T010000
END:DAYLIGHT
BEGIN:STANDARD
TZOFFSETFROM:+0300
TZOFFSETTO:+0200
TZNAME:EET
DTSTART:20181028T010000
END:STANDARD
BEGIN:DAYLIGHT
TZOFFSETFROM:+0200
TZOFFSETTO:+0300
TZNAME:EEST
DTSTART:20190331T010000
END:DAYLIGHT
BEGIN:STANDARD
TZOFFSETFROM:+0300
TZOFFSETTO:+0200
TZNAME:EET
DTSTART:20191027T010000
END:STANDARD
END:VTIMEZONE
BEGIN:VEVENT
DTSTART;TZID=Europe/Helsinki:20180629T171500
DTEND;TZID=Europe/Helsinki:20180629T193000
DTSTAMP:20260425T054912
CREATED:20180606T071655Z
LAST-MODIFIED:20180606T071655Z
UID:11718-1530292500-1530300600@seta.fi
SUMMARY:Faces of lgbtiq+ activism
DESCRIPTION:Setan kansainvälisten asioiden toimikunta järjestää osallistavan keskustelutilaisuuden LGBTIQ-ihmisoikeuspuolustajien unelmista ja todellisuuksista eri puolilta maailmaa. \nTavoitteenamme on laajentaa keskustelua ja ymmärrystä siitä\, mitä LGBTIQ-aktivismi maailmalla on. Mitä se tarkoittaa arjessa\, miltä se näyttää ja kuulostaa\, ja mitä me Suomessa voimme tehdä tukeaksemme paremmin ihmisoikeuksia puolustavia LGBTIQ-aktivisteja maailmalla? \nSuomi tukee eri tavoin ihmisoikeuspuolustajia ja aktivisteja\, mutta onko tämänhetkinen apu riittävää? Nostamme tapahtumassa keskiöön niitä ääniä\, jotka usein ihmisoikeuskeskustelusta puuttuvat\, tavoitteenamme myös murtaa valkoisuutta aktivismin kasvoina. Tapahtuman pääpuhujina toimivat videon välityksellä tarinansa kertovat aktivistit maailman eri puolilta. Tapahtuman kieli on englanti. Paikkana on Helsinki Pride House (Stockmannin vanha One Way\, osoite TBC). \nOhjelma (muutokset mahdollisia): \n17.15 Juontaja toivottaa tervetulleiksi \n17.20 Avaussanat: Michaela Moua\, kansalaisaktivisti ja lyhytterapeutti \n17.35 Esitetään videoita\, joissa globaalit LGBTIQ-aktivistit kertovat omasta elämästään ihmisoikeuspuolustajina ja muutoksentekijöinä eri puolilla maailmaa. \n17.45 Creative LGBTIQ+ activism and resistance in Russia: meet Telaboratoria \n“Telaboratoria” strives to address the trauma of discrimination and stigma toward LGBTQ+ groups in the conservative socio-political environment of Russia by offering tools of selfcare and empowerment through collective practice of dance and theater. The program prioritizes working with Russian transgender and gender-nonbinary communities and supports individuals in finding the connection to their bodies\, developing their voice\, practicing body positivity and expressing oneselves creatively. It provides space for the LGBTQ+ communities to become physically\, emotionally and\, ultimately\, politically engaged. \nYhteistyössä: MOST NGO http://mostngo.fi/ \n18.15 Katsotaan video \n18.20 Mitä Suomi tekee LGBTIQ-ihmisoikeuspuolustajien tukemiseksi? \nKuinka voisimme vielä paremmin tukea globaaleja toimijoita? Miten kansalaisyhteiskunnan ahtaampi tila vaikuttaa aktivismiin? Entä digitalisaatio? Miten meidän tulee ymmärtää oma asemamme pääasiallisesti valkoisina ja etuoikeutettuina toimijoina? \nKeskustelijoina edustajia ihmisoikeuspuolustajien tukitahoista Suomesta: \nTerhi Aaltonen (KIOS ry:n toiminnanjohtaja)\nNina Nordström (Ulkoministeriön ihmisoikeuspolitiikan yksikön päällikkö)\nTuomas Tuure (Kynnys ry:n kehityskoordinaattori) \n19.00 Loppusanat ja video \n19.15 Lopuksi mingle\, pientä tarjottavaa ja aikaa vapaalle keskustelulle \n20.00 Tilaisuus päättyy viimeistään \n—- \nSeta’s committee on international affairs is organizing a participatory discussion on the dreams and realities of LGBTIQ+ human rights defenders from different global contexts. \nOur aim is to broaden the Finnish discourse and understanding of global LGBTIQ+ activism. What are the everyday realities of LGBTIQ+ activism? How does it look like in different contexts? What can we do in Finland to support LGBTIQ+ human rights defenders elsewhere in the world? \nBoth the Finnish state and various civil society organizations support human rights defenders and activists in various ways\, but does the current support respond sufficiently to different local contexts? \nFaces of LGBTIQ+ activism aims to make those voices heard that are often lacking from the current human rights discourse. We will also aim to disrupt whiteness as the face of activism. \nMain speakers of the event are the activists from different global contexts telling their stories on video and live in the event. The language of the event is English. \nProgram (initial version that might still change): \n17.15 Welcome by the host \n17.20 Opening words: Michaela Moua\, activist and therapist \n17.35 Videos of global LGBTIQ+ activists telling stories of their everyday lives and realities as human rights defenders and change makers in different global contexts \n17.45 Creative LGBTIQ+ activism and resistance in Russia: meet Telaboratoria \n“Telaboratoria” strives to address the trauma of discrimination and stigma toward LGBTQ+ groups in the conservative socio-political environment of Russia by offering tools of selfcare and empowerment through collective practice of dance and theater. The program prioritizes working with Russian transgender and gender-nonbinary communities and supports individuals in finding the connection to their bodies\, developing their voice\, practicing body positivity and expressing oneselves creatively. It provides space for the LGBTQ+ communities to become physically\, emotionally and\, ultimately\, politically engaged. \nIn collaboration with MOST NGO http://mostngo.fi/ \n18.15 Videos of global LGBTIQ+ activists \n18.20 Discussion: What does Finland do to support LGBTIQ+ human rights defenders globally? \nWhat could we do to strengthen the support for global activists? What are the consequences of global trends such as shrinking civic space and digitalization for LGBTIQ+ activism? How should we reflect on our positions as mainly white and globally privileged actors in human rights activism? \nParticipants consist of Finnish officials and activists defending and supporting human rights globally: \nTerhi Aaltonen (Executive Director\, KIOS Foundation)\nNina Nordström (Director\, the Unit for Human Rights Policy\, Ministry for Foreign Affairs of Finland)\nTuomas Tuure (Development Coordinator\, the Threshold Association) \n19.00 Closing words and videos of global LGBTIQ+ activists \n19.15 Open discussion and informal mingle \n20.00 End of the event
URL:https://seta.fi/tapahtumat/faces-of-lgbtiq-activism/
CATEGORIES:Pride,Setan tapahtuma
ATTACH;FMTTYPE=:
END:VEVENT
END:VCALENDAR