BEGIN:VCALENDAR
VERSION:2.0
PRODID:-//Seta ry - ECPv6.15.17.1//NONSGML v1.0//EN
CALSCALE:GREGORIAN
METHOD:PUBLISH
X-ORIGINAL-URL:https://seta.fi
X-WR-CALDESC:Tapahtumat Seta ry
REFRESH-INTERVAL;VALUE=DURATION:PT1H
X-Robots-Tag:noindex
X-PUBLISHED-TTL:PT1H
BEGIN:VTIMEZONE
TZID:Europe/Helsinki
BEGIN:DAYLIGHT
TZOFFSETFROM:+0200
TZOFFSETTO:+0300
TZNAME:EEST
DTSTART:20160327T010000
END:DAYLIGHT
BEGIN:STANDARD
TZOFFSETFROM:+0300
TZOFFSETTO:+0200
TZNAME:EET
DTSTART:20161030T010000
END:STANDARD
BEGIN:DAYLIGHT
TZOFFSETFROM:+0200
TZOFFSETTO:+0300
TZNAME:EEST
DTSTART:20170326T010000
END:DAYLIGHT
BEGIN:STANDARD
TZOFFSETFROM:+0300
TZOFFSETTO:+0200
TZNAME:EET
DTSTART:20171029T010000
END:STANDARD
BEGIN:DAYLIGHT
TZOFFSETFROM:+0200
TZOFFSETTO:+0300
TZNAME:EEST
DTSTART:20180325T010000
END:DAYLIGHT
BEGIN:STANDARD
TZOFFSETFROM:+0300
TZOFFSETTO:+0200
TZNAME:EET
DTSTART:20181028T010000
END:STANDARD
END:VTIMEZONE
BEGIN:VEVENT
DTSTART;VALUE=DATE:20171110
DTEND;VALUE=DATE:20171113
DTSTAMP:20260426T070535
CREATED:20170921T130656Z
LAST-MODIFIED:20170921T130656Z
UID:10154-1510272000-1510531199@seta.fi
SUMMARY:Setan nuorten aktiiviviikonloppu Jyväskylässä
DESCRIPTION:Setan nuorten aktiiviviikonloppu lähestyy jälleen! Tänä vuonna aktiiviviikonloppu järjestetään 10.–12.11. Jyväskylässä Kansalaistoiminnankeskus Mataran tiloissa. \nAktiiviviikonloppu kokoaa nuoria ympäri Suomen tutustumaan toisiinsa ja toimimaan ihmisoikeuksien puolesta. Tapahtuma on avoin kaikille Setan toiminnasta ja sateenkaarevista teemoista kiinnostuneille nuorille. Aktiiviviikonlopun ohjelmasta vastaa Setan nuorisotoimikunta – luvassa on erilaisia työpajoja ja muuta ohjelmaa liittyen muun muassa poliittiseen vaikuttamiseen ja itseilmaisuun. Mukana on myös vierailijoita. Viikonloppu järjestetään yhteistyössä Jyväskylän Setan kanssa. \nIlmoittautumiset lomakkeen kautta 31.10.2017 klo 12 mennessä. Seta tarjoaa osallistujille matkat\, majoituksen ja ruokailut. Muistathan ilmoittaa mahdollisista erityisruokavalioista ja muista erityistarpeista. Kokoustilat ovat esteettömät\, ja majoituspaikassa on saatavilla myös esteettömiä huoneita. Jos olet alle 18-vuotias\, sinun tarvitsee lähettää huoltajan kirjallinen suostumus leirille osallistuaksesi. Myös huoltajan sähköpostista lähetetty vahvistus riittää. \nIlmoittaudu: https://goo.gl/jB5PSY \nIlmoittautuneille lähetetään tarkempi tietopaketti viikonlopun lähestyessä. \nLisätiedot nuorisotyön koordinaattorilta: \nHeta Hölttä\nheta.holtta@seta.fi\n+358 44 301 3020 \nSetan nuorisotoiminta on päihteetöntä ja kaiken muotoisesta syrjinnästä vapaata. Toiminnassa kunnioitetaan jokaisen yhdenvertaisuutta\, tasa-arvoa\, itsemäärittelyä ja määrittelemättömyyttä. \nLisätietoa kansalaistoiminnankeskus Matarasta löytyy osoitteesta http://www.matara.fi/ \nMajoitus järjestetään Omena-hotellissa Jyväskylässä os. Vapaudenkatu 57. https://www.omenahotels.com/fi/hotellit/jyvaskyla/
URL:https://seta.fi/tapahtumat/setan-nuorten-aktiiviviikonloppu-jyvaskylassa/
CATEGORIES:Setan tapahtuma
ATTACH;FMTTYPE=:
END:VEVENT
END:VCALENDAR