BEGIN:VCALENDAR
VERSION:2.0
PRODID:-//Seta ry - ECPv6.15.17.1//NONSGML v1.0//EN
CALSCALE:GREGORIAN
METHOD:PUBLISH
X-ORIGINAL-URL:https://seta.fi
X-WR-CALDESC:Tapahtumat Seta ry
REFRESH-INTERVAL;VALUE=DURATION:PT1H
X-Robots-Tag:noindex
X-PUBLISHED-TTL:PT1H
BEGIN:VTIMEZONE
TZID:Europe/Helsinki
BEGIN:DAYLIGHT
TZOFFSETFROM:+0200
TZOFFSETTO:+0300
TZNAME:EEST
DTSTART:20180325T010000
END:DAYLIGHT
BEGIN:STANDARD
TZOFFSETFROM:+0300
TZOFFSETTO:+0200
TZNAME:EET
DTSTART:20181028T010000
END:STANDARD
BEGIN:DAYLIGHT
TZOFFSETFROM:+0200
TZOFFSETTO:+0300
TZNAME:EEST
DTSTART:20190331T010000
END:DAYLIGHT
BEGIN:STANDARD
TZOFFSETFROM:+0300
TZOFFSETTO:+0200
TZNAME:EET
DTSTART:20191027T010000
END:STANDARD
BEGIN:DAYLIGHT
TZOFFSETFROM:+0200
TZOFFSETTO:+0300
TZNAME:EEST
DTSTART:20200329T010000
END:DAYLIGHT
BEGIN:STANDARD
TZOFFSETFROM:+0300
TZOFFSETTO:+0200
TZNAME:EET
DTSTART:20201025T010000
END:STANDARD
END:VTIMEZONE
BEGIN:VEVENT
DTSTART;TZID=Europe/Helsinki:20190510T080000
DTEND;TZID=Europe/Helsinki:20190510T153000
DTSTAMP:20260425T061441
CREATED:20181203T105129Z
LAST-MODIFIED:20190226T092229Z
UID:13587-1557475200-1557502200@seta.fi
SUMMARY:Intersukupuolisuus-seminaari 10.5.2019\, Helsinki
DESCRIPTION:Tukea intersukupuolisille\, keinoja ammattilaisille -hanke (TIKA) järjestää Helsingissä Kulttuuritalolla\, Alvar-studiossa (Sturenkatu 4) yhden päivän seminaarin intersukupuolisuudesta 10. toukokuuta 2019 terveydenhuollon ja kasvatusalan ammattilaisille. Seminaari sopii erityisesti neuvolatyöntekijöille\, kätilöille\, gynekologeille\, sairaanhoitajille\, päiväkotityöntekijöille\, opettajille\, psykologeille ja terapeuteille. \nSeminaaripäivä on osallistujille ilmainen ja se sisältää aamupalan ja iltapäiväkahvin. Aamupäivän pääpuhuja on Kitty Anderson intersukupuolisten ihmisoikeusjärjestöstä Organization Intersex International. \nIltapäivällä on TIKA-hankkeen koordinaattori Jaana Pirskasen\, kouluttaja\, ryhmänohjaaja ja seksuaalipedagogi Juha Kilpiän ja Transtukipisteen johtavan sosiaalityöntekijän ja perheterapeutti Maarit Huuskan ohjaamia työpajoja. Työpajojen teemat ovat: intersukupuolisuus ja vanhemmuus\, sensitiivinen kohtaaminen ammattilaisena sekä intersukupuolisuus ja traumanäkökulma. Jokainen työpaja järjestetään kolme kertaa\, eli osallistujat voivat osallistua kaikkiin työpajoihin. \nVALITETTAVASTI SEMINAARI ON TÄYNNÄ. Kiitos ilmoittautuneille.  \nSeminaarin ohjelma:\n  \n08-09 Aamupala  \n 9.00- 09.10 Tervetulotoivotus\, Jaana Pirskanen and Juha Kilpiä  \n 09.10 – 10.10 Kitty Anderson\, OII Europe – Human rights in healthcare\, history and the present day  (Tulkattu suomeksi)\n \n 15 minuutin tauko  \n 10.25 -11.30 Kitty Anderson\, OII Europe – Presentation of a legal checklist and a parents toolkit  (Tulkattu suomeksi)\n \n 11.30-12 Questions and discussion with Kitty (Tulkattavissa suomeksi)\n \n Lounas (omakustanteinen) 12.00 -13.00  \n 13.00 – 13.40 Työpajatyöskentelyä\n \n 13.45 -14.25 Työpajatyöskentelyä\n \n kahvi 14.25 – 14.45  \n 14.45-15.25 Työpajatyöskentelyä\n \n 15.30 – 16.00 Yhteinen loppukeskustelu  \nLisätietoa\nJaana Pirskanen\nhankekoordinaattori \nTIKA-hankkeen koordinointi\nKonsultointi intersukupuolisuudesta\, sensitiivisestä kohtaamisesta ja intersukupuolisten tuesta \np. +358 50 307 0672\njaana.pirskanen@seta.fi
URL:https://seta.fi/tapahtumat/intersukupuolisuus-seminaari-10-5-2019-helsinki/
LOCATION:Kulttuuritalo\, Sturenkatu 4\, Helsinki\, Suomi
CATEGORIES:Koulutukset,Setan tapahtuma,TIKA-hanke
ATTACH;FMTTYPE=image/png:https://seta.fi/wp-content/uploads/2018/12/isseminaari2019-e1550048069180.png
END:VEVENT
END:VCALENDAR