BEGIN:VCALENDAR
VERSION:2.0
PRODID:-//Seta ry - ECPv6.15.17.1//NONSGML v1.0//EN
CALSCALE:GREGORIAN
METHOD:PUBLISH
X-WR-CALNAME:Seta ry
X-ORIGINAL-URL:https://seta.fi
X-WR-CALDESC:Tapahtumat Seta ry
REFRESH-INTERVAL;VALUE=DURATION:PT1H
X-Robots-Tag:noindex
X-PUBLISHED-TTL:PT1H
BEGIN:VTIMEZONE
TZID:Europe/Helsinki
BEGIN:DAYLIGHT
TZOFFSETFROM:+0200
TZOFFSETTO:+0300
TZNAME:EEST
DTSTART:20240331T010000
END:DAYLIGHT
BEGIN:STANDARD
TZOFFSETFROM:+0300
TZOFFSETTO:+0200
TZNAME:EET
DTSTART:20241027T010000
END:STANDARD
BEGIN:DAYLIGHT
TZOFFSETFROM:+0200
TZOFFSETTO:+0300
TZNAME:EEST
DTSTART:20250330T010000
END:DAYLIGHT
BEGIN:STANDARD
TZOFFSETFROM:+0300
TZOFFSETTO:+0200
TZNAME:EET
DTSTART:20251026T010000
END:STANDARD
BEGIN:DAYLIGHT
TZOFFSETFROM:+0200
TZOFFSETTO:+0300
TZNAME:EEST
DTSTART:20260329T010000
END:DAYLIGHT
BEGIN:STANDARD
TZOFFSETFROM:+0300
TZOFFSETTO:+0200
TZNAME:EET
DTSTART:20261025T010000
END:STANDARD
END:VTIMEZONE
BEGIN:VEVENT
DTSTART;TZID=Europe/Helsinki:20251125T100000
DTEND;TZID=Europe/Helsinki:20251125T113000
DTSTAMP:20260424T055839
CREATED:20251113T081642Z
LAST-MODIFIED:20251113T081659Z
UID:42279-1764064800-1764070200@seta.fi
SUMMARY:Ei-binääriset ihmiset näkyviksi -tilaisuus Kansalaisinfossa
DESCRIPTION:Aika: 25.11.2025\, klo 10–11.30\nPaikka: Eduskunnan Kansalaisinfo\, Arkadiankatu 3\, Helsinki\nJärjestää: Eduskunnan sateenkaariverkosto \nIlmoittautuminen tilaisuuteen viimeistään 21.11.2025 tästä linkistä: Ei-binääriset ihmiset näkyviksi -tilaisuus \nOsallistujia pyydetään varautumaan turvatarkastukseen. Kansalaisinfon saapumistiedot:  https://www.eduskunta.fi/FI/naineduskuntatoimii/kansalaisinfo/Sivut/default.aspx \n  \nOhjelma\n10– 10.15 Kahvitarjoilu \n10.15–10.20 Tervetuloa\, sateenkaariverkoston puheenjohtaja\, kansanedustaja Elisa Gebhard \n10.20–10.30 Ei-binääriset ihmiset näkyviksi\, kokemuspuheenvuoroja Näkyväksi-kampanjalaisilta Kuisma ja Ipa sekä Hanna \n10.30–10.40 Olemme olemassa -kansalaisaloite ei-binäärisen juridisen sukupuolen tunnustamiseksi\, aloitteen tekijät Oona ja Lumi \n10.40–10.50 Ihmisoikeusnäkökulma ei-binääriseen sukupuolen tunnustamiseen\, asiantuntija Leena Leikas\, Ihmisoikeuskeskus \n10.50–11.20 Keskustelua\, kysymyksiä \n11.20 Tilaisuuden päättäminen \n  \nLisätiedot: Kerttu Tarjamo\, kerttu.tarjamo@seta.fi
URL:https://seta.fi/tapahtumat/ei-binaariset-ihmiset-nakyviksi-tilaisuus-kansalaisinfossa/
LOCATION:Eduskunnan Kansalaisinfo\, Arkadiankatu 3\, Helsinki
CATEGORIES:Setan tapahtuma
ATTACH;FMTTYPE=image/png:https://seta.fi/wp-content/uploads/2025/11/Kansalaisinfon-tilaisuus-25.11.2025.png
END:VEVENT
END:VCALENDAR