BEGIN:VCALENDAR
VERSION:2.0
PRODID:-//Seta ry - ECPv6.15.17.1//NONSGML v1.0//EN
CALSCALE:GREGORIAN
METHOD:PUBLISH
X-WR-CALNAME:Seta ry
X-ORIGINAL-URL:https://seta.fi
X-WR-CALDESC:Tapahtumat Seta ry
REFRESH-INTERVAL;VALUE=DURATION:PT1H
X-Robots-Tag:noindex
X-PUBLISHED-TTL:PT1H
BEGIN:VTIMEZONE
TZID:Europe/Helsinki
BEGIN:DAYLIGHT
TZOFFSETFROM:+0200
TZOFFSETTO:+0300
TZNAME:EEST
DTSTART:20230326T010000
END:DAYLIGHT
BEGIN:STANDARD
TZOFFSETFROM:+0300
TZOFFSETTO:+0200
TZNAME:EET
DTSTART:20231029T010000
END:STANDARD
BEGIN:DAYLIGHT
TZOFFSETFROM:+0200
TZOFFSETTO:+0300
TZNAME:EEST
DTSTART:20240331T010000
END:DAYLIGHT
BEGIN:STANDARD
TZOFFSETFROM:+0300
TZOFFSETTO:+0200
TZNAME:EET
DTSTART:20241027T010000
END:STANDARD
BEGIN:DAYLIGHT
TZOFFSETFROM:+0200
TZOFFSETTO:+0300
TZNAME:EEST
DTSTART:20250330T010000
END:DAYLIGHT
BEGIN:STANDARD
TZOFFSETFROM:+0300
TZOFFSETTO:+0200
TZNAME:EET
DTSTART:20251026T010000
END:STANDARD
END:VTIMEZONE
BEGIN:VEVENT
DTSTART;TZID=Europe/Helsinki:20241024T100000
DTEND;TZID=Europe/Helsinki:20241024T160000
DTSTAMP:20260420T064128
CREATED:20241009T082906Z
LAST-MODIFIED:20241009T082940Z
UID:37467-1729764000-1729785600@seta.fi
SUMMARY:Vertaisina vihaa vastaan -loppuseminaari (etä) 24.10.2024
DESCRIPTION:Vihapuhe ja viharikokset ovat kasvaneet hälyttävästi viime vuosina EU:ssa. Vertaisina Vihaa Vastaan -hanke on pyrkinyt vahvistamaan viranomaisten ja kansalaisyhteiskunnan kykyä torjua vihaa vertaisoppimisen avulla. Osana hanketta Seta järjestää englanninkielisen etäkonferenssin 24. lokakuuta klo 10.00–16.00 EET (Helsingin aikaa). \nKonferenssissa esitellään ja keskustellaan hankkeen tuloksista ja havainnoista. Lisäksi käsitellään näkemyksiä tulevaisuudesta eri kansalaisjärjestöjen edustajien kanssa. \nLue lisää ja ilmoittaudu mukaan!
URL:https://seta.fi/tapahtumat/vertaisina-vihaa-vastaan-loppuseminaari-eta-24-10-2024/
CATEGORIES:Setan tapahtuma
ATTACH;FMTTYPE=image/png:https://seta.fi/wp-content/uploads/2024/10/Verkkosivujen-uutiskuvia-2023-17.png
END:VEVENT
END:VCALENDAR