BEGIN:VCALENDAR
VERSION:2.0
PRODID:-//Seta ry - ECPv6.15.17.1//NONSGML v1.0//EN
CALSCALE:GREGORIAN
METHOD:PUBLISH
X-WR-CALNAME:Seta ry
X-ORIGINAL-URL:https://seta.fi
X-WR-CALDESC:Tapahtumat Seta ry
REFRESH-INTERVAL;VALUE=DURATION:PT1H
X-Robots-Tag:noindex
X-PUBLISHED-TTL:PT1H
BEGIN:VTIMEZONE
TZID:Europe/Helsinki
BEGIN:DAYLIGHT
TZOFFSETFROM:+0200
TZOFFSETTO:+0300
TZNAME:EEST
DTSTART:20200329T010000
END:DAYLIGHT
BEGIN:STANDARD
TZOFFSETFROM:+0300
TZOFFSETTO:+0200
TZNAME:EET
DTSTART:20201025T010000
END:STANDARD
BEGIN:DAYLIGHT
TZOFFSETFROM:+0200
TZOFFSETTO:+0300
TZNAME:EEST
DTSTART:20210328T010000
END:DAYLIGHT
BEGIN:STANDARD
TZOFFSETFROM:+0300
TZOFFSETTO:+0200
TZNAME:EET
DTSTART:20211031T010000
END:STANDARD
BEGIN:DAYLIGHT
TZOFFSETFROM:+0200
TZOFFSETTO:+0300
TZNAME:EEST
DTSTART:20220327T010000
END:DAYLIGHT
BEGIN:STANDARD
TZOFFSETFROM:+0300
TZOFFSETTO:+0200
TZNAME:EET
DTSTART:20221030T010000
END:STANDARD
END:VTIMEZONE
BEGIN:VEVENT
DTSTART;TZID=Europe/Helsinki:20211222T170000
DTEND;TZID=Europe/Helsinki:20211222T200000
DTSTAMP:20260422T050039
CREATED:20210608T102140Z
LAST-MODIFIED:20211209T060924Z
UID:21115-1640192400-1640203200@seta.fi
SUMMARY:Koulutusiltapäivä 22.12. Muunsukupuoliset ja ei-binäärit – näkymättömästä näkyväksi
DESCRIPTION:Setan koulutusiltapäivät ovat ammattilaisille ja opiskelijoille sekä sateenkaariteemoista kiinnostuneille suunnattuja koulutuksia\, joissa perehdytään ajankohtaisiin sukupuolen ja seksuaalisen suuntautumisen moninaisuutta käsitteleviin teemoihin. Koulutusiltapäivät järjestetään keskiviikkoisin klo 17–20 verkossa Microsoft Teamsin avulla. Yhden koulutuksen hinta on 25 euroa. \n22.9.2021 teemana on muunsukupuoliset ja ei-binäärit identiteetit. Kouluttajana toimii sosionomi (AMK)\, Sukupuolen moninaisuuden osaamiskeskuksen sosiaaliohjaaja Enni Happonen. \n\nCisnormi on yhteiskuntamme ja kulttuurimme ajatusmalli ja kirjoittamaton sääntö\, jonka mukaan kaikki ihmiset kokevat heille syntymässä määritellyn sukupuolen omakseen ja ilmentävät sitä yksiselitteisesti. \nMitä jos oma sukupuoli-identiteetti ei osukaan tähän cisnormiin eikä edes kaksijakoiseen sukupuolijärjestelmään? Minkälaista on elää binäärin ulkopuolella ja millaisia haasteita muunsukupuoliset saattavat kohdata päivittäisessä elämässään? Miten voisimme edesauttaa sitä\, että jokainen voisi tulla nähdyksi\, kuulluksi ja ennen kaikkea todeksi muiden silmissä ja mitä seurauksia näkymättömyys voi yksilölle aiheuttaa? \nKoulutuksessa käydään läpi muun muassa näitä kysymyksiä ja pohditaan\, miten inklusiivisuutta voisi omassa työssään toteuttaa parhaalla mahdollisella tavalla. \n\n\nKoulutus on suunnattu sosiaali-\, terveys- ja kasvatusalojen ammattilaisille\, sekä näiden alojen opiskelijoille. \n\n\nILMOITTAUDU KOULUTUKSEEN \n\n 
URL:https://seta.fi/tapahtumat/koulutusiltapaiva-22-12-muunsukupuoliset-ja-ei-binaarit-nakymattomasta-nakyvaksi/
CATEGORIES:Koulutukset,Setan tapahtuma
ATTACH;FMTTYPE=image/png:https://seta.fi/wp-content/uploads/2021/06/Piirtoalusta-2-kopio-6.png
END:VEVENT
END:VCALENDAR