BEGIN:VCALENDAR
VERSION:2.0
PRODID:-//Seta ry - ECPv6.15.17.1//NONSGML v1.0//EN
CALSCALE:GREGORIAN
METHOD:PUBLISH
X-ORIGINAL-URL:https://seta.fi
X-WR-CALDESC:Tapahtumat Seta ry
REFRESH-INTERVAL;VALUE=DURATION:PT1H
X-Robots-Tag:noindex
X-PUBLISHED-TTL:PT1H
BEGIN:VTIMEZONE
TZID:Europe/Helsinki
BEGIN:DAYLIGHT
TZOFFSETFROM:+0200
TZOFFSETTO:+0300
TZNAME:EEST
DTSTART:20200329T010000
END:DAYLIGHT
BEGIN:STANDARD
TZOFFSETFROM:+0300
TZOFFSETTO:+0200
TZNAME:EET
DTSTART:20201025T010000
END:STANDARD
BEGIN:DAYLIGHT
TZOFFSETFROM:+0200
TZOFFSETTO:+0300
TZNAME:EEST
DTSTART:20210328T010000
END:DAYLIGHT
BEGIN:STANDARD
TZOFFSETFROM:+0300
TZOFFSETTO:+0200
TZNAME:EET
DTSTART:20211031T010000
END:STANDARD
BEGIN:DAYLIGHT
TZOFFSETFROM:+0200
TZOFFSETTO:+0300
TZNAME:EEST
DTSTART:20220327T010000
END:DAYLIGHT
BEGIN:STANDARD
TZOFFSETFROM:+0300
TZOFFSETTO:+0200
TZNAME:EET
DTSTART:20221030T010000
END:STANDARD
END:VTIMEZONE
BEGIN:VEVENT
DTSTART;TZID=Europe/Helsinki:20210505T160000
DTEND;TZID=Europe/Helsinki:20210505T180000
DTSTAMP:20260425T165349
CREATED:20210414T104216Z
LAST-MODIFIED:20210415T055511Z
UID:20448-1620230400-1620237600@seta.fi
SUMMARY:Vanhuuteen varautuminen ja oikeudellinen ennakointi
DESCRIPTION:Tervetuloa etätilaisuuteen vanhuuteen varautumisesta ja oikeudellisesta ennakoinnista sateenkaarevasta näkökulmasta katsottuna! Etätilaisuus järjestetään keskiviikkona 5.5.2021 klo 16–18 ja tilaisuus on suunnattu kaikille yli 50-vuotiaille sateenkaari-ihmisille sekä muille aiheesta kiinnostuneille. Tilaisuus järjestetään verkkovälitteisesti Teams-verkkoalustalla ja tapahtumaan osallistuminen on maksutonta. \nTapahtuman järjestävät yhteistyössä Setan seniorityö\, Mummolaakso ja Vanhustyön keskusliitto sekä Asianajotoimisto Legal Lounge. \nIlmoittaudu mukaan tästä \nVanhuuteen varautuminen on ennakointia ja suunnittelua hyvän vanhuusiän mahdollistamiseksi. Voit varautua vanhuuteen esimerkiksi huolehtimalla omasta terveydestä\, toimintakyvystä ja sosiaalisista suhteista\, ennakoimalla taloudellista toimeentuloa sekä pohtimalla asumisen vaihtoehtoja. \nOikeudellisista asiakirjoista huolehtiminen on myös tärkeä osa vanhuuteen varautumista. Sateenkaari-ihmisten läheis- ja perhesuhteet ovat usein lain käsitteitä moninaisempia\, miten voi varmistua siitä\, että tämä näkyy esimerkiksi perinnönjaossa? Löytyykö sinulta hoitotahto ja testamentti? Oletko laatinut edunvalvontavaltuutuksen? Näiden asiakirjojen avulla huolehdit siitä\, että sinulla ja itse määrittelemilläsi läheisilläsi säilyy päätäntävalta asioistasi elämän loppuun saakka. \nTapahtumassa saat tietoa vanhuuteen varautumisesta ja tukea erityisesti oikeudelliseen ennakointiin. Puhujina ovat Vanheneminen.fi -hankkeen hankepäällikkö Eve-Linda Lassila ja asianajaja Hanna Rahikka Asianajotoimisto Legal Loungesta. Voit lähettää puhujille etukäteen kysymyksiä ilmoittautumisen yhteydessä. \nIlmoittaudu viimeistään tiistain 4.5. aikana! \n  \nVanheneminen.fi-sivustolta löytyy kattavasti tietoa liittyen oikeudelliseen ennakointiin\, kuten seikkaperäiset ohjeet edunvalvontavaltuutuksen laatimiseen. Lisäksi sivustolta löydät tietoa terveydestä\, mielekkäästä elämästä sekä talouden ja asumisen ennakoinnista. \nKuva: Ilkka Vuorinen
URL:https://seta.fi/tapahtumat/vanhuuteen-varautuminen-ja-oikeudellinen-ennakointi/
CATEGORIES:Setan tapahtuma
ATTACH;FMTTYPE=image/jpeg:https://seta.fi/wp-content/uploads/2021/04/VTKL-2132-1.jpg
END:VEVENT
END:VCALENDAR