BEGIN:VCALENDAR
VERSION:2.0
PRODID:-//Seta ry - ECPv6.15.17.1//NONSGML v1.0//EN
CALSCALE:GREGORIAN
METHOD:PUBLISH
X-ORIGINAL-URL:https://seta.fi
X-WR-CALDESC:Tapahtumat Seta ry
REFRESH-INTERVAL;VALUE=DURATION:PT1H
X-Robots-Tag:noindex
X-PUBLISHED-TTL:PT1H
BEGIN:VTIMEZONE
TZID:Europe/Helsinki
BEGIN:DAYLIGHT
TZOFFSETFROM:+0200
TZOFFSETTO:+0300
TZNAME:EEST
DTSTART:20180325T010000
END:DAYLIGHT
BEGIN:STANDARD
TZOFFSETFROM:+0300
TZOFFSETTO:+0200
TZNAME:EET
DTSTART:20181028T010000
END:STANDARD
BEGIN:DAYLIGHT
TZOFFSETFROM:+0200
TZOFFSETTO:+0300
TZNAME:EEST
DTSTART:20190331T010000
END:DAYLIGHT
BEGIN:STANDARD
TZOFFSETFROM:+0300
TZOFFSETTO:+0200
TZNAME:EET
DTSTART:20191027T010000
END:STANDARD
BEGIN:DAYLIGHT
TZOFFSETFROM:+0200
TZOFFSETTO:+0300
TZNAME:EEST
DTSTART:20200329T010000
END:DAYLIGHT
BEGIN:STANDARD
TZOFFSETFROM:+0300
TZOFFSETTO:+0200
TZNAME:EET
DTSTART:20201025T010000
END:STANDARD
END:VTIMEZONE
BEGIN:VEVENT
DTSTART;TZID=Europe/Helsinki:20191113T110000
DTEND;TZID=Europe/Helsinki:20191113T153000
DTSTAMP:20260424T203529
CREATED:20190927T054604Z
LAST-MODIFIED:20190927T054605Z
UID:15613-1573642800-1573659000@seta.fi
SUMMARY:Avoimet ovat Sukupuolen moninaisuuden osaamiskeskuksella
DESCRIPTION:Työskenteletkö asiakastyössä sosiaali- tai terveysalalla\, nuorten kanssa tai opiskeletko alalle? Mietitkö\, miten voisit työssäsi omalla asiantuntemuksellasi parhaiten palvella ihmisiä\, joita sukupuolen moninaisuus koskettaa? Tarvitsetko lisää tietoa transihmisyydestä tai intersukupuolisuudesta? \nTervetuloa Setan erillisyksikön Sukupuolen moninaisuuden osaamiskeskuksen (Pasilanraitio 5\, toinen kerros) avointen ovien iltapäivään 13.11.2019 klo 12.00-15.30. Työntekijät pitävät lyhyitä tietoiskuja\, joissa käsitellään sukupuolen moninaisuutta sekä Sukupuolen osaamiskeskuksen palveluita. Tilaisuus on myös erinomainen mahdollisuus verkostoitua muiden ammattilaisten kanssa. \nOlet lämpimästi tervetullut mukaan kyselemään\, keskustelemaan ja verkostoitumaan! Tilaisuuteen on ennakkoilmoittautuminen. \nIlmoittaudu tilaisuuteen tästä! \nOhjelma\n12-12.45 Sukupuolen moninaisuuden osaamiskeskuksen palvelut ja uudet toimintamuodot. Palveluohjaaja Miska Salakka.  \n12.45-13.00 Tauko  \n13.00-13.30 Mikä samankaltaista\, mikä erilaista transihmisten ja intersukupuolisten tilanteessa ja tuen tarpeessa? Dialoginen tietoisku. Johtava sosiaalityöntekijä Maarit Huuska ja projektikoordinaattori Jaana Pirskanen.  \n13.30-13.45 Tauko  \n13.45-14.15 Nuorten tukeminen ja palveluohjaus. Nuorten erityisohjaaja Sasu Mattila ja palveluohjaaja Miska Salakka  \n14.15-14.30 Tauko  \n14.30-15.00 Miten omalla työpaikalla on huomioitu sukupuolen ja kehojen moninaisuus? Mistä itse haluan oppia lisää? Ohjattu oman työn reflektointi pienryhmässä.  \n15.00-15.30 Loppukeskustelu  \nSukupuolen moninaisuuden osaamiskeskus toimi ennen 4.4. nimellä Transtukipiste.
URL:https://seta.fi/tapahtumat/avoimet-ovat-sukupuolen-moninaisuuden-osaamiskeskuksella/
LOCATION:Setan toimisto\, Haapaniemenkatu 7-9 B 7. krs.\, Helsinki\, 00240\, Suomi
CATEGORIES:Koulutukset,Setan tapahtuma
ATTACH;FMTTYPE=image/png:https://seta.fi/wp-content/uploads/2019/09/Avoimeovet_SMOKmarraskuu.png
END:VEVENT
END:VCALENDAR