BEGIN:VCALENDAR
VERSION:2.0
PRODID:-//Seta ry - ECPv6.15.17.1//NONSGML v1.0//EN
CALSCALE:GREGORIAN
METHOD:PUBLISH
X-ORIGINAL-URL:https://seta.fi
X-WR-CALDESC:Tapahtumat Seta ry
REFRESH-INTERVAL;VALUE=DURATION:PT1H
X-Robots-Tag:noindex
X-PUBLISHED-TTL:PT1H
BEGIN:VTIMEZONE
TZID:Europe/Helsinki
BEGIN:DAYLIGHT
TZOFFSETFROM:+0200
TZOFFSETTO:+0300
TZNAME:EEST
DTSTART:20190331T010000
END:DAYLIGHT
BEGIN:STANDARD
TZOFFSETFROM:+0300
TZOFFSETTO:+0200
TZNAME:EET
DTSTART:20191027T010000
END:STANDARD
BEGIN:DAYLIGHT
TZOFFSETFROM:+0200
TZOFFSETTO:+0300
TZNAME:EEST
DTSTART:20200329T010000
END:DAYLIGHT
BEGIN:STANDARD
TZOFFSETFROM:+0300
TZOFFSETTO:+0200
TZNAME:EET
DTSTART:20201025T010000
END:STANDARD
BEGIN:DAYLIGHT
TZOFFSETFROM:+0200
TZOFFSETTO:+0300
TZNAME:EEST
DTSTART:20210328T010000
END:DAYLIGHT
BEGIN:STANDARD
TZOFFSETFROM:+0300
TZOFFSETTO:+0200
TZNAME:EET
DTSTART:20211031T010000
END:STANDARD
END:VTIMEZONE
BEGIN:VEVENT
DTSTART;TZID=Europe/Helsinki:20200325T170000
DTEND;TZID=Europe/Helsinki:20200325T200000
DTSTAMP:20260424T125020
CREATED:20191111T123331Z
LAST-MODIFIED:20200326T084045Z
UID:15972-1585155600-1585166400@seta.fi
SUMMARY:25.3. Sukupuolen moninaisuus ja sukupuolitietoisuus opetuksessa
DESCRIPTION:Setan koulutusiltapäivät ovat ammattilaisille ja opiskelijoille sekä sateenkaariteemoista kiinnostuneille suunnattuja koulutuksia\, joissa perehdytään ajankohtaisiin sukupuolen ja seksuaalisen suuntautumisen moninaisuutta käsitteleviin teemoihin. Koulutusiltapäivät järjestetään keskiviikkoisin klo 17-20 toimistollamme Länsi-Pasilassa Helsingissä. Yhden koulutuksen hinta on 30 euroa\, etäosallistuminen maksaa 25 euroa. \n25.3. Sukupuolen moninaisuus ja sukupuolitietoisuus opetuksessa\, Setan koulutusasiantuntija Marita Karvinen \nOSTA TALLENNE TÄSTÄ  \nLisätietoa\nMarita Karvinen\nkoulutussuunnittelija\nSetan koulutuspalvelut\, kouluvierailut\, asiantuntijuus hlbtiq-teemoissa \np. + 358 40 570 4328\nmarita.karvinen@seta.fi
URL:https://seta.fi/tapahtumat/25-3-sukupuolen-moninaisuus-ja-sukupuolitietoisuus-opetuksessa/
LOCATION:Setan toimisto\, Haapaniemenkatu 7-9 B 7. krs.\, Helsinki\, 00240\, Suomi
CATEGORIES:Koulutukset
ATTACH;FMTTYPE=image/jpeg:https://seta.fi/wp-content/uploads/2019/11/KOI-maaliskuu-2020.jpg
END:VEVENT
END:VCALENDAR