BEGIN:VCALENDAR
VERSION:2.0
PRODID:-//Seta ry - ECPv6.15.17.1//NONSGML v1.0//EN
CALSCALE:GREGORIAN
METHOD:PUBLISH
X-WR-CALNAME:Seta ry
X-ORIGINAL-URL:https://seta.fi
X-WR-CALDESC:Tapahtumat Seta ry
REFRESH-INTERVAL;VALUE=DURATION:PT1H
X-Robots-Tag:noindex
X-PUBLISHED-TTL:PT1H
BEGIN:VTIMEZONE
TZID:Europe/Helsinki
BEGIN:DAYLIGHT
TZOFFSETFROM:+0200
TZOFFSETTO:+0300
TZNAME:EEST
DTSTART:20180325T010000
END:DAYLIGHT
BEGIN:STANDARD
TZOFFSETFROM:+0300
TZOFFSETTO:+0200
TZNAME:EET
DTSTART:20181028T010000
END:STANDARD
BEGIN:DAYLIGHT
TZOFFSETFROM:+0200
TZOFFSETTO:+0300
TZNAME:EEST
DTSTART:20190331T010000
END:DAYLIGHT
BEGIN:STANDARD
TZOFFSETFROM:+0300
TZOFFSETTO:+0200
TZNAME:EET
DTSTART:20191027T010000
END:STANDARD
BEGIN:DAYLIGHT
TZOFFSETFROM:+0200
TZOFFSETTO:+0300
TZNAME:EEST
DTSTART:20200329T010000
END:DAYLIGHT
BEGIN:STANDARD
TZOFFSETFROM:+0300
TZOFFSETTO:+0200
TZNAME:EET
DTSTART:20201025T010000
END:STANDARD
END:VTIMEZONE
BEGIN:VEVENT
DTSTART;TZID=Europe/Helsinki:20190828T170000
DTEND;TZID=Europe/Helsinki:20190828T200000
DTSTAMP:20260425T165204
CREATED:20190305T103417Z
LAST-MODIFIED:20190311T083210Z
UID:14308-1567011600-1567022400@seta.fi
SUMMARY:28.8. Sateenkaariseniorit – yhteisöllisyys voimavarana
DESCRIPTION:Setan koulutusiltapäivät ovat ammattilaisille ja opiskelijoille sekä sateenkaariteemoista kiinnostuneille suunnattuja koulutuksia\, joissa perehdytään ajankohtaisiin sukupuolen ja seksuaalisen suuntautumisen moninaisuutta käsitteleviin teemoihin. Koulutusiltapäivät järjestetään keskiviikkoisin klo 17-20 toimistollamme Länsi-Pasilassa Helsingissä. Yhden koulutuksen hinta on 30 euroa. \nSyksyn ensimmäinen koulutusiltapäivä järjestetään teemalla sateenkaariseniorit – yhteisöllisyys voimavarana. \nSateenkaariseniorit\, ikääntyvät sukupuoli- ja seksuaalivähemmistöihin kuuluvat ihmiset ovat kokeneet ajan\, jolloin heidän seksuaalinen suuntautumisensa on ollut sairaus ja rikos tai sukupuolikokemuksia käsitelty mielenterveyden häiriöinä. Koulutuksessa käydään läpi miten historia ja yhteiskunnan suhtautuminen ovat vaikuttaneet sateenkaarisenioreihin ja miten se vaikuttaa osallisuuteen nykypäivän Suomessa? \nKoulutuksessa saat perustiedot sukupuolen ja seksuaalisen suuntautumisen moninaisuudesta ja tämän jälkeen syvennetään erityisesti voimavaralähtöiseen sateenkaariseniorityöhön: \n\nMiten ikääntyviä sateenkaari-ihmisiä voi osallistaa esimerkiksi palveluissa?\nMinkälaisia voimavaroja sekä hyvinvointia lisääviä toimintatapoja on olemassa?\n\nKouluttajana toimii Setan seniorityön koordinaattori Touko Niinimäki\, joka on koulutukseltaan sosionomi (AMK) ja opiskelee parhaillaan sosiaalialan ylempää ammattikorkeakoulututkintoa. Hän työskentelee Setan asiantuntijana vaikuttamistyössä\, kouluttamisessa ja sateenkaarisenioreiden vertaistoiminnan kehittämisessä. Koulutuksessa kuullaan myös kokemuskouluttajia. \nPaikkoja on rajallisesti\, ja ne jaetaan ilmoittautumisjärjestyksessä. \nILMOITTAUDU TÄSTÄ  \n Lisätietoa \n\nMarita Karvinen\nkoulutussuunnittelija\nSetan koulutuspalvelut\, kouluvierailut\, asiantuntijuus hlbtiq-teemoissa \np. + 358 40 570 4328\nmarita.karvinen@seta.fi \n\n+ Google-kalenteri\n 
URL:https://seta.fi/tapahtumat/28-8-sateenkaariseniorit-yhteisollisyys-voimavarana/
LOCATION:Setan toimisto\, Haapaniemenkatu 7-9 B 7. krs.\, Helsinki\, 00240\, Suomi
CATEGORIES:Koulutukset
ATTACH;FMTTYPE=image/png:https://seta.fi/wp-content/uploads/2019/03/Piirtoalusta-1-kopio-7.png
END:VEVENT
END:VCALENDAR